{"text_format":"3","workbook":"xlsx","n_sheets":3,"sheets":["Filtro","BM18","BM18A"],"not_rendered":{"macros":1,"external_links":1,"pivot_tables":1},"read":"whole","date_system":"1900"}

{"sheet":"Filtro","index":0,"n_rows":351,"n_cols":9,"rows_kept":351}
["Mes","(Todas)"]
["Establecimiento","(Todas)"]
["Comuna/ Hospital","(Todas)"]
[]
["Etiquetas de fila","Suma de Col01","Suma de Col02","Suma de Col03","Suma de Col04","Suma de Col05","Suma de Col06","Suma de Col07","Suma de Col08"]
["18010100",79169,0,79169]
["18010200",272398,0,272398]
["18010500",3017,0,3017]
["18010601",19366,0,19366]
["18010800",2353,0,2353]
["18010900",100999,1540,99459]
["18011001",42128,37950,4178]
["18011002",1361,59,1302]
["18020200",179,123,56]
["18020300",18297,14773,3524]
["18020400",826,0,826]
["18020500",128107,27405,100702]
["18020600",168,136,32]
["18020700",1408,1008,400]
["18020800",1755,1752,3]
["18020900",1037,0,1037]
["18030000",5887,3456,2431]
["18040100",3427,471,2956]
["18040200",2312,138,2182]
["18050100",88980,12801,76211]
["18050200",3365,1409,1956]
["18050300",1036,183,853]
["18050400",6972,450,6522]
["18050500",48274,1656,46618]
["18070100",457,10,271,94,25,5,52]
["18070300",1734,413,587,82,64,325,263]
["18090000",29107,865,28238]
["18090100",53036,0,53036]
["18090200",8707,1805]
["18090300",20]
["18400400",251,176,75]
["18400500",324,0,324]
["18400700",1086992]
["18400900",13906,2641,11265]
["18700100",11206,3403,6139,1664,0]
["18700110",122,23,66,33,115,7,115]
["18700140",42,null,42,null,29,16,26]
["18700170",2,null,2,null,2,null,2]
["18700190",22,0,22,0,22,5,17]
["18700230",2377,370,1777,230,1391,395,1376]
["18700240",16,null,16]
["18700250",646,null,646]
["18700260",68,null,68]
["18700270",1264,null,1264]
["18700280",193,null,193]
["18700290",327,null,327]
["18700300",124,null,124]
["18700310",457,null,457]
["18700330",321,null,321]
["18700340",175,null,175]
["18700350",377,null,377]
["80106002",89117,12906,76211,370,82111,2]
["80106005",3365,1409,1956,49,3294]
["80106006",1040,187,853,2,885,0]
["80106007",803,435,368,99,631,0]
["80106008",472,153,319,52,302,0]
["80106009",32,18,14,2,30,0]
["80106010",911,55,856,343,373,0]
["80106011",51,41,10,6,46,0]
["80106012",812,605,207,575,247,0]
["80106013",6026,3114,2912,181,4638,0]
["80106014",324183,181343,142855,3923,307046,36]
["80106015",60551,51355,9196,408,57401,2]
["80106017",48291,1673,46618,572,45696,3]
["80106020",4293,3464,829,58,4053,0]
["80106021",320,98,222,17,294,0]
["80106022",2856,1088,1768,48,2572,0]
["80106023",29103,865,28238,48,27070,1694]
["80106024",6974,452,6522,0,6847,0]
["80301002",0,null,null,25]
["80301011",0,null,null,227]
["80301014",0,null,null,122]
["80301015",2,0,2,1474]
["80301026",0,null,null,1768]
["80301028",0,null,null,2]
["80301030",0,null,null,1]
["80301034",1221,null,1221,2515]
["80301035",0,null,null,151]
["80301036",2660,0,2660,38642]
["80301038",1447,0,1447,35779]
["80301039",0,null,null,145]
["80301040",0,null,null,9]
["80301041",22862,0,22862,52772]
["80301042",0,null,null,267]
["80301043",0,null,null,29]
["80301044",0,null,null,18]
["80301045",37243,0,37243,67752]
["80301058",0,null,null,63]
["80301059",2558,0,2558,3446]
["80301065",25,null,25,26]
["80301067",196,null,196,42]
["80301068",0,null,null,9]
["80301072",31,null,31]
["80301075",0,0,null,137]
["80301077",0,null,null,5]
["80301078",0,null,null,18]
["80301083",0,null,null,274]
["80301085",914,null,914,1914]
["80301086",9960,null,9960,2161]
["80301087",50,0,50,2632]
["80302004",0,null,null,104]
["80302005",23980,0,23980,42283]
["80302008",0,null,null,84]
["80302012",183,null,183,745]
["80302013",771,0,771,7607]
["80302015",39,null,39,1917]
["80302016",0,null,null,2]
["80302019",0,null,null,20]
["80302020",68,null,68,1]
["80302021",0,null,null,581]
["80302022",292,null,292,2046]
["80302023",35599,0,35599,93832]
["80302024",172,null,172,252]
["80302025",0,null,null,15]
["80302026",1,null,1,416]
["80302028",32,null,32,1]
["80302030",26,null,26,527]
["80302031",0,null,null,269]
["80302032",64723,0,64723,79317]
["80302033",0,null,null,1270]
["80302034",42144,null,42144,65991]
["80302035",0,null,null,152]
["80302039",0,null,null,4]
["80302040",350,0,350,6761]
["80302042",30,null,30,442]
["80302045",243,null,243,917]
["80302047",48753,0,48753,122358]
["80302048",4200,0,4200,8909]
["80302050",0,null,null,19]
["80302051",0,null,null,27]
["80302053",0,null,null,5]
["80302054",0,null,null,7]
["80302056",0,null,null,3]
["80302057",22034,null,22034,40547]
["80302058",0,null,null,1]
["80302059",812,null,812,66]
["80302060",908,0,908,2895]
["80302062",0,null,null,184]
["80302063",650,0,650,17225]
["80302064",1666,0,1666,53308]
["80302065",0,null,null,374]
["80302067",3328,0,3328,58781]
["80302068",819,0,819,51289]
["80302069",0,null,null,2525]
["80302075",35,0,35,1114]
["80302076",20540,null,20540,22483]
["80303015",11,null,11,186]
["80303024",30511,0,30511,79879]
["80303025",0,null,null,39]
["80303026",21760,0,21760,29426]
["80303027",460,null,460,113]
["80303028",294,null,294,47]
["80305004",0,null,null,3]
["80305005",0,null,null,217]
["80305007",0,null,null,1]
["80305010",0,null,null,9]
["80305012",0,null,null,5]
["80305019",1254,0,1254,2877]
["80305020",19,null,19,222]
["80305027",0,null,null,4]
["80305030",2,null,2,671]
["80305040",0,null,null,2]
["80305042",0,null,null,3]
["80305045",0,null,null,1]
["80305047",0,null,null,240]
["80305070",1742,null,1742,6181]
["80305170",0,null,null,21]
["80306001",13,0,13,139]
["80306002",5,null,5,1553]
["80306004",14,null,14,1]
["80306005",276,null,276,13]
["80306007",258,null,258,208]
["80306008",222,null,222,332]
["80306011",9386,null,9386,17542]
["80306012",0,null,null,1]
["80306018",1,null,1,164]
["80306022",0,null,null,24]
["80306023",0,null,null,1]
["80306026",1464,null,1464,3]
["80306038",5757,null,5757,4514]
["80306041",2,null,2,35]
["80306042",402,0,402,16592]
["80306045",0,null,null,3]
["80306047",0,null,null,6]
["80306048",469,null,469,1019]
["80306051",150,null,150,321]
["80306052",1,null,1,72]
["80306057",0,null,null,8]
["80306059",69,null,69,167]
["80306061",800,0,800,4548]
["80306064",0,null,null,26]
["80306066",7,null,7,15]
["80306070",0,null,null,62]
["80306074",5,null,5,32]
["80306075",0,null,null,446]
["80306076",0,null,null,52]
["80306077",0,null,null,8]
["80306078",2,null,2,1255]
["80306079",29,0,29,620]
["80306080",1,null,1,101]
["80306081",0,null,null,22]
["80306117",14,null,14]
["80306169",1,null,1,2549]
["80306170",18,null,18]
["80307011",279688,4205,275483,77710]
["80307012",8556,76,8480,2530]
["80308001",2,null,2,79]
["80308004",155,0,155,1048]
["80308005",140,null,140,277]
["80308010",1862,0,1862,17]
["80308012",50,null,50,1945]
["80308013",0,null,null,308]
["80308018",0,null,null,74]
["80308022",0,null,null,42]
["80308024",0,null,null,474]
["80308025",0,null,null,2]
["80308029",0,null,null,17]
["80308030",0,null,null,3]
["80308031",0,null,null,30]
["80308032",0,null,null,6]
["80308034",5,null,5]
["80308035",0,null,null,1465]
["80308040",0,null,null,2]
["80308044",139,0,139,49]
["80309004",14,null,14,719]
["80309008",0,null,null,7]
["80309010",27910,0,27910,26709]
["80309012",45,null,45,45]
["80309013",27808,null,27808,39999]
["80309014",208,25,183,145]
["80309015",0,null,null,11]
["80309016",943,null,943]
["80309020",54,null,54,1134]
["80309021",111,null,111,111]
["80309022",41035,0,41035,92395]
["80309023",1597,1504,93,2688]
["80309024",0,null,null,3320]
["80309027",0,null,null,2]
["80309028",1263,0,1263,6152]
["80309029",0,null,null,379]
["80309040",11,11]
["80401001",13,13]
["80401002",75,75,null,49]
["80401004",14,null,14,33]
["80401008",0,null,null,68]
["80401009",1084,1034,50,649]
["80401010",918,null,918,3596]
["80401013",978,978,null,79]
["80401014",92,92]
["80401028",25,25]
["80401029",12,12]
["80401030",3,3]
["80401031",1336,1336,null,130]
["80401032",2237,2237,null,89]
["80401033",224,224,null,3]
["80401041",5,5]
["80401042",982,982,null,53]
["80401043",80,80,null,3]
["80401044",1,1,null,1]
["80401045",1852,1852,null,158]
["80401046",1060,1060,null,162]
["80401047",5,5,null,1]
["80401048",5,5,null,4]
["80401049",0,null,null,2]
["80401051",1676,1672,4,1004]
["80401052",422,422,null,150]
["80401053",251,251,null,12]
["80401054",10654,10654,null,889]
["80401055",180,180,null,9]
["80401056",19,19,null,11]
["80401057",1,1]
["80401058",15,15,null,3]
["80401059",1218,1218,null,76]
["80401060",5543,5543,null,1603]
["80401062",220,220,null,80]
["80401070",9531,7465,2066,4205]
["80401110",0,null,null,671]
["80401151",1865,609,1256,2333]
["80404002",2086,52,2034,138]
["80404003",324,null,324,1800]
["80404005",221,18,203,6]
["80404006",642,41,601,10]
["80404007",6,null,6]
["80404012",168,null,168,1017]
["80500001",1896,0,1896,25,1733,0]
["80500007",13,null,13,null,13]
["80500008",2020,0,2020,1,1969,0]
["80500009",1307,17,1290,1,1274,0]
["80500010",194,9,185,0,179,0]
["80500011",74261,48585,25676,22,68287,52]
["80500014",913,399,514,98,377,663]
["80500016",1266,1264,2,49,1197]
["80500017",5826,5818,8,114,5686]
["81201029",251,176,75,1,208,0]
["81301025",152,114,38,52,88,1]
["81301026",9,8,1,null,4]
["81301029",1,1,null,1]
["81301030",6,6,0,6,0,0]
["81301043",17,0,17,0,17,0]
["81601115",826,0,826,0,784,0]
["81602201",80,0,80,66,8,60]
["81602202",210,0,210,59,86,147]
["81602203",176,0,176,152,8,101]
["81602204",121,0,121,103,4,99]
["81602205",81,0,81,78,25,73]
["81602206",182,null,182,142,33,31]
["81602207",5,null,5,5,null,5]
["81602211",5,2,3,5,0,0]
["81602212",10,0,10,10,0,0]
["81602213",56,0,56,56,0,27]
["81602216",2,2,null,2]
["81602217",238,28,210,200,38,66]
["81602221",844,695,149,300,438,0]
["81602222",2967,2559,408,1665,834,4]
["81602223",2,null,2,2]
["81602224",273,1,272,245,17,108]
["81602225",285,128,157,232,23,41]
["81602231",258,2,256,157,66,106]
["81602232",8,null,8,8,null,0]
["81602240",48,26,22,10,33,0]
["81602241",6,6,0,4,0,0]
["81602242",27,4,23,2]
["81701001",73743,19736,54007,43,69299,18553]
["81701006",89,null,89,null,89,75]
["81701009",31728,3512,28216,3,31198,259]
["81707001",912,0,912,0,909,0]
["81707002",1128,15,1113,0,1064,0]
["81707004",202,1,201,0,202,0]
["81707030",16213,14884,1329,228,15843,44]
["81707032",null,null,65,null,65]
["81707035",null,null,1,null,1]
["81707036",null,null,99,null,99]
["81707037",null,null,2]
["81707038",22832,4442,18390,15,21647,15]
["81801001",35,35,null,null,35]
["81801023",133,101,32,3,127,0]
["81801042",2,2,null,null,2]
["81901019",1070,804,266,3,1021,0]
["81901022",374,240,134,4,369,0]
["82001015",1037,0,1037,1,976,0]
["82106004",115,115,null,null,115]
["82106005",32,32,null,null,32]
["82106006",207,207,null,null,207]
["82106007",7,7,null,null,7]
["82107003",1394,1391,3,10,1384]
["Total general",3735014,523871,2114610,1364732,773304,23020,1851]

{"sheet":"BM18","index":1,"n_rows":122,"n_cols":23,"rows_kept":122,"merged":[[7,1,8,6],[9,1,9,3],[10,1,11,3],[10,4,11,4],[10,5,11,5],[10,6,11,6],[12,2,12,3],[13,2,13,3],[14,2,14,3],[15,2,15,3],[16,2,16,3],[17,2,17,3],[18,2,18,3],[19,2,19,3],[20,2,20,3],[21,2,21,3],[22,2,22,3],[23,2,23,3],[24,2,24,3],[25,2,25,3],[26,2,26,3],[27,2,27,3],[28,2,28,3],[29,1,42,1],[29,2,30,2],[31,2,32,2],[33,2,34,2],[35,2,36,2],[37,2,38,2],[39,2,40,2],[41,2,42,2],[43,2,43,3],[46,1,47,1],[46,2,47,2],[46,3,47,3],[46,4,47,4],[61,1,62,2],[61,3,62,3],[61,4,62,4],[61,5,62,5],[63,1,63,2],[70,1,71,1],[70,2,71,2],[70,3,71,3],[70,4,71,4],[80,1,81,1],[80,2,81,2],[84,1,85,1],[84,2,85,2],[84,3,84,8],[90,1,90,2],[91,1,93,1],[95,1,96,1],[95,2,96,2],[95,3,95,5],[95,6,96,6],[99,1,100,1],[99,2,100,2],[99,3,99,5],[99,6,100,6],[99,7,100,7],[99,8,100,8]]}
[null,"SERVICIO DE SALUD "]
[null,{"$f":"CONCATENATE(\"COMUNA: \",[1]NOMBRE!B2,\"  \",\"( \",[1]NOMBRE!C2,[1]NOMBRE!D2,[1]NOMBRE!E2,[1]NOMBRE!F2,[1]NOMBRE!G2,\" )\")","v":"COMUNA:   (  )"}]
[null,{"$f":"CONCATENATE(\"ESTABLECIMIENTO/ESTRATEGIA: \",[1]NOMBRE!B3,\"  \",\"( \",[1]NOMBRE!C3,[1]NOMBRE!D3,[1]NOMBRE!E3,[1]NOMBRE!F3,[1]NOMBRE!G3,[1]NOMBRE!H3,\" )\")","v":"ESTABLECIMIENTO/ESTRATEGIA:   (  )"}]
[null,{"$f":"CONCATENATE(\"MES: \",[1]NOMBRE!B6,\"  \",\"( \",[1]NOMBRE!C6,[1]NOMBRE!D6,\" )\")","v":"MES:   (  )"}]
[null,{"$f":"CONCATENATE(\"AÑO: \",[1]NOMBRE!B7)","v":"AÑO: 2023"}]
[]
[]
[null,"REM-B18.   ACTIVIDADES DE APOYO DIAGNOSTICO Y TERAPEUTICO\n     (USO EXCLUSIVO DE ESTABLECIMIENTOS MUNICIPALES)"]
[]
[null,"SECCIÓN A: EXÁMENES DE DIAGNOSTICO"]
[null,"EXÁMENES",null,null,"TOTAL","SAPU/SAR/SUR","Resto Establecimientos APS"]
[{"$nulls":5},"Total","Total"]
[null,"TOTAL EXÁMENES LABORATORIO",null,null,{"$f":"SUM(F13:G13)","v":{"v":530338,"d":"530,338"}},{"$f":"SUM(F14:F16,F18:F19,F24:F25)","v":{"v":1540,"d":"1,540"}},{"$f":"SUM(G14:G16,G18:G19,G24:G25)","v":{"v":528798,"d":"528,798"}},"Linea"]
["18010100","I  ","HEMATOLÓGICOS",null,{"$f":"IFERROR(VLOOKUP('BM18'!$A14,Filtro!$A$5:$I$351,2,FALSE),0)","v":{"v":79169,"d":"79,169"}},{"$f":"IFERROR(VLOOKUP('BM18'!$A14,Filtro!$A$5:$I$351,3,FALSE),0)","v":0},{"$f":"IFERROR(VLOOKUP('BM18'!$A14,Filtro!$A$5:$I$351,4,FALSE),0)","v":{"v":79169,"d":"79,169"}},14]
["18010200","II  ","BIOQUÍMICOS",null,{"$f":"IFERROR(VLOOKUP('BM18'!$A15,Filtro!$A$5:$I$351,2,FALSE),0)","v":{"v":272398,"d":"272,398"}},{"$f":"IFERROR(VLOOKUP('BM18'!$A15,Filtro!$A$5:$I$351,3,FALSE),0)","v":0},{"$f":"IFERROR(VLOOKUP('BM18'!$A15,Filtro!$A$5:$I$351,4,FALSE),0)","v":{"v":272398,"d":"272,398"}},15]
["18090100","III","HORMONALES",null,{"$f":"IFERROR(VLOOKUP('BM18'!$A16,Filtro!$A$5:$I$351,2,FALSE),0)","v":{"v":53036,"d":"53,036"}},{"$f":"IFERROR(VLOOKUP('BM18'!$A16,Filtro!$A$5:$I$351,3,FALSE),0)","v":0},{"$f":"IFERROR(VLOOKUP('BM18'!$A16,Filtro!$A$5:$I$351,4,FALSE),0)","v":{"v":53036,"d":"53,036"}},16]
[null,"IV","GENÉTICA",{"$nulls":4},17]
["18010500","V","INMUNOLÓGICOS",null,{"$f":"IFERROR(VLOOKUP('BM18'!$A18,Filtro!$A$5:$I$351,2,FALSE),0)","v":{"v":3017,"d":"3,017"}},{"$f":"IFERROR(VLOOKUP('BM18'!$A18,Filtro!$A$5:$I$351,3,FALSE),0)","v":0},{"$f":"IFERROR(VLOOKUP('BM18'!$A18,Filtro!$A$5:$I$351,4,FALSE),0)","v":{"v":3017,"d":"3,017"}},18]
["18010601","VI  ","MICROBIOLÓGICOS",null,{"$f":"IFERROR(VLOOKUP('BM18'!$A19,Filtro!$A$5:$I$351,2,FALSE),0)","v":{"v":19366,"d":"19,366"}},{"$f":"IFERROR(VLOOKUP('BM18'!$A19,Filtro!$A$5:$I$351,3,FALSE),0)","v":0},{"$f":"IFERROR(VLOOKUP('BM18'!$A19,Filtro!$A$5:$I$351,4,FALSE),0)","v":{"v":19366,"d":"19,366"}},19]
[null,null,"a)   BACTERIAS Y HONGOS",{"$nulls":4},20]
[null,null,"b)   PARÁSITOS",{"$nulls":4},21]
[null,null,"c)   VIRUS",{"$nulls":4},22]
[null,"VII","PROCEDIMIENTO O DETERMINACIÓN DIRECTA C/PACIENTE",{"$nulls":4},23]
["18010800","VIII  ","EX.  DE DEPOSICIONES EXUDADOS. SECREC. Y OTROS LIQ.  ",null,{"$f":"IFERROR(VLOOKUP('BM18'!$A24,Filtro!$A$5:$I$351,2,FALSE),0)","v":{"v":2353,"d":"2,353"}},{"$f":"IFERROR(VLOOKUP('BM18'!$A24,Filtro!$A$5:$I$351,3,FALSE),0)","v":0},{"$f":"IFERROR(VLOOKUP('BM18'!$A24,Filtro!$A$5:$I$351,4,FALSE),0)","v":{"v":2353,"d":"2,353"}},24]
["18010900","IX   ","ORINA",null,{"$f":"IFERROR(VLOOKUP('BM18'!$A25,Filtro!$A$5:$I$351,2,FALSE),0)","v":{"v":100999,"d":"100,999"}},{"$f":"IFERROR(VLOOKUP('BM18'!$A25,Filtro!$A$5:$I$351,3,FALSE),0)","v":{"v":1540,"d":"1,540"}},{"$f":"IFERROR(VLOOKUP('BM18'!$A25,Filtro!$A$5:$I$351,4,FALSE),0)","v":{"v":99459,"d":"99,459"}},25]
[null,"TOTAL EXÁMENES IMAGENOLOGIA",null,null,{"$f":"SUM(F26:G26)","v":{"v":43489,"d":"43,489"}},{"$f":"SUM(F27+F28+F44)","v":{"v":38009,"d":"38,009"}},{"$f":"SUM(G27+G28)","v":{"v":5480,"d":"5,480"}},26]
["18011001","a)","EX. RADIOLÓGICOS SIMPLES",null,{"$f":"IFERROR(VLOOKUP('BM18'!$A27,Filtro!$A$5:$I$351,2,FALSE),0)","v":{"v":42128,"d":"42,128"}},{"$f":"IFERROR(VLOOKUP('BM18'!$A27,Filtro!$A$5:$I$351,3,FALSE),0)","v":{"v":37950,"d":"37,950"}},{"$f":"IFERROR(VLOOKUP('BM18'!$A27,Filtro!$A$5:$I$351,4,FALSE),0)","v":{"v":4178,"d":"4,178"}},27]
["18011002",null," Ecotomografías",null,{"$f":"IFERROR(VLOOKUP('BM18'!$A28,Filtro!$A$5:$I$351,2,FALSE),0)","v":{"v":1361,"d":"1,361"}},{"$f":"IFERROR(VLOOKUP('BM18'!$A28,Filtro!$A$5:$I$351,3,FALSE),0)","v":59},{"$f":"IFERROR(VLOOKUP('BM18'!$A28,Filtro!$A$5:$I$351,4,FALSE),0)","v":{"v":1302,"d":"1,302"}},28]
["18400500",null," Ecotomografías abdominal ",null,{"$f":"SUM(F29:G29)","v":324},{"$f":"IFERROR(VLOOKUP('BM18'!$A29,Filtro!$A$5:$I$351,3,FALSE),0)","v":0},{"$f":"IFERROR(VLOOKUP('BM18'!$A29,Filtro!$A$5:$I$351,4,FALSE),0)","v":324},29]
["18700240",null,"Ecografías Obstétrica Primer Trimestre (<11 semanas)","Médico/a",{"$f":"IFERROR(VLOOKUP('BM18'!$A30,Filtro!$A$5:$I$351,2,FALSE),0)","v":16},{"$f":"IFERROR(VLOOKUP('BM18'!$A30,Filtro!$A$5:$I$351,3,FALSE),0)","v":0},{"$f":"IFERROR(VLOOKUP('BM18'!$A30,Filtro!$A$5:$I$351,4,FALSE),0)","v":16},30]
["18700250",null,null,"Matrón/a",{"$f":"IFERROR(VLOOKUP('BM18'!$A31,Filtro!$A$5:$I$351,2,FALSE),0)","v":646},{"$f":"IFERROR(VLOOKUP('BM18'!$A31,Filtro!$A$5:$I$351,3,FALSE),0)","v":0},{"$f":"IFERROR(VLOOKUP('BM18'!$A31,Filtro!$A$5:$I$351,4,FALSE),0)","v":646},31]
["18700260",null,"Ecografias Obstétricas Primer Trimestre (11 - 14 semanas)","Médico/a",{"$f":"IFERROR(VLOOKUP('BM18'!$A32,Filtro!$A$5:$I$351,2,FALSE),0)","v":68},{"$f":"IFERROR(VLOOKUP('BM18'!$A32,Filtro!$A$5:$I$351,3,FALSE),0)","v":0},{"$f":"IFERROR(VLOOKUP('BM18'!$A32,Filtro!$A$5:$I$351,4,FALSE),0)","v":68},32]
["18700270",null,null,"Matrón/a",{"$f":"IFERROR(VLOOKUP('BM18'!$A33,Filtro!$A$5:$I$351,2,FALSE),0)","v":{"v":1264,"d":"1,264"}},{"$f":"IFERROR(VLOOKUP('BM18'!$A33,Filtro!$A$5:$I$351,3,FALSE),0)","v":0},{"$f":"IFERROR(VLOOKUP('BM18'!$A33,Filtro!$A$5:$I$351,4,FALSE),0)","v":{"v":1264,"d":"1,264"}},33]
["18700280",null,"Ecografias Obstétricas Segundo Trimestre (22 - 24 semanas)","Médico/a",{"$f":"IFERROR(VLOOKUP('BM18'!$A34,Filtro!$A$5:$I$351,2,FALSE),0)","v":193},{"$f":"IFERROR(VLOOKUP('BM18'!$A34,Filtro!$A$5:$I$351,3,FALSE),0)","v":0},{"$f":"IFERROR(VLOOKUP('BM18'!$A34,Filtro!$A$5:$I$351,4,FALSE),0)","v":193},34]
["18700290",null,null,"Matrón/a",{"$f":"IFERROR(VLOOKUP('BM18'!$A35,Filtro!$A$5:$I$351,2,FALSE),0)","v":327},{"$f":"IFERROR(VLOOKUP('BM18'!$A35,Filtro!$A$5:$I$351,3,FALSE),0)","v":0},{"$f":"IFERROR(VLOOKUP('BM18'!$A35,Filtro!$A$5:$I$351,4,FALSE),0)","v":327},35]
["18700300",null,"Ecografias Obstétricas Tercer Trimestre (30 - 34 semanas)","Médico/a",{"$f":"IFERROR(VLOOKUP('BM18'!$A36,Filtro!$A$5:$I$351,2,FALSE),0)","v":124},{"$f":"IFERROR(VLOOKUP('BM18'!$A36,Filtro!$A$5:$I$351,3,FALSE),0)","v":0},{"$f":"IFERROR(VLOOKUP('BM18'!$A36,Filtro!$A$5:$I$351,4,FALSE),0)","v":124},36]
["18700310",null,null,"Matrón/a",{"$f":"IFERROR(VLOOKUP('BM18'!$A37,Filtro!$A$5:$I$351,2,FALSE),0)","v":457},{"$f":"IFERROR(VLOOKUP('BM18'!$A37,Filtro!$A$5:$I$351,3,FALSE),0)","v":0},{"$f":"IFERROR(VLOOKUP('BM18'!$A37,Filtro!$A$5:$I$351,4,FALSE),0)","v":457},37]
[null,null,"Total Ecografías Obstétricas por profesional","Médico/a",{"$f":"SUM(E30+E32+E34+E36)","v":401},{"$f":"IFERROR(VLOOKUP('BM18'!$A38,Filtro!$A$5:$I$351,3,FALSE),0)","v":0},{"$f":"IFERROR(VLOOKUP('BM18'!$A38,Filtro!$A$5:$I$351,4,FALSE),0)","v":0},38]
[{"$nulls":3},"Matrón/a",{"$f":"SUM(E31+E33+E35+E37)","v":{"v":2694,"d":"2,694"}},{"$f":"IFERROR(VLOOKUP('BM18'!$A39,Filtro!$A$5:$I$351,3,FALSE),0)","v":0},{"$f":"IFERROR(VLOOKUP('BM18'!$A39,Filtro!$A$5:$I$351,4,FALSE),0)","v":0},39]
["18700320",null,"Ecografía de seguimiento DIU (Regulación de la Fertilidad)","Médico/a",{"$f":"IFERROR(VLOOKUP('BM18'!$A40,Filtro!$A$5:$I$351,2,FALSE),0)","v":0},{"$f":"IFERROR(VLOOKUP('BM18'!$A40,Filtro!$A$5:$I$351,3,FALSE),0)","v":0},{"$f":"IFERROR(VLOOKUP('BM18'!$A40,Filtro!$A$5:$I$351,4,FALSE),0)","v":0},40]
["18700330",null,null,"Matrón/a",{"$f":"IFERROR(VLOOKUP('BM18'!$A41,Filtro!$A$5:$I$351,2,FALSE),0)","v":321},{"$f":"IFERROR(VLOOKUP('BM18'!$A41,Filtro!$A$5:$I$351,3,FALSE),0)","v":0},{"$f":"IFERROR(VLOOKUP('BM18'!$A41,Filtro!$A$5:$I$351,4,FALSE),0)","v":321},41]
["18700340",null,"Ecografía Transvaginal (control de Climaterio y Ginecológico)","Médico/a",{"$f":"IFERROR(VLOOKUP('BM18'!$A42,Filtro!$A$5:$I$351,2,FALSE),0)","v":175},{"$f":"IFERROR(VLOOKUP('BM18'!$A42,Filtro!$A$5:$I$351,3,FALSE),0)","v":0},{"$f":"IFERROR(VLOOKUP('BM18'!$A42,Filtro!$A$5:$I$351,4,FALSE),0)","v":175},42]
["18700350",null,null,"Matrón/a",{"$f":"IFERROR(VLOOKUP('BM18'!$A43,Filtro!$A$5:$I$351,2,FALSE),0)","v":377},{"$f":"IFERROR(VLOOKUP('BM18'!$A43,Filtro!$A$5:$I$351,3,FALSE),0)","v":0},{"$f":"IFERROR(VLOOKUP('BM18'!$A43,Filtro!$A$5:$I$351,4,FALSE),0)","v":377},43]
[null,null,"Total de ecografías obstetricas y ginecologicas ",null,{"$f":"SUM(E38:E43)","v":{"v":3968,"d":"3,968"}},null,null,44]
[{"$nulls":7},45]
[null,"SECCIÓN B:  PROCEDIMIENTO DE APOYO CLÍNICO Y TERAPÉUTICO",{"$nulls":5},46]
[null,"PROCEDIMIENTOS","TOTAL","SAPU/SAR/SUR","Resto Establecimientos APS",null,null,47]
[{"$nulls":3},"Total","Total",null,null,48]
["18020100","PROC. DE NEUROLOGÍA ",{"$f":"IFERROR(VLOOKUP('BM18'!$A49,Filtro!$A$5:$I$351,2,FALSE),0)","v":0},{"$f":"IFERROR(VLOOKUP('BM18'!$A49,Filtro!$A$5:$I$351,3,FALSE),0)","v":0},{"$f":"IFERROR(VLOOKUP('BM18'!$A49,Filtro!$A$5:$I$351,4,FALSE),0)","v":0},null,null,49]
["18400400","PROC. DE OFTALMOLOGÍA",{"$f":"IFERROR(VLOOKUP('BM18'!$A50,Filtro!$A$5:$I$351,2,FALSE),0)","v":251},{"$f":"IFERROR(VLOOKUP('BM18'!$A50,Filtro!$A$5:$I$351,3,FALSE),0)","v":176},{"$f":"IFERROR(VLOOKUP('BM18'!$A50,Filtro!$A$5:$I$351,4,FALSE),0)","v":75},null,null,50]
["18020200","PROC. DE OTORRINOLARINGOLOGÍA ",{"$f":"IFERROR(VLOOKUP('BM18'!$A51,Filtro!$A$5:$I$351,2,FALSE),0)","v":179},{"$f":"IFERROR(VLOOKUP('BM18'!$A51,Filtro!$A$5:$I$351,3,FALSE),0)","v":123},{"$f":"IFERROR(VLOOKUP('BM18'!$A51,Filtro!$A$5:$I$351,4,FALSE),0)","v":56},null,null,51]
["18020300","PROC. DE NEUMOLOGÍA",{"$f":"IFERROR(VLOOKUP('BM18'!$A52,Filtro!$A$5:$I$351,2,FALSE),0)","v":{"v":18297,"d":"18,297"}},{"$f":"IFERROR(VLOOKUP('BM18'!$A52,Filtro!$A$5:$I$351,3,FALSE),0)","v":{"v":14773,"d":"14,773"}},{"$f":"IFERROR(VLOOKUP('BM18'!$A52,Filtro!$A$5:$I$351,4,FALSE),0)","v":{"v":3524,"d":"3,524"}},null,null,52]
["18020400","PROC. DE DERMATOLOGÍA",{"$f":"IFERROR(VLOOKUP('BM18'!$A53,Filtro!$A$5:$I$351,2,FALSE),0)","v":826},{"$f":"IFERROR(VLOOKUP('BM18'!$A53,Filtro!$A$5:$I$351,3,FALSE),0)","v":0},{"$f":"IFERROR(VLOOKUP('BM18'!$A53,Filtro!$A$5:$I$351,4,FALSE),0)","v":826},null,null,53]
["18020500","PROC. DE CARDIOLOGÍA",{"$f":"IFERROR(VLOOKUP('BM18'!$A54,Filtro!$A$5:$I$351,2,FALSE),0)","v":{"v":128107,"d":"128,107"}},{"$f":"IFERROR(VLOOKUP('BM18'!$A54,Filtro!$A$5:$I$351,3,FALSE),0)","v":{"v":27405,"d":"27,405"}},{"$f":"IFERROR(VLOOKUP('BM18'!$A54,Filtro!$A$5:$I$351,4,FALSE),0)","v":{"v":100702,"d":"100,702"}},null,null,54]
["18020600","PROC. DE GASTROENTEROLOGÍA",{"$f":"IFERROR(VLOOKUP('BM18'!$A55,Filtro!$A$5:$I$351,2,FALSE),0)","v":168},{"$f":"IFERROR(VLOOKUP('BM18'!$A55,Filtro!$A$5:$I$351,3,FALSE),0)","v":136},{"$f":"IFERROR(VLOOKUP('BM18'!$A55,Filtro!$A$5:$I$351,4,FALSE),0)","v":32},null,null,55]
["18020700","PROC. DE UROLOGÍA",{"$f":"IFERROR(VLOOKUP('BM18'!$A56,Filtro!$A$5:$I$351,2,FALSE),0)","v":{"v":1408,"d":"1,408"}},{"$f":"IFERROR(VLOOKUP('BM18'!$A56,Filtro!$A$5:$I$351,3,FALSE),0)","v":{"v":1008,"d":"1,008"}},{"$f":"IFERROR(VLOOKUP('BM18'!$A56,Filtro!$A$5:$I$351,4,FALSE),0)","v":400},null,null,56]
["18020800","PROC. ORTOPEDIA Y TRAUMATOLOGÍA",{"$f":"IFERROR(VLOOKUP('BM18'!$A57,Filtro!$A$5:$I$351,2,FALSE),0)","v":{"v":1755,"d":"1,755"}},{"$f":"IFERROR(VLOOKUP('BM18'!$A57,Filtro!$A$5:$I$351,3,FALSE),0)","v":{"v":1752,"d":"1,752"}},{"$f":"IFERROR(VLOOKUP('BM18'!$A57,Filtro!$A$5:$I$351,4,FALSE),0)","v":3},null,null,57]
["18020900","PROC. GINECOLOGÍA",{"$f":"IFERROR(VLOOKUP('BM18'!$A58,Filtro!$A$5:$I$351,2,FALSE),0)","v":{"v":1037,"d":"1,037"}},{"$f":"IFERROR(VLOOKUP('BM18'!$A58,Filtro!$A$5:$I$351,3,FALSE),0)","v":0},{"$f":"IFERROR(VLOOKUP('BM18'!$A58,Filtro!$A$5:$I$351,4,FALSE),0)","v":{"v":1037,"d":"1,037"}},null,null,58]
[null,"TOTAL",{"$f":"SUM(C49:C58)","v":{"v":152028,"d":"152,028"}},{"$f":"SUM(D49:D58)","v":{"v":45373,"d":"45,373"}},{"$f":"SUM(E49:E58)","v":{"v":106655,"d":"106,655"}},null,null,59]
[{"$nulls":7},60]
[null,"SECCIÓN C:  INTERVENCIONES QUIRÚRGICAS MENORES",{"$nulls":5},61]
[{"$nulls":3},"TOTAL","SAPU/SAR/SUR","Resto Establecimientos APS",null,62]
[{"$nulls":4},"Total",null,null,63]
["18030000","TOTAL INTERVENCIONES QUIRÚRGICAS MENORES (SUB-GRUPO TEGUMENTOS)",null,{"$f":"IFERROR(VLOOKUP('BM18'!$A64,Filtro!$A$5:$I$351,2,FALSE),0)","v":{"v":5887,"d":"5,887"}},{"$f":"IFERROR(VLOOKUP('BM18'!$A64,Filtro!$A$5:$I$351,3,FALSE),0)","v":{"v":3456,"d":"3,456"}},{"$f":"IFERROR(VLOOKUP('BM18'!$A64,Filtro!$A$5:$I$351,4,FALSE),0)","v":{"v":2431,"d":"2,431"}},null,64]
[null,"SECCIÓN D : INTERVENCIONES QUIRÚRGICAS MENORES, POR EDAD",{"$nulls":5},65]
[null,"INTERVENCIONES QUIRÚRGICAS","TOTAL","< 15 AÑOS","15 Y + AÑOS",null,null,66]
[null,"TOTAL",{"$f":"SUM(D67:E67)","v":{"v":5747,"d":"5,747"}},{"$f":"SUM(D68:D69)","v":609},{"$f":"SUM(E68:E69)","v":{"v":5138,"d":"5,138"}},{"$f":"V67","v":"El Total de Intervenciones Quirúrgicas de la Sección C debe coincidir con el Total de la Seccion D"},null,67,{"$nulls":13},{"$f":"IF(C67=D64,\"\",\"El Total de Intervenciones Quirúrgicas de la Sección C debe coincidir con el Total de la Seccion D\")","v":"El Total de Intervenciones Quirúrgicas de la Sección C debe coincidir con el Total de la Seccion D"},{"$f":"IF(C67=D64,0,1)","v":1}]
["18040100","SAPU/SAR",{"$f":"IFERROR(VLOOKUP('BM18'!$A68,Filtro!$A$5:$I$351,2,FALSE),0)","v":{"v":3427,"d":"3,427"}},{"$f":"IFERROR(VLOOKUP('BM18'!$A68,Filtro!$A$5:$I$351,3,FALSE),0)","v":471},{"$f":"IFERROR(VLOOKUP('BM18'!$A68,Filtro!$A$5:$I$351,4,FALSE),0)","v":{"v":2956,"d":"2,956"}},{"$f":"V68","v":"El Total de Intervenciones Quirúrgicas menores SAPU/SAR debe coincidir con el Total de Intervenciones Quirúrgicas menores SAPU/SAR/SUR de la Sección C. "},null,68,{"$nulls":13},{"$f":"IF(C68=E64,\"\",\"El Total de Intervenciones Quirúrgicas menores SAPU/SAR debe coincidir con el Total de Intervenciones Quirúrgicas menores SAPU/SAR/SUR de la Sección C. \")","v":"El Total de Intervenciones Quirúrgicas menores SAPU/SAR debe coincidir con el Total de Intervenciones Quirúrgicas menores SAPU/SAR/SUR de la Sección C. "},{"$f":"IF(C68<>#REF!,1,0)","v":{"$error":"#REF!"}}]
["18040200","RESTO ESTABLECIMIENTOS APS",{"$f":"IFERROR(VLOOKUP('BM18'!$A69,Filtro!$A$5:$I$351,2,FALSE),0)","v":{"v":2312,"d":"2,312"}},{"$f":"IFERROR(VLOOKUP('BM18'!$A69,Filtro!$A$5:$I$351,3,FALSE),0)","v":138},{"$f":"IFERROR(VLOOKUP('BM18'!$A69,Filtro!$A$5:$I$351,4,FALSE),0)","v":{"v":2182,"d":"2,182"}},{"$f":"V69","v":" * El Total de Intervenciones Quirúrgicas menores NO SAPU debe coincidir con el Total de Intervenciones Quirúrgicas menores NO SAPU/NO SUR de la Sección C. "},null,69,{"$nulls":13},{"$f":"IF(C69=F64,\"\",\" * El Total de Intervenciones Quirúrgicas menores NO SAPU debe coincidir con el Total de Intervenciones Quirúrgicas menores NO SAPU/NO SUR de la Sección C. \")","v":" * El Total de Intervenciones Quirúrgicas menores NO SAPU debe coincidir con el Total de Intervenciones Quirúrgicas menores NO SAPU/NO SUR de la Sección C. "},{"$f":"IF(C69<>#REF!,1,0)","v":{"$error":"#REF!"}}]
[null,"SECCIÓN E:  MISCELÁNEOS",{"$nulls":5},70]
[null,"MISCELÁNEOS","TOTAL","SAPU/SAR/SUR","Resto Establecimientos APS",null,null,71]
[{"$nulls":3},"Total","Total",null,null,72]
["18090000","PROCEDIMIENTOS DE PODOLOGIA",{"$f":"SUM(D73:E73)","v":{"v":29103,"d":"29,103"}},{"$f":"IFERROR(VLOOKUP('BM18'!$A73,Filtro!$A$5:$I$351,3,FALSE),0)","v":865},{"$f":"IFERROR(VLOOKUP('BM18'!$A73,Filtro!$A$5:$I$351,4,FALSE),0)","v":{"v":28238,"d":"28,238"}},null,null,73]
["18050100","CURACIÓN SIMPLE AMBULATORIA",{"$f":"SUM(D74:E74)","v":{"v":89012,"d":"89,012"}},{"$f":"IFERROR(VLOOKUP('BM18'!$A74,Filtro!$A$5:$I$351,3,FALSE),0)","v":{"v":12801,"d":"12,801"}},{"$f":"IFERROR(VLOOKUP('BM18'!$A74,Filtro!$A$5:$I$351,4,FALSE),0)","v":{"v":76211,"d":"76,211"}},null,null,74]
["18050400","CURACION AVANZADA UV",{"v":6972,"d":"6,972"},{"$f":"IFERROR(VLOOKUP('BM18'!$A75,Filtro!$A$5:$I$351,3,FALSE),0)","v":450},{"$f":"IFERROR(VLOOKUP('BM18'!$A75,Filtro!$A$5:$I$351,4,FALSE),0)","v":{"v":6522,"d":"6,522"}},null,null,75]
["18050500","CURACION COMPLEJA",{"v":48274,"d":"48,274"},{"$f":"IFERROR(VLOOKUP('BM18'!$A76,Filtro!$A$5:$I$351,3,FALSE),0)","v":{"v":1656,"d":"1,656"}},{"$f":"IFERROR(VLOOKUP('BM18'!$A76,Filtro!$A$5:$I$351,4,FALSE),0)","v":{"v":46618,"d":"46,618"}},null,null,76]
["18050200","AUTOCONTROL PERSONAS CON DIABETES INSULINO DEPENDIENTE (D.I.D. MENSUAL)",{"v":3365,"d":"3,365"},{"$f":"IFERROR(VLOOKUP('BM18'!$A77,Filtro!$A$5:$I$351,3,FALSE),0)","v":{"v":1409,"d":"1,409"}},{"$f":"IFERROR(VLOOKUP('BM18'!$A77,Filtro!$A$5:$I$351,4,FALSE),0)","v":{"v":1956,"d":"1,956"}},null,null,77]
["18050300","OXIGENOTERAPIA A DOMICILIO",{"$f":"SUM(D78:E78)","v":{"v":1036,"d":"1,036"}},{"$f":"IFERROR(VLOOKUP('BM18'!$A78,Filtro!$A$5:$I$351,3,FALSE),0)","v":183},{"$f":"IFERROR(VLOOKUP('BM18'!$A78,Filtro!$A$5:$I$351,4,FALSE),0)","v":853},null,null,78]
[null,"AUTOCONTROL PERSONAS CON DIABETES INSULINO DEPENDIENTE (D.I.D. MENSUAL)",{"$nulls":5},79]
[null,"SECCIÓN F: PRESCRIPCIONES ADMINISTRADAS EN URGENCIA ",{"$nulls":5},80]
[null,"ATENCIÓN","TOTAL",{"$nulls":4},81]
[{"$nulls":7},82]
["18400700","URGENCIA SAPU/SAR/SUR",{"$f":"IFERROR(VLOOKUP('BM18'!$A83,Filtro!$A$5:$I$351,2,FALSE),0)","v":{"v":1086992,"d":"1,086,992"}},{"$nulls":4},83]
[null,"SECCIÓN G : OTRAS ATENCIONES A PACIENTES AMBULATORIOS",{"$nulls":5},84]
[null,"TIPO DE ATENCIÓN","TOTAL","ATENCIONES POR EDAD",{"$nulls":5},85]
[{"$nulls":3},"< 1 año","1 - 4 años","5 a 9 años","10 a 19 años","20 a 64 años","65 años y más",86]
["18070100","POR TERAPÉUTICA OCUPACIONAL",{"$f":"IFERROR(VLOOKUP('BM18'!$A87,Filtro!$A$5:$I$351,2,FALSE),0)","v":457},{"$f":"IFERROR(VLOOKUP('BM18'!$A87,Filtro!$A$5:$I$351,3,FALSE),0)","v":10},{"$f":"IFERROR(VLOOKUP('BM18'!$A87,Filtro!$A$5:$I$351,4,FALSE),0)","v":271},{"$f":"IFERROR(VLOOKUP('BM18'!$A87,Filtro!$A$5:$I$351,5,FALSE),0)","v":94},{"$f":"IFERROR(VLOOKUP('BM18'!$A87,Filtro!$A$5:$I$351,6,FALSE),0)","v":25},{"$f":"IFERROR(VLOOKUP('BM18'!$A87,Filtro!$A$5:$I$351,7,FALSE),0)","v":5},{"$f":"IFERROR(VLOOKUP('BM18'!$A87,Filtro!$A$5:$I$351,8,FALSE),0)","v":52},87]
["18070300","POR KINESIOLOGO (NO SAPU)",{"$f":"IFERROR(VLOOKUP('BM18'!$A88,Filtro!$A$5:$I$351,2,FALSE),0)","v":{"v":1734,"d":"1,734"}},{"$f":"IFERROR(VLOOKUP('BM18'!$A88,Filtro!$A$5:$I$351,3,FALSE),0)","v":413},{"$f":"IFERROR(VLOOKUP('BM18'!$A88,Filtro!$A$5:$I$351,4,FALSE),0)","v":587},{"$f":"IFERROR(VLOOKUP('BM18'!$A88,Filtro!$A$5:$I$351,5,FALSE),0)","v":82},{"$f":"IFERROR(VLOOKUP('BM18'!$A88,Filtro!$A$5:$I$351,6,FALSE),0)","v":64},{"$f":"IFERROR(VLOOKUP('BM18'!$A88,Filtro!$A$5:$I$351,7,FALSE),0)","v":325},{"$f":"IFERROR(VLOOKUP('BM18'!$A88,Filtro!$A$5:$I$351,8,FALSE),0)","v":263},88]
["18400900","POR EDUCADORA DE PÁRVULO/DIFERENCIAL",{"$f":"IFERROR(VLOOKUP('BM18'!$A89,Filtro!$A$5:$I$351,2,FALSE),0)","v":{"v":13906,"d":"13,906"}},{"$f":"IFERROR(VLOOKUP('BM18'!$A89,Filtro!$A$5:$I$351,3,FALSE),0)","v":{"v":2641,"d":"2,641"}},{"$f":"IFERROR(VLOOKUP('BM18'!$A89,Filtro!$A$5:$I$351,4,FALSE),0)","v":{"v":11265,"d":"11,265"}},{"$nulls":4},89]
[null,"SECCIÓN H: OTROS TRASLADOS DE PACIENTES",{"$nulls":5},90]
[null,"TIPO DE ACCION",null,"TOTAL        ","POR COMPRA \nDE SERVICIO",null,null,91]
["18090200","TRASLADOS NO DE URGENCIA","AMBULANCIA",{"$f":"IFERROR(VLOOKUP('BM18'!$A92,Filtro!$A$5:$I$351,2,FALSE),0)","v":{"v":8707,"d":"8,707"}},{"$f":"IFERROR(VLOOKUP('BM18'!$A92,Filtro!$A$5:$I$351,3,FALSE),0)","v":{"v":1805,"d":"1,805"}},null,null,92]
["18090300",null,"MARÍTIMO",{"$f":"IFERROR(VLOOKUP('BM18'!$A93,Filtro!$A$5:$I$351,2,FALSE),0)","v":20},{"$f":"IFERROR(VLOOKUP('BM18'!$A93,Filtro!$A$5:$I$351,3,FALSE),0)","v":0},null,null,93]
["18090400",null,"AÉREO",{"$f":"IFERROR(VLOOKUP('BM18'!$A94,Filtro!$A$5:$I$351,2,FALSE),0)","v":0},{"$f":"IFERROR(VLOOKUP('BM18'!$A94,Filtro!$A$5:$I$351,3,FALSE),0)","v":0},null,null,94]
[null,"SECCIÓN I: EXAMENES PESQUISA COVID-19 ",{"$nulls":5},95]
[null,"TIPO DE EXÁMEN","TOTAL        ","Por grupos etarios",null,null,"POR COMPRA DE SERVICIO",96]
[{"$nulls":3},"< 15 años","> 15-64 años","65 y más años",null,97]
["18700100","0306082: Reacción de Polimerasa en Cadena (P.C.R.), virus Influenza, virus Herpes, citomegalovirus, hepatitis C, mycobacteria TBC, SARS CoV -2 c/u (incluye toma muestra hisopado nasofaríngeo).",{"$f":"IFERROR(VLOOKUP('BM18'!$A98,Filtro!$A$5:$I$351,2,FALSE),0)","v":11206},{"$f":"IFERROR(VLOOKUP('BM18'!$A98,Filtro!$A$5:$I$351,3,FALSE),0)","v":3403},{"$f":"IFERROR(VLOOKUP('BM18'!$A98,Filtro!$A$5:$I$351,4,FALSE),0)","v":6139},{"$f":"IFERROR(VLOOKUP('BM18'!$A98,Filtro!$A$5:$I$351,5,FALSE),0)","v":1664},{"$f":"IFERROR(VLOOKUP('BM18'!$A98,Filtro!$A$5:$I$351,6,FALSE),0)","v":0},98]
[null,"SECCIÓN J: EXAMENES TEST RAPIDOS COVID-19",{"$nulls":5},99]
[null,"Test rápido para detección de anticuerpos CoVID-19","TOTAL        ","Por grupos etarios",null,null,"Informados ","Positivo","Negativo",100]
[{"$nulls":3},"< 15 años","> 15-64 años","65 y más años",{"$nulls":3},101]
["18700110","OnSite COVID-19 IgG/IgM Rapid Test",{"$f":"IFERROR(VLOOKUP('BM18'!$A102,Filtro!$A$5:$I$351,2,FALSE),0)","v":122},{"$f":"IFERROR(VLOOKUP('BM18'!$A102,Filtro!$A$5:$I$351,3,FALSE),0)","v":23},{"$f":"IFERROR(VLOOKUP('BM18'!$A102,Filtro!$A$5:$I$351,4,FALSE),0)","v":66},{"$f":"IFERROR(VLOOKUP('BM18'!$A102,Filtro!$A$5:$I$351,5,FALSE),0)","v":33},{"$f":"IFERROR(VLOOKUP('BM18'!$A102,Filtro!$A$5:$I$351,6,FALSE),0)","v":115},{"$f":"IFERROR(VLOOKUP('BM18'!$A102,Filtro!$A$5:$I$351,7,FALSE),0)","v":7},{"$f":"IFERROR(VLOOKUP('BM18'!$A102,Filtro!$A$5:$I$351,8,FALSE),0)","v":115},102]
["18700120","DPP® COVID-19 IgM/IgG System",{"$f":"IFERROR(VLOOKUP('BM18'!$A103,Filtro!$A$5:$I$351,2,FALSE),0)","v":0},{"$f":"IFERROR(VLOOKUP('BM18'!$A103,Filtro!$A$5:$I$351,3,FALSE),0)","v":0},{"$f":"IFERROR(VLOOKUP('BM18'!$A103,Filtro!$A$5:$I$351,4,FALSE),0)","v":0},{"$f":"IFERROR(VLOOKUP('BM18'!$A103,Filtro!$A$5:$I$351,5,FALSE),0)","v":0},{"$f":"IFERROR(VLOOKUP('BM18'!$A103,Filtro!$A$5:$I$351,6,FALSE),0)","v":0},{"$f":"IFERROR(VLOOKUP('BM18'!$A103,Filtro!$A$5:$I$351,7,FALSE),0)","v":0},{"$f":"IFERROR(VLOOKUP('BM18'!$A103,Filtro!$A$5:$I$351,8,FALSE),0)","v":0},103]
["18700130","LUMIRATEK COVID-19 (IgG / IgM)",{"$f":"IFERROR(VLOOKUP('BM18'!$A104,Filtro!$A$5:$I$351,2,FALSE),0)","v":0},{"$f":"IFERROR(VLOOKUP('BM18'!$A104,Filtro!$A$5:$I$351,3,FALSE),0)","v":0},{"$f":"IFERROR(VLOOKUP('BM18'!$A104,Filtro!$A$5:$I$351,4,FALSE),0)","v":0},{"$f":"IFERROR(VLOOKUP('BM18'!$A104,Filtro!$A$5:$I$351,5,FALSE),0)","v":0},{"$f":"IFERROR(VLOOKUP('BM18'!$A104,Filtro!$A$5:$I$351,6,FALSE),0)","v":0},{"$f":"IFERROR(VLOOKUP('BM18'!$A104,Filtro!$A$5:$I$351,7,FALSE),0)","v":0},{"$f":"IFERROR(VLOOKUP('BM18'!$A104,Filtro!$A$5:$I$351,8,FALSE),0)","v":0},104]
["18700140","VivaDiag™ COVID19 IgM/IgG Rapid Test",{"$f":"IFERROR(VLOOKUP('BM18'!$A105,Filtro!$A$5:$I$351,2,FALSE),0)","v":42},{"$f":"IFERROR(VLOOKUP('BM18'!$A105,Filtro!$A$5:$I$351,3,FALSE),0)","v":0},{"$f":"IFERROR(VLOOKUP('BM18'!$A105,Filtro!$A$5:$I$351,4,FALSE),0)","v":42},{"$f":"IFERROR(VLOOKUP('BM18'!$A105,Filtro!$A$5:$I$351,5,FALSE),0)","v":0},{"$f":"IFERROR(VLOOKUP('BM18'!$A105,Filtro!$A$5:$I$351,6,FALSE),0)","v":29},{"$f":"IFERROR(VLOOKUP('BM18'!$A105,Filtro!$A$5:$I$351,7,FALSE),0)","v":16},{"$f":"IFERROR(VLOOKUP('BM18'!$A105,Filtro!$A$5:$I$351,8,FALSE),0)","v":26},105]
["18700150","Smart Test Covid19",{"$f":"IFERROR(VLOOKUP('BM18'!$A106,Filtro!$A$5:$I$351,2,FALSE),0)","v":0},{"$f":"IFERROR(VLOOKUP('BM18'!$A106,Filtro!$A$5:$I$351,3,FALSE),0)","v":0},{"$f":"IFERROR(VLOOKUP('BM18'!$A106,Filtro!$A$5:$I$351,4,FALSE),0)","v":0},{"$f":"IFERROR(VLOOKUP('BM18'!$A106,Filtro!$A$5:$I$351,5,FALSE),0)","v":0},{"$f":"IFERROR(VLOOKUP('BM18'!$A106,Filtro!$A$5:$I$351,6,FALSE),0)","v":0},{"$f":"IFERROR(VLOOKUP('BM18'!$A106,Filtro!$A$5:$I$351,7,FALSE),0)","v":0},{"$f":"IFERROR(VLOOKUP('BM18'!$A106,Filtro!$A$5:$I$351,8,FALSE),0)","v":0},106]
["18700160","Cellex qSARS-CoV2 IgG/IgM Cassette Rapid Test kit",{"$f":"IFERROR(VLOOKUP('BM18'!$A107,Filtro!$A$5:$I$351,2,FALSE),0)","v":0},{"$f":"IFERROR(VLOOKUP('BM18'!$A107,Filtro!$A$5:$I$351,3,FALSE),0)","v":0},{"$f":"IFERROR(VLOOKUP('BM18'!$A107,Filtro!$A$5:$I$351,4,FALSE),0)","v":0},{"$f":"IFERROR(VLOOKUP('BM18'!$A107,Filtro!$A$5:$I$351,5,FALSE),0)","v":0},{"$f":"IFERROR(VLOOKUP('BM18'!$A107,Filtro!$A$5:$I$351,6,FALSE),0)","v":0},{"$f":"IFERROR(VLOOKUP('BM18'!$A107,Filtro!$A$5:$I$351,7,FALSE),0)","v":0},{"$f":"IFERROR(VLOOKUP('BM18'!$A107,Filtro!$A$5:$I$351,8,FALSE),0)","v":0},107]
["18700170","CORONAVÍRUS IgG/IgM (COVID19)",{"$f":"IFERROR(VLOOKUP('BM18'!$A108,Filtro!$A$5:$I$351,2,FALSE),0)","v":2},{"$f":"IFERROR(VLOOKUP('BM18'!$A108,Filtro!$A$5:$I$351,3,FALSE),0)","v":0},{"$f":"IFERROR(VLOOKUP('BM18'!$A108,Filtro!$A$5:$I$351,4,FALSE),0)","v":2},{"$f":"IFERROR(VLOOKUP('BM18'!$A108,Filtro!$A$5:$I$351,5,FALSE),0)","v":0},{"$f":"IFERROR(VLOOKUP('BM18'!$A108,Filtro!$A$5:$I$351,6,FALSE),0)","v":2},{"$f":"IFERROR(VLOOKUP('BM18'!$A108,Filtro!$A$5:$I$351,7,FALSE),0)","v":0},{"$f":"IFERROR(VLOOKUP('BM18'!$A108,Filtro!$A$5:$I$351,8,FALSE),0)","v":2},108]
["18700180","COVID-19 IgG/IgM ECO Teste",{"$f":"IFERROR(VLOOKUP('BM18'!$A109,Filtro!$A$5:$I$351,2,FALSE),0)","v":0},{"$f":"IFERROR(VLOOKUP('BM18'!$A109,Filtro!$A$5:$I$351,3,FALSE),0)","v":0},{"$f":"IFERROR(VLOOKUP('BM18'!$A109,Filtro!$A$5:$I$351,4,FALSE),0)","v":0},{"$f":"IFERROR(VLOOKUP('BM18'!$A109,Filtro!$A$5:$I$351,5,FALSE),0)","v":0},{"$f":"IFERROR(VLOOKUP('BM18'!$A109,Filtro!$A$5:$I$351,6,FALSE),0)","v":0},{"$f":"IFERROR(VLOOKUP('BM18'!$A109,Filtro!$A$5:$I$351,7,FALSE),0)","v":0},{"$f":"IFERROR(VLOOKUP('BM18'!$A109,Filtro!$A$5:$I$351,8,FALSE),0)","v":0},109]
["18700190","Anti COVID-19 IgG/IgM Rapid Test",{"$f":"IFERROR(VLOOKUP('BM18'!$A110,Filtro!$A$5:$I$351,2,FALSE),0)","v":22},{"$f":"IFERROR(VLOOKUP('BM18'!$A110,Filtro!$A$5:$I$351,3,FALSE),0)","v":0},{"$f":"IFERROR(VLOOKUP('BM18'!$A110,Filtro!$A$5:$I$351,4,FALSE),0)","v":22},{"$f":"IFERROR(VLOOKUP('BM18'!$A110,Filtro!$A$5:$I$351,5,FALSE),0)","v":0},{"$f":"IFERROR(VLOOKUP('BM18'!$A110,Filtro!$A$5:$I$351,6,FALSE),0)","v":22},{"$f":"IFERROR(VLOOKUP('BM18'!$A110,Filtro!$A$5:$I$351,7,FALSE),0)","v":5},{"$f":"IFERROR(VLOOKUP('BM18'!$A110,Filtro!$A$5:$I$351,8,FALSE),0)","v":17},110]
["18700210","Família Teste Rápido em Cassete 2019-nCoV IgG/IgM",{"$f":"IFERROR(VLOOKUP('BM18'!$A111,Filtro!$A$5:$I$351,2,FALSE),0)","v":0},{"$f":"IFERROR(VLOOKUP('BM18'!$A111,Filtro!$A$5:$I$351,3,FALSE),0)","v":0},{"$f":"IFERROR(VLOOKUP('BM18'!$A111,Filtro!$A$5:$I$351,4,FALSE),0)","v":0},{"$f":"IFERROR(VLOOKUP('BM18'!$A111,Filtro!$A$5:$I$351,5,FALSE),0)","v":0},{"$f":"IFERROR(VLOOKUP('BM18'!$A111,Filtro!$A$5:$I$351,6,FALSE),0)","v":0},{"$f":"IFERROR(VLOOKUP('BM18'!$A111,Filtro!$A$5:$I$351,7,FALSE),0)","v":0},{"$f":"IFERROR(VLOOKUP('BM18'!$A111,Filtro!$A$5:$I$351,8,FALSE),0)","v":0},111]
["18700220","Smart Test Covid19 Vyttra",{"$f":"IFERROR(VLOOKUP('BM18'!$A112,Filtro!$A$5:$I$351,2,FALSE),0)","v":0},{"$f":"IFERROR(VLOOKUP('BM18'!$A112,Filtro!$A$5:$I$351,3,FALSE),0)","v":0},{"$f":"IFERROR(VLOOKUP('BM18'!$A112,Filtro!$A$5:$I$351,4,FALSE),0)","v":0},{"$f":"IFERROR(VLOOKUP('BM18'!$A112,Filtro!$A$5:$I$351,5,FALSE),0)","v":0},{"$f":"IFERROR(VLOOKUP('BM18'!$A112,Filtro!$A$5:$I$351,6,FALSE),0)","v":0},{"$f":"IFERROR(VLOOKUP('BM18'!$A112,Filtro!$A$5:$I$351,7,FALSE),0)","v":0},{"$f":"IFERROR(VLOOKUP('BM18'!$A112,Filtro!$A$5:$I$351,8,FALSE),0)","v":0},112]
["18700230","Lo desconoce",{"$f":"IFERROR(VLOOKUP('BM18'!$A113,Filtro!$A$5:$I$351,2,FALSE),0)","v":2377},{"$f":"IFERROR(VLOOKUP('BM18'!$A113,Filtro!$A$5:$I$351,3,FALSE),0)","v":370},{"$f":"IFERROR(VLOOKUP('BM18'!$A113,Filtro!$A$5:$I$351,4,FALSE),0)","v":1777},{"$f":"IFERROR(VLOOKUP('BM18'!$A113,Filtro!$A$5:$I$351,5,FALSE),0)","v":230},{"$f":"IFERROR(VLOOKUP('BM18'!$A113,Filtro!$A$5:$I$351,6,FALSE),0)","v":1391},{"$f":"IFERROR(VLOOKUP('BM18'!$A113,Filtro!$A$5:$I$351,7,FALSE),0)","v":395},{"$f":"IFERROR(VLOOKUP('BM18'!$A113,Filtro!$A$5:$I$351,8,FALSE),0)","v":1376},113]
[null,"TOTAL",{"$f":"SUM(C102:C113)","v":2565},393,1909,263,1559,423,1536,114]
[]
[]
["CODIGOS NUEVOS"]
[18050400]
[18050500]
[]
["CODIGO ELIMINADO"]
[18050600]

{"sheet":"BM18A","index":2,"n_rows":652,"n_cols":10,"rows_kept":652,"merged":[[5,1,5,3],[6,1,6,6],[9,1,10,1],[9,2,10,2],[9,3,10,3],[9,4,10,4],[9,5,10,5],[9,6,10,6],[11,1,11,2],[11,3,11,6],[97,1,97,2],[99,1,99,2],[99,3,99,6],[169,1,169,2],[171,1,171,2],[171,3,171,6],[178,1,178,2],[180,1,180,2],[180,3,180,6],[238,1,238,2],[240,1,240,2],[240,3,240,6],[319,1,319,2],[321,1,321,2],[366,1,366,2],[368,1,368,2],[399,1,399,2],[400,1,400,2],[402,1,402,2],[402,3,402,6],[487,1,487,8],[488,1,489,1],[488,2,489,2],[488,3,489,3],[488,4,489,4],[488,5,489,5],[488,6,488,7],[488,8,489,8],[490,1,490,2],[490,3,490,8],[493,1,493,2],[493,3,493,8],[505,1,505,2],[507,1,507,2],[514,1,514,2],[516,1,516,2],[516,3,516,8],[519,1,519,2],[521,1,521,2],[521,3,521,8],[526,1,526,2],[528,1,528,2],[528,3,528,8],[540,1,540,2],[542,1,542,2],[542,3,542,8],[546,1,546,2],[548,1,548,2],[548,3,548,8],[551,1,551,2],[553,1,553,2],[553,3,553,8],[556,1,556,2],[556,3,556,8],[564,1,564,2],[566,1,566,2],[566,3,566,8],[591,1,591,2],[593,1,593,2],[593,3,593,8],[612,1,612,2],[614,3,615,3],[614,4,615,4],[614,5,615,5],[614,6,615,6],[618,1,618,2],[620,1,620,3],[620,4,620,8],[621,1,622,2],[621,4,622,4],[621,5,622,5],[621,6,621,7],[621,8,622,8]]}
[null,"SERVICIO DE SALUD "]
[null,{"$f":"CONCATENATE(\"COMUNA: \",[1]NOMBRE!B2,\"  \",\"( \",[1]NOMBRE!C2,[1]NOMBRE!D2,[1]NOMBRE!E2,[1]NOMBRE!F2,[1]NOMBRE!G2,\" )\")","v":"COMUNA:   (  )"}]
[null,{"$f":"CONCATENATE(\"ESTABLECIMIENTO/ESTRATEGIA: \",[1]NOMBRE!B3,\"  \",\"( \",[1]NOMBRE!C3,[1]NOMBRE!D3,[1]NOMBRE!E3,[1]NOMBRE!F3,[1]NOMBRE!G3,[1]NOMBRE!H3,\" )\")","v":"ESTABLECIMIENTO/ESTRATEGIA:   (  )"}]
[null,{"$f":"CONCATENATE(\"MES: \",[1]NOMBRE!B6,\"  \",\"( \",[1]NOMBRE!C6,[1]NOMBRE!D6,\" )\")","v":"MES:   (  )"}]
[null,{"$f":"CONCATENATE(\"AÑO: \",[1]NOMBRE!B7)","v":"AÑO: 2023"}]
[]
[null,"REM-18A  -  LIBRO DE PRESTACIONES DE APOYO DIAGNOSTICO y TERAPÉUTICO\n(USO EXCLUSIVO DE ESTABLECIMIENTOS MUNICIPALES)"]
[]
[null,"SECCIÓN A: EXÁMENES DE DIAGNOSTICO"]
[null,"CÓDIGOS","EXÁMENES","TOTAL","SAPU/SAR/SUR","Resto Establecimientos APS","Compra de Servicios"]
[]
[null,"SANGRE HEMATOLOGÍA",{"$nulls":5},"Línea"]
["80301001","0301001","Acidificación del suero, test de Ham",{"$f":"SUM(E13:F13)","v":0},{"$f":"IFERROR(VLOOKUP($A13,Filtro!$A$5:$I$351,3,FALSE),0)","v":0},{"$f":"IFERROR(VLOOKUP($A13,Filtro!$A$5:$I$351,4,FALSE),0)","v":0},{"$f":"IFERROR(VLOOKUP($A13,Filtro!$A$5:$I$351,5,FALSE),0)","v":0},13]
["80301002","0301002","Acido fólico o folatos",{"$f":"SUM(E14:F14)","v":0},{"$f":"IFERROR(VLOOKUP($A14,Filtro!$A$5:$I$351,3,FALSE),0)","v":0},{"$f":"IFERROR(VLOOKUP($A14,Filtro!$A$5:$I$351,4,FALSE),0)","v":0},{"$f":"IFERROR(VLOOKUP($A14,Filtro!$A$5:$I$351,5,FALSE),0)","v":25},14]
["80301003","0301003","Adenograma, esplenograma, mielograma c/u",0,{"$f":"IFERROR(VLOOKUP($A15,Filtro!$A$5:$I$351,3,FALSE),0)","v":0},{"$f":"IFERROR(VLOOKUP($A15,Filtro!$A$5:$I$351,4,FALSE),0)","v":0},{"$f":"IFERROR(VLOOKUP($A15,Filtro!$A$5:$I$351,5,FALSE),0)","v":0},15]
["80301004","0301004","Adhesividad plaquetaria",0,{"$f":"IFERROR(VLOOKUP($A16,Filtro!$A$5:$I$351,3,FALSE),0)","v":0},{"$f":"IFERROR(VLOOKUP($A16,Filtro!$A$5:$I$351,4,FALSE),0)","v":0},{"$f":"IFERROR(VLOOKUP($A16,Filtro!$A$5:$I$351,5,FALSE),0)","v":0},16]
["80301005","0301005","Aglutininas anti Rho",0,{"$f":"IFERROR(VLOOKUP($A17,Filtro!$A$5:$I$351,3,FALSE),0)","v":0},{"$f":"IFERROR(VLOOKUP($A17,Filtro!$A$5:$I$351,4,FALSE),0)","v":0},{"$f":"IFERROR(VLOOKUP($A17,Filtro!$A$5:$I$351,5,FALSE),0)","v":0},17]
["80301006","0301006","Agregación plaquetaria",0,{"$f":"IFERROR(VLOOKUP($A18,Filtro!$A$5:$I$351,3,FALSE),0)","v":0},{"$f":"IFERROR(VLOOKUP($A18,Filtro!$A$5:$I$351,4,FALSE),0)","v":0},{"$f":"IFERROR(VLOOKUP($A18,Filtro!$A$5:$I$351,5,FALSE),0)","v":0},18]
["80301007","0301007","Anticoagulantes circulantes o anticoagulante lúpico",0,{"$f":"IFERROR(VLOOKUP($A19,Filtro!$A$5:$I$351,3,FALSE),0)","v":0},{"$f":"IFERROR(VLOOKUP($A19,Filtro!$A$5:$I$351,4,FALSE),0)","v":0},{"$f":"IFERROR(VLOOKUP($A19,Filtro!$A$5:$I$351,5,FALSE),0)","v":0},19]
["80301008","0301008","Antitrombina III",0,{"$f":"IFERROR(VLOOKUP($A20,Filtro!$A$5:$I$351,3,FALSE),0)","v":0},{"$f":"IFERROR(VLOOKUP($A20,Filtro!$A$5:$I$351,4,FALSE),0)","v":0},{"$f":"IFERROR(VLOOKUP($A20,Filtro!$A$5:$I$351,5,FALSE),0)","v":0},20]
["80301009","0301009","Auto-hemólisis test,  con y sin glucosa",0,{"$f":"IFERROR(VLOOKUP($A21,Filtro!$A$5:$I$351,3,FALSE),0)","v":0},{"$f":"IFERROR(VLOOKUP($A21,Filtro!$A$5:$I$351,4,FALSE),0)","v":0},{"$f":"IFERROR(VLOOKUP($A21,Filtro!$A$5:$I$351,5,FALSE),0)","v":0},21]
["80301010","0301010","Células del lupus, cada muestra",0,{"$f":"IFERROR(VLOOKUP($A22,Filtro!$A$5:$I$351,3,FALSE),0)","v":0},{"$f":"IFERROR(VLOOKUP($A22,Filtro!$A$5:$I$351,4,FALSE),0)","v":0},{"$f":"IFERROR(VLOOKUP($A22,Filtro!$A$5:$I$351,5,FALSE),0)","v":0},22]
["80301011","0301011","Coagulación, tiempo de",0,{"$f":"IFERROR(VLOOKUP($A23,Filtro!$A$5:$I$351,3,FALSE),0)","v":0},{"$f":"IFERROR(VLOOKUP($A23,Filtro!$A$5:$I$351,4,FALSE),0)","v":0},{"$f":"IFERROR(VLOOKUP($A23,Filtro!$A$5:$I$351,5,FALSE),0)","v":227},23]
["80301012","0301012","Coágulo,  tiempo de retracción del",0,{"$f":"IFERROR(VLOOKUP($A24,Filtro!$A$5:$I$351,3,FALSE),0)","v":0},{"$f":"IFERROR(VLOOKUP($A24,Filtro!$A$5:$I$351,4,FALSE),0)","v":0},{"$f":"IFERROR(VLOOKUP($A24,Filtro!$A$5:$I$351,5,FALSE),0)","v":0},24]
["80301013","0301013","Coágulo, tiempo de lisis del",0,{"$f":"IFERROR(VLOOKUP($A25,Filtro!$A$5:$I$351,3,FALSE),0)","v":0},{"$f":"IFERROR(VLOOKUP($A25,Filtro!$A$5:$I$351,4,FALSE),0)","v":0},{"$f":"IFERROR(VLOOKUP($A25,Filtro!$A$5:$I$351,5,FALSE),0)","v":0},25]
["80301014","0301014","Coombs directo, test de",0,{"$f":"IFERROR(VLOOKUP($A26,Filtro!$A$5:$I$351,3,FALSE),0)","v":0},{"$f":"IFERROR(VLOOKUP($A26,Filtro!$A$5:$I$351,4,FALSE),0)","v":0},{"$f":"IFERROR(VLOOKUP($A26,Filtro!$A$5:$I$351,5,FALSE),0)","v":122},26]
["80301015","0301015","Coombs indirecto, prueba de",2,{"$f":"IFERROR(VLOOKUP($A27,Filtro!$A$5:$I$351,3,FALSE),0)","v":0},{"$f":"IFERROR(VLOOKUP($A27,Filtro!$A$5:$I$351,4,FALSE),0)","v":2},{"$f":"IFERROR(VLOOKUP($A27,Filtro!$A$5:$I$351,5,FALSE),0)","v":{"v":1474,"d":"1,474"}},27]
["80301016","0301016","Cuerpos de Heinz",0,{"$f":"IFERROR(VLOOKUP($A28,Filtro!$A$5:$I$351,3,FALSE),0)","v":0},{"$f":"IFERROR(VLOOKUP($A28,Filtro!$A$5:$I$351,4,FALSE),0)","v":0},{"$f":"IFERROR(VLOOKUP($A28,Filtro!$A$5:$I$351,5,FALSE),0)","v":0},28]
["80301017","0301017","Deshidrogenasa glucosa-6-fosfato en eritrocitos",0,{"$f":"IFERROR(VLOOKUP($A29,Filtro!$A$5:$I$351,3,FALSE),0)","v":0},{"$f":"IFERROR(VLOOKUP($A29,Filtro!$A$5:$I$351,4,FALSE),0)","v":0},{"$f":"IFERROR(VLOOKUP($A29,Filtro!$A$5:$I$351,5,FALSE),0)","v":0},29]
["80301020","0301020","Euglobulinas, tiempo de lisis de",0,{"$f":"IFERROR(VLOOKUP($A30,Filtro!$A$5:$I$351,3,FALSE),0)","v":0},{"$f":"IFERROR(VLOOKUP($A30,Filtro!$A$5:$I$351,4,FALSE),0)","v":0},{"$f":"IFERROR(VLOOKUP($A30,Filtro!$A$5:$I$351,5,FALSE),0)","v":0},30]
["80301021","0301021","Fibrinógeno",0,{"$f":"IFERROR(VLOOKUP($A31,Filtro!$A$5:$I$351,3,FALSE),0)","v":0},{"$f":"IFERROR(VLOOKUP($A31,Filtro!$A$5:$I$351,4,FALSE),0)","v":0},{"$f":"IFERROR(VLOOKUP($A31,Filtro!$A$5:$I$351,5,FALSE),0)","v":0},31]
["80301022","0301022","Test de neutralización plaquetaria",0,{"$f":"IFERROR(VLOOKUP($A32,Filtro!$A$5:$I$351,3,FALSE),0)","v":0},{"$f":"IFERROR(VLOOKUP($A32,Filtro!$A$5:$I$351,4,FALSE),0)","v":0},{"$f":"IFERROR(VLOOKUP($A32,Filtro!$A$5:$I$351,5,FALSE),0)","v":0},32]
["80301023","0301023","Factor III plaquetario",0,{"$f":"IFERROR(VLOOKUP($A33,Filtro!$A$5:$I$351,3,FALSE),0)","v":0},{"$f":"IFERROR(VLOOKUP($A33,Filtro!$A$5:$I$351,4,FALSE),0)","v":0},{"$f":"IFERROR(VLOOKUP($A33,Filtro!$A$5:$I$351,5,FALSE),0)","v":0},33]
["80301024","0301024","Factor V",0,{"$f":"IFERROR(VLOOKUP($A34,Filtro!$A$5:$I$351,3,FALSE),0)","v":0},{"$f":"IFERROR(VLOOKUP($A34,Filtro!$A$5:$I$351,4,FALSE),0)","v":0},{"$f":"IFERROR(VLOOKUP($A34,Filtro!$A$5:$I$351,5,FALSE),0)","v":0},34]
["80301025","0301025","Factores VII, VIII, IX, X, XI, XII, XIII, c/u",0,{"$f":"IFERROR(VLOOKUP($A35,Filtro!$A$5:$I$351,3,FALSE),0)","v":0},{"$f":"IFERROR(VLOOKUP($A35,Filtro!$A$5:$I$351,4,FALSE),0)","v":0},{"$f":"IFERROR(VLOOKUP($A35,Filtro!$A$5:$I$351,5,FALSE),0)","v":0},35]
["80301026","0301026","Ferritina",0,{"$f":"IFERROR(VLOOKUP($A36,Filtro!$A$5:$I$351,3,FALSE),0)","v":0},{"$f":"IFERROR(VLOOKUP($A36,Filtro!$A$5:$I$351,4,FALSE),0)","v":0},{"$f":"IFERROR(VLOOKUP($A36,Filtro!$A$5:$I$351,5,FALSE),0)","v":{"v":1768,"d":"1,768"}},36]
["80301027","0301027","Fibrinógeno, productos de degradación del",0,{"$f":"IFERROR(VLOOKUP($A37,Filtro!$A$5:$I$351,3,FALSE),0)","v":0},{"$f":"IFERROR(VLOOKUP($A37,Filtro!$A$5:$I$351,4,FALSE),0)","v":0},{"$f":"IFERROR(VLOOKUP($A37,Filtro!$A$5:$I$351,5,FALSE),0)","v":0},37]
["80301028","0301028","Fierro sérico",0,{"$f":"IFERROR(VLOOKUP($A38,Filtro!$A$5:$I$351,3,FALSE),0)","v":0},{"$f":"IFERROR(VLOOKUP($A38,Filtro!$A$5:$I$351,4,FALSE),0)","v":0},{"$f":"IFERROR(VLOOKUP($A38,Filtro!$A$5:$I$351,5,FALSE),0)","v":2},38]
["80301029","0301029","Fierro, capacidad de fijación del (incluye fierro sérico)",0,{"$f":"IFERROR(VLOOKUP($A39,Filtro!$A$5:$I$351,3,FALSE),0)","v":0},{"$f":"IFERROR(VLOOKUP($A39,Filtro!$A$5:$I$351,4,FALSE),0)","v":0},{"$f":"IFERROR(VLOOKUP($A39,Filtro!$A$5:$I$351,5,FALSE),0)","v":0},39]
["80301030","0301030","Fierro, cinética del (cada determinación)",0,{"$f":"IFERROR(VLOOKUP($A40,Filtro!$A$5:$I$351,3,FALSE),0)","v":0},{"$f":"IFERROR(VLOOKUP($A40,Filtro!$A$5:$I$351,4,FALSE),0)","v":0},{"$f":"IFERROR(VLOOKUP($A40,Filtro!$A$5:$I$351,5,FALSE),0)","v":1},40]
["80301032","0301032","Gelación por etanol",0,{"$f":"IFERROR(VLOOKUP($A41,Filtro!$A$5:$I$351,3,FALSE),0)","v":0},{"$f":"IFERROR(VLOOKUP($A41,Filtro!$A$5:$I$351,4,FALSE),0)","v":0},{"$f":"IFERROR(VLOOKUP($A41,Filtro!$A$5:$I$351,5,FALSE),0)","v":0},41]
["80301033","0301033","Grupos menores. Tipificación o determinación de otros sistemas sanguíneos (Kell, Duffy, Kidd y otros) c/u.",0,{"$f":"IFERROR(VLOOKUP($A42,Filtro!$A$5:$I$351,3,FALSE),0)","v":0},{"$f":"IFERROR(VLOOKUP($A42,Filtro!$A$5:$I$351,4,FALSE),0)","v":0},{"$f":"IFERROR(VLOOKUP($A42,Filtro!$A$5:$I$351,5,FALSE),0)","v":0},42]
["80301034","0301034","Grupos sanguíneos AB0 y Rho (incluye estudio de factor Du en Rh negativos)",{"v":1221,"d":"1,221"},{"$f":"IFERROR(VLOOKUP($A43,Filtro!$A$5:$I$351,3,FALSE),0)","v":0},{"$f":"IFERROR(VLOOKUP($A43,Filtro!$A$5:$I$351,4,FALSE),0)","v":{"v":1221,"d":"1,221"}},{"$f":"IFERROR(VLOOKUP($A43,Filtro!$A$5:$I$351,5,FALSE),0)","v":{"v":2515,"d":"2,515"}},43]
["80301035","0301035","Haptoglobina cuantitativa",0,{"$f":"IFERROR(VLOOKUP($A44,Filtro!$A$5:$I$351,3,FALSE),0)","v":0},{"$f":"IFERROR(VLOOKUP($A44,Filtro!$A$5:$I$351,4,FALSE),0)","v":0},{"$f":"IFERROR(VLOOKUP($A44,Filtro!$A$5:$I$351,5,FALSE),0)","v":151},44]
["80301036","0301036","Hematocrito (proc. aut.)",{"v":2660,"d":"2,660"},{"$f":"IFERROR(VLOOKUP($A45,Filtro!$A$5:$I$351,3,FALSE),0)","v":0},{"$f":"IFERROR(VLOOKUP($A45,Filtro!$A$5:$I$351,4,FALSE),0)","v":{"v":2660,"d":"2,660"}},{"$f":"IFERROR(VLOOKUP($A45,Filtro!$A$5:$I$351,5,FALSE),0)","v":{"v":38642,"d":"38,642"}},45]
["80301038","0301038","Hemoglobina en sangre total (proc. aut.)",{"v":1447,"d":"1,447"},{"$f":"IFERROR(VLOOKUP($A46,Filtro!$A$5:$I$351,3,FALSE),0)","v":0},{"$f":"IFERROR(VLOOKUP($A46,Filtro!$A$5:$I$351,4,FALSE),0)","v":{"v":1447,"d":"1,447"}},{"$f":"IFERROR(VLOOKUP($A46,Filtro!$A$5:$I$351,5,FALSE),0)","v":{"v":35779,"d":"35,779"}},46]
["80301039","0301039","Hemoglobina fetal cualitativa",0,{"$f":"IFERROR(VLOOKUP($A47,Filtro!$A$5:$I$351,3,FALSE),0)","v":0},{"$f":"IFERROR(VLOOKUP($A47,Filtro!$A$5:$I$351,4,FALSE),0)","v":0},{"$f":"IFERROR(VLOOKUP($A47,Filtro!$A$5:$I$351,5,FALSE),0)","v":145},47]
["80301040","0301040","Hemoglobina fetal cuantitativa en eritrocitos",0,{"$f":"IFERROR(VLOOKUP($A48,Filtro!$A$5:$I$351,3,FALSE),0)","v":0},{"$f":"IFERROR(VLOOKUP($A48,Filtro!$A$5:$I$351,4,FALSE),0)","v":0},{"$f":"IFERROR(VLOOKUP($A48,Filtro!$A$5:$I$351,5,FALSE),0)","v":9},48]
["80301041","0301041","Hemoglobina glicosilada",{"v":22862,"d":"22,862"},{"$f":"IFERROR(VLOOKUP($A49,Filtro!$A$5:$I$351,3,FALSE),0)","v":0},{"$f":"IFERROR(VLOOKUP($A49,Filtro!$A$5:$I$351,4,FALSE),0)","v":{"v":22862,"d":"22,862"}},{"$f":"IFERROR(VLOOKUP($A49,Filtro!$A$5:$I$351,5,FALSE),0)","v":{"v":52772,"d":"52,772"}},49]
["80301042","0301042","Hemoglobina plasmática",0,{"$f":"IFERROR(VLOOKUP($A50,Filtro!$A$5:$I$351,3,FALSE),0)","v":0},{"$f":"IFERROR(VLOOKUP($A50,Filtro!$A$5:$I$351,4,FALSE),0)","v":0},{"$f":"IFERROR(VLOOKUP($A50,Filtro!$A$5:$I$351,5,FALSE),0)","v":267},50]
["80301043","0301043","Hemoglobina termolabil",0,{"$f":"IFERROR(VLOOKUP($A51,Filtro!$A$5:$I$351,3,FALSE),0)","v":0},{"$f":"IFERROR(VLOOKUP($A51,Filtro!$A$5:$I$351,4,FALSE),0)","v":0},{"$f":"IFERROR(VLOOKUP($A51,Filtro!$A$5:$I$351,5,FALSE),0)","v":29},51]
["80301044","0301044","Hemoglobina, electroforesis de (incluye Hb. total)",0,{"$f":"IFERROR(VLOOKUP($A52,Filtro!$A$5:$I$351,3,FALSE),0)","v":0},{"$f":"IFERROR(VLOOKUP($A52,Filtro!$A$5:$I$351,4,FALSE),0)","v":0},{"$f":"IFERROR(VLOOKUP($A52,Filtro!$A$5:$I$351,5,FALSE),0)","v":18},52]
["80301045","0301045","Hemograma (incluye recuentos de leucocitos y eritrocitos, hemoglobina, hematocrito, fórmula leucocitaria, características de los elementos figurados y velocidad de eritrosedimentación)",{"v":37243,"d":"37,243"},{"$f":"IFERROR(VLOOKUP($A53,Filtro!$A$5:$I$351,3,FALSE),0)","v":0},{"$f":"IFERROR(VLOOKUP($A53,Filtro!$A$5:$I$351,4,FALSE),0)","v":{"v":37243,"d":"37,243"}},{"$f":"IFERROR(VLOOKUP($A53,Filtro!$A$5:$I$351,5,FALSE),0)","v":{"v":67752,"d":"67,752"}},53]
["80301046","0301046","Hemolisinas",0,{"$f":"IFERROR(VLOOKUP($A54,Filtro!$A$5:$I$351,3,FALSE),0)","v":0},{"$f":"IFERROR(VLOOKUP($A54,Filtro!$A$5:$I$351,4,FALSE),0)","v":0},{"$f":"IFERROR(VLOOKUP($A54,Filtro!$A$5:$I$351,5,FALSE),0)","v":0},54]
["80301047","0301047","Hemólisis con sucrosa, test de",0,{"$f":"IFERROR(VLOOKUP($A55,Filtro!$A$5:$I$351,3,FALSE),0)","v":0},{"$f":"IFERROR(VLOOKUP($A55,Filtro!$A$5:$I$351,4,FALSE),0)","v":0},{"$f":"IFERROR(VLOOKUP($A55,Filtro!$A$5:$I$351,5,FALSE),0)","v":0},55]
["80301048","0301048","Hemosiderina medular",0,{"$f":"IFERROR(VLOOKUP($A56,Filtro!$A$5:$I$351,3,FALSE),0)","v":0},{"$f":"IFERROR(VLOOKUP($A56,Filtro!$A$5:$I$351,4,FALSE),0)","v":0},{"$f":"IFERROR(VLOOKUP($A56,Filtro!$A$5:$I$351,5,FALSE),0)","v":0},56]
["80301049","0301049","Heparina, cuantificación de",0,{"$f":"IFERROR(VLOOKUP($A57,Filtro!$A$5:$I$351,3,FALSE),0)","v":0},{"$f":"IFERROR(VLOOKUP($A57,Filtro!$A$5:$I$351,4,FALSE),0)","v":0},{"$f":"IFERROR(VLOOKUP($A57,Filtro!$A$5:$I$351,5,FALSE),0)","v":0},57]
["80301050","0301050","Isoinmunización, detección de anticuerpos irregulares (proc. aut.).",0,{"$f":"IFERROR(VLOOKUP($A58,Filtro!$A$5:$I$351,3,FALSE),0)","v":0},{"$f":"IFERROR(VLOOKUP($A58,Filtro!$A$5:$I$351,4,FALSE),0)","v":0},{"$f":"IFERROR(VLOOKUP($A58,Filtro!$A$5:$I$351,5,FALSE),0)","v":0},58]
["80301051","0301051","Isoinmunización, detección e identificación de anticuerpos",0,{"$f":"IFERROR(VLOOKUP($A59,Filtro!$A$5:$I$351,3,FALSE),0)","v":0},{"$f":"IFERROR(VLOOKUP($A59,Filtro!$A$5:$I$351,4,FALSE),0)","v":0},{"$f":"IFERROR(VLOOKUP($A59,Filtro!$A$5:$I$351,5,FALSE),0)","v":0},59]
["80301052","0301052","Isopropanol, test de",0,{"$f":"IFERROR(VLOOKUP($A60,Filtro!$A$5:$I$351,3,FALSE),0)","v":0},{"$f":"IFERROR(VLOOKUP($A60,Filtro!$A$5:$I$351,4,FALSE),0)","v":0},{"$f":"IFERROR(VLOOKUP($A60,Filtro!$A$5:$I$351,5,FALSE),0)","v":0},60]
["80301053","0301053","Metahemalbúmina",0,{"$f":"IFERROR(VLOOKUP($A61,Filtro!$A$5:$I$351,3,FALSE),0)","v":0},{"$f":"IFERROR(VLOOKUP($A61,Filtro!$A$5:$I$351,4,FALSE),0)","v":0},{"$f":"IFERROR(VLOOKUP($A61,Filtro!$A$5:$I$351,5,FALSE),0)","v":0},61]
["80301054","0301054","Metahemoglobina",0,{"$f":"IFERROR(VLOOKUP($A62,Filtro!$A$5:$I$351,3,FALSE),0)","v":0},{"$f":"IFERROR(VLOOKUP($A62,Filtro!$A$5:$I$351,4,FALSE),0)","v":0},{"$f":"IFERROR(VLOOKUP($A62,Filtro!$A$5:$I$351,5,FALSE),0)","v":0},62]
["80301055","0301055","Muraminidasa en eritrocitos",0,{"$f":"IFERROR(VLOOKUP($A63,Filtro!$A$5:$I$351,3,FALSE),0)","v":0},{"$f":"IFERROR(VLOOKUP($A63,Filtro!$A$5:$I$351,4,FALSE),0)","v":0},{"$f":"IFERROR(VLOOKUP($A63,Filtro!$A$5:$I$351,5,FALSE),0)","v":0},63]
["80301056","0301056","Piruvatoquinasa en eritrocitos",0,{"$f":"IFERROR(VLOOKUP($A64,Filtro!$A$5:$I$351,3,FALSE),0)","v":0},{"$f":"IFERROR(VLOOKUP($A64,Filtro!$A$5:$I$351,4,FALSE),0)","v":0},{"$f":"IFERROR(VLOOKUP($A64,Filtro!$A$5:$I$351,5,FALSE),0)","v":0},64]
["80301057","0301057","Protamina sulfato, determinación de",0,{"$f":"IFERROR(VLOOKUP($A65,Filtro!$A$5:$I$351,3,FALSE),0)","v":0},{"$f":"IFERROR(VLOOKUP($A65,Filtro!$A$5:$I$351,4,FALSE),0)","v":0},{"$f":"IFERROR(VLOOKUP($A65,Filtro!$A$5:$I$351,5,FALSE),0)","v":0},65]
["80301058","0301058","Protoporfirinas en eritrocitos",0,{"$f":"IFERROR(VLOOKUP($A66,Filtro!$A$5:$I$351,3,FALSE),0)","v":0},{"$f":"IFERROR(VLOOKUP($A66,Filtro!$A$5:$I$351,4,FALSE),0)","v":0},{"$f":"IFERROR(VLOOKUP($A66,Filtro!$A$5:$I$351,5,FALSE),0)","v":63},66]
["80301059","0301059","Protrombina, tiempo de o consumo de (incluye INR, Relación Internacional Normalizada)",{"v":2558,"d":"2,558"},{"$f":"IFERROR(VLOOKUP($A67,Filtro!$A$5:$I$351,3,FALSE),0)","v":0},{"$f":"IFERROR(VLOOKUP($A67,Filtro!$A$5:$I$351,4,FALSE),0)","v":{"v":2558,"d":"2,558"}},{"$f":"IFERROR(VLOOKUP($A67,Filtro!$A$5:$I$351,5,FALSE),0)","v":{"v":3446,"d":"3,446"}},67]
["80301062","0301062","Recuento de basófilos (absoluto)",0,{"$f":"IFERROR(VLOOKUP($A68,Filtro!$A$5:$I$351,3,FALSE),0)","v":0},{"$f":"IFERROR(VLOOKUP($A68,Filtro!$A$5:$I$351,4,FALSE),0)","v":0},{"$f":"IFERROR(VLOOKUP($A68,Filtro!$A$5:$I$351,5,FALSE),0)","v":0},68]
["80301063","0301063","Recuento de eosinófilos (absoluto)",0,{"$f":"IFERROR(VLOOKUP($A69,Filtro!$A$5:$I$351,3,FALSE),0)","v":0},{"$f":"IFERROR(VLOOKUP($A69,Filtro!$A$5:$I$351,4,FALSE),0)","v":0},{"$f":"IFERROR(VLOOKUP($A69,Filtro!$A$5:$I$351,5,FALSE),0)","v":0},69]
["80301064","0301064","Recuento de eritrocitos, absoluto (proc. aut.)",0,{"$f":"IFERROR(VLOOKUP($A70,Filtro!$A$5:$I$351,3,FALSE),0)","v":0},{"$f":"IFERROR(VLOOKUP($A70,Filtro!$A$5:$I$351,4,FALSE),0)","v":0},{"$f":"IFERROR(VLOOKUP($A70,Filtro!$A$5:$I$351,5,FALSE),0)","v":0},70]
["80301065","0301065","Recuento de leucocitos, absoluto (proc. aut.)",25,{"$f":"IFERROR(VLOOKUP($A71,Filtro!$A$5:$I$351,3,FALSE),0)","v":0},{"$f":"IFERROR(VLOOKUP($A71,Filtro!$A$5:$I$351,4,FALSE),0)","v":25},{"$f":"IFERROR(VLOOKUP($A71,Filtro!$A$5:$I$351,5,FALSE),0)","v":26},71]
["80301066","0301066","Recuento de linfocitos (absoluto)",0,{"$f":"IFERROR(VLOOKUP($A72,Filtro!$A$5:$I$351,3,FALSE),0)","v":0},{"$f":"IFERROR(VLOOKUP($A72,Filtro!$A$5:$I$351,4,FALSE),0)","v":0},{"$f":"IFERROR(VLOOKUP($A72,Filtro!$A$5:$I$351,5,FALSE),0)","v":0},72]
["80301067","0301067","Recuento de plaquetas (absoluto)",196,{"$f":"IFERROR(VLOOKUP($A73,Filtro!$A$5:$I$351,3,FALSE),0)","v":0},{"$f":"IFERROR(VLOOKUP($A73,Filtro!$A$5:$I$351,4,FALSE),0)","v":196},{"$f":"IFERROR(VLOOKUP($A73,Filtro!$A$5:$I$351,5,FALSE),0)","v":42},73]
["80301068","0301068","Recuento de reticulocitos (absoluto o porcentual)",0,{"$f":"IFERROR(VLOOKUP($A74,Filtro!$A$5:$I$351,3,FALSE),0)","v":0},{"$f":"IFERROR(VLOOKUP($A74,Filtro!$A$5:$I$351,4,FALSE),0)","v":0},{"$f":"IFERROR(VLOOKUP($A74,Filtro!$A$5:$I$351,5,FALSE),0)","v":9},74]
["80301069","0301069","Recuento diferencial o fórmula leucocitaria (proc. aut.)",0,{"$f":"IFERROR(VLOOKUP($A75,Filtro!$A$5:$I$351,3,FALSE),0)","v":0},{"$f":"IFERROR(VLOOKUP($A75,Filtro!$A$5:$I$351,4,FALSE),0)","v":0},{"$f":"IFERROR(VLOOKUP($A75,Filtro!$A$5:$I$351,5,FALSE),0)","v":0},75]
["80301070","0301070","Resistencia globular osmótica",0,{"$f":"IFERROR(VLOOKUP($A76,Filtro!$A$5:$I$351,3,FALSE),0)","v":0},{"$f":"IFERROR(VLOOKUP($A76,Filtro!$A$5:$I$351,4,FALSE),0)","v":0},{"$f":"IFERROR(VLOOKUP($A76,Filtro!$A$5:$I$351,5,FALSE),0)","v":0},76]
["80301071","0301071","Sacarosa, prueba de la",0,{"$f":"IFERROR(VLOOKUP($A77,Filtro!$A$5:$I$351,3,FALSE),0)","v":0},{"$f":"IFERROR(VLOOKUP($A77,Filtro!$A$5:$I$351,4,FALSE),0)","v":0},{"$f":"IFERROR(VLOOKUP($A77,Filtro!$A$5:$I$351,5,FALSE),0)","v":0},77]
["80301072","0301072","Sangría, tiempo de (Ivy) (no incluye dispositivo asociado )",{"$f":"SUM(E78:F78)","v":31},{"$f":"IFERROR(VLOOKUP($A78,Filtro!$A$5:$I$351,3,FALSE),0)","v":0},{"$f":"IFERROR(VLOOKUP($A78,Filtro!$A$5:$I$351,4,FALSE),0)","v":31},{"$f":"IFERROR(VLOOKUP($A78,Filtro!$A$5:$I$351,5,FALSE),0)","v":0},78]
["80301074","0301074","Sobrevida del eritrocito (Cr 51 o similar)",0,{"$f":"IFERROR(VLOOKUP($A79,Filtro!$A$5:$I$351,3,FALSE),0)","v":0},{"$f":"IFERROR(VLOOKUP($A79,Filtro!$A$5:$I$351,4,FALSE),0)","v":0},{"$f":"IFERROR(VLOOKUP($A79,Filtro!$A$5:$I$351,5,FALSE),0)","v":0},79]
["80301075","0301075","Subgrupo ABO y Rh fenotipo - genotipo Rh, c/u",0,{"$f":"IFERROR(VLOOKUP($A80,Filtro!$A$5:$I$351,3,FALSE),0)","v":0},{"$f":"IFERROR(VLOOKUP($A80,Filtro!$A$5:$I$351,4,FALSE),0)","v":0},{"$f":"IFERROR(VLOOKUP($A80,Filtro!$A$5:$I$351,5,FALSE),0)","v":137},80]
["80301076","0301076","Thorn, prueba de (no incluye ACTH)",0,{"$f":"IFERROR(VLOOKUP($A81,Filtro!$A$5:$I$351,3,FALSE),0)","v":0},{"$f":"IFERROR(VLOOKUP($A81,Filtro!$A$5:$I$351,4,FALSE),0)","v":0},{"$f":"IFERROR(VLOOKUP($A81,Filtro!$A$5:$I$351,5,FALSE),0)","v":0},81]
["80301077","0301077","Tinción de estearasa",0,{"$f":"IFERROR(VLOOKUP($A82,Filtro!$A$5:$I$351,3,FALSE),0)","v":0},{"$f":"IFERROR(VLOOKUP($A82,Filtro!$A$5:$I$351,4,FALSE),0)","v":0},{"$f":"IFERROR(VLOOKUP($A82,Filtro!$A$5:$I$351,5,FALSE),0)","v":5},82]
["80301078","0301078","Tinción de fosfatasas alcalinas o ácidas",0,{"$f":"IFERROR(VLOOKUP($A83,Filtro!$A$5:$I$351,3,FALSE),0)","v":0},{"$f":"IFERROR(VLOOKUP($A83,Filtro!$A$5:$I$351,4,FALSE),0)","v":0},{"$f":"IFERROR(VLOOKUP($A83,Filtro!$A$5:$I$351,5,FALSE),0)","v":18},83]
["80301079","0301079","Tinción de glicógeno o PAS",0,{"$f":"IFERROR(VLOOKUP($A84,Filtro!$A$5:$I$351,3,FALSE),0)","v":0},{"$f":"IFERROR(VLOOKUP($A84,Filtro!$A$5:$I$351,4,FALSE),0)","v":0},{"$f":"IFERROR(VLOOKUP($A84,Filtro!$A$5:$I$351,5,FALSE),0)","v":0},84]
["80301080","0301080","Tinción de lípidos",0,{"$f":"IFERROR(VLOOKUP($A85,Filtro!$A$5:$I$351,3,FALSE),0)","v":0},{"$f":"IFERROR(VLOOKUP($A85,Filtro!$A$5:$I$351,4,FALSE),0)","v":0},{"$f":"IFERROR(VLOOKUP($A85,Filtro!$A$5:$I$351,5,FALSE),0)","v":0},85]
["80301081","0301081","Tinción de peroxidasas",0,{"$f":"IFERROR(VLOOKUP($A86,Filtro!$A$5:$I$351,3,FALSE),0)","v":0},{"$f":"IFERROR(VLOOKUP($A86,Filtro!$A$5:$I$351,4,FALSE),0)","v":0},{"$f":"IFERROR(VLOOKUP($A86,Filtro!$A$5:$I$351,5,FALSE),0)","v":0},86]
["80301082","0301082","Transferrina",0,{"$f":"IFERROR(VLOOKUP($A87,Filtro!$A$5:$I$351,3,FALSE),0)","v":0},{"$f":"IFERROR(VLOOKUP($A87,Filtro!$A$5:$I$351,4,FALSE),0)","v":0},{"$f":"IFERROR(VLOOKUP($A87,Filtro!$A$5:$I$351,5,FALSE),0)","v":0},87]
["80301083","0301083","Trombina, tiempo de",0,{"$f":"IFERROR(VLOOKUP($A88,Filtro!$A$5:$I$351,3,FALSE),0)","v":0},{"$f":"IFERROR(VLOOKUP($A88,Filtro!$A$5:$I$351,4,FALSE),0)","v":0},{"$f":"IFERROR(VLOOKUP($A88,Filtro!$A$5:$I$351,5,FALSE),0)","v":274},88]
["80301085","0301085","Tromboplastina, tiempo parcial de (TTPA, TTPK o similares)",914,{"$f":"IFERROR(VLOOKUP($A89,Filtro!$A$5:$I$351,3,FALSE),0)","v":0},{"$f":"IFERROR(VLOOKUP($A89,Filtro!$A$5:$I$351,4,FALSE),0)","v":914},{"$f":"IFERROR(VLOOKUP($A89,Filtro!$A$5:$I$351,5,FALSE),0)","v":{"v":1914,"d":"1,914"}},89]
["80301086","0301086","Velocidad de eritrosedimentación (proc. aut.)",{"v":9960,"d":"9,960"},{"$f":"IFERROR(VLOOKUP($A90,Filtro!$A$5:$I$351,3,FALSE),0)","v":0},{"$f":"IFERROR(VLOOKUP($A90,Filtro!$A$5:$I$351,4,FALSE),0)","v":{"v":9960,"d":"9,960"}},{"$f":"IFERROR(VLOOKUP($A90,Filtro!$A$5:$I$351,5,FALSE),0)","v":{"v":2161,"d":"2,161"}},90]
["80301087","0301087","Vitamina B12, absorción de (Co 57 o similar)",50,{"$f":"IFERROR(VLOOKUP($A91,Filtro!$A$5:$I$351,3,FALSE),0)","v":0},{"$f":"IFERROR(VLOOKUP($A91,Filtro!$A$5:$I$351,4,FALSE),0)","v":50},{"$f":"IFERROR(VLOOKUP($A91,Filtro!$A$5:$I$351,5,FALSE),0)","v":{"v":2632,"d":"2,632"}},91]
["80301088","0301088","Volemia (incluye volumen globular total, volumen plasmático total y volumen sanguíneo total)",0,{"$f":"IFERROR(VLOOKUP($A92,Filtro!$A$5:$I$351,3,FALSE),0)","v":0},{"$f":"IFERROR(VLOOKUP($A92,Filtro!$A$5:$I$351,4,FALSE),0)","v":0},{"$f":"IFERROR(VLOOKUP($A92,Filtro!$A$5:$I$351,5,FALSE),0)","v":0},92]
["80301089","0301089","Von Willebrand, Ag de (factor VIII Ag.)",0,{"$f":"IFERROR(VLOOKUP($A93,Filtro!$A$5:$I$351,3,FALSE),0)","v":0},{"$f":"IFERROR(VLOOKUP($A93,Filtro!$A$5:$I$351,4,FALSE),0)","v":0},{"$f":"IFERROR(VLOOKUP($A93,Filtro!$A$5:$I$351,5,FALSE),0)","v":0},93]
["80301090","0301090","Cofactor de Ristocetina",0,{"$f":"IFERROR(VLOOKUP($A94,Filtro!$A$5:$I$351,3,FALSE),0)","v":0},{"$f":"IFERROR(VLOOKUP($A94,Filtro!$A$5:$I$351,4,FALSE),0)","v":0},{"$f":"IFERROR(VLOOKUP($A94,Filtro!$A$5:$I$351,5,FALSE),0)","v":0},94]
["80301091","0301091","Proteína C",0,{"$f":"IFERROR(VLOOKUP($A95,Filtro!$A$5:$I$351,3,FALSE),0)","v":0},{"$f":"IFERROR(VLOOKUP($A95,Filtro!$A$5:$I$351,4,FALSE),0)","v":0},{"$f":"IFERROR(VLOOKUP($A95,Filtro!$A$5:$I$351,5,FALSE),0)","v":0},95]
["80301092","0301092","Proteína S",0,{"$f":"IFERROR(VLOOKUP($A96,Filtro!$A$5:$I$351,3,FALSE),0)","v":0},{"$f":"IFERROR(VLOOKUP($A96,Filtro!$A$5:$I$351,4,FALSE),0)","v":0},{"$f":"IFERROR(VLOOKUP($A96,Filtro!$A$5:$I$351,5,FALSE),0)","v":0},96]
["80301093","0301093","Resistencia Proteína C",0,{"$f":"IFERROR(VLOOKUP($A97,Filtro!$A$5:$I$351,3,FALSE),0)","v":0},{"$f":"IFERROR(VLOOKUP($A97,Filtro!$A$5:$I$351,4,FALSE),0)","v":0},{"$f":"IFERROR(VLOOKUP($A97,Filtro!$A$5:$I$351,5,FALSE),0)","v":0},97]
[null,"TOTAL",null,{"$f":"SUM(D13:D97)","v":{"v":79169,"d":"79,169"}},{"$f":"SUM(E13:E97)","v":0},{"$f":"SUM(F13:F97)","v":{"v":79169,"d":"79,169"}},{"$f":"SUM(G13:G97)","v":{"v":212425,"d":"212,425"}},98]
[{"$nulls":7},99]
[null,"SANGRE BIOQUÍMICO",{"$nulls":5},100]
["80302001","0302001","Acetona cualitativa",{"$f":"SUM(E101:F101)","v":0},{"$f":"IFERROR(VLOOKUP($A101,Filtro!$A$5:$I$351,3,FALSE),0)","v":0},{"$f":"IFERROR(VLOOKUP($A101,Filtro!$A$5:$I$351,4,FALSE),0)","v":0},{"$f":"IFERROR(VLOOKUP($A101,Filtro!$A$5:$I$351,5,FALSE),0)","v":0},101]
["80302002","0302002","Acido cítrico",0,{"$f":"IFERROR(VLOOKUP($A102,Filtro!$A$5:$I$351,3,FALSE),0)","v":0},{"$f":"IFERROR(VLOOKUP($A102,Filtro!$A$5:$I$351,4,FALSE),0)","v":0},{"$f":"IFERROR(VLOOKUP($A102,Filtro!$A$5:$I$351,5,FALSE),0)","v":0},102]
["80302004","0302004","Acido láctico",0,{"$f":"IFERROR(VLOOKUP($A103,Filtro!$A$5:$I$351,3,FALSE),0)","v":0},{"$f":"IFERROR(VLOOKUP($A103,Filtro!$A$5:$I$351,4,FALSE),0)","v":0},{"$f":"IFERROR(VLOOKUP($A103,Filtro!$A$5:$I$351,5,FALSE),0)","v":104},103]
["80302005","0302005","Acido úrico, en sangre",{"v":23980,"d":"23,980"},{"$f":"IFERROR(VLOOKUP($A104,Filtro!$A$5:$I$351,3,FALSE),0)","v":0},{"$f":"IFERROR(VLOOKUP($A104,Filtro!$A$5:$I$351,4,FALSE),0)","v":{"v":23980,"d":"23,980"}},{"$f":"IFERROR(VLOOKUP($A104,Filtro!$A$5:$I$351,5,FALSE),0)","v":{"v":42283,"d":"42,283"}},104]
["80302006","0302006","Alcohol etílico",0,{"$f":"IFERROR(VLOOKUP($A105,Filtro!$A$5:$I$351,3,FALSE),0)","v":0},{"$f":"IFERROR(VLOOKUP($A105,Filtro!$A$5:$I$351,4,FALSE),0)","v":0},{"$f":"IFERROR(VLOOKUP($A105,Filtro!$A$5:$I$351,5,FALSE),0)","v":0},105]
["80302007","0302007","Aldolasa",0,{"$f":"IFERROR(VLOOKUP($A106,Filtro!$A$5:$I$351,3,FALSE),0)","v":0},{"$f":"IFERROR(VLOOKUP($A106,Filtro!$A$5:$I$351,4,FALSE),0)","v":0},{"$f":"IFERROR(VLOOKUP($A106,Filtro!$A$5:$I$351,5,FALSE),0)","v":0},106]
["80302008","0302008","Amilasa, en sangre",0,{"$f":"IFERROR(VLOOKUP($A107,Filtro!$A$5:$I$351,3,FALSE),0)","v":0},{"$f":"IFERROR(VLOOKUP($A107,Filtro!$A$5:$I$351,4,FALSE),0)","v":0},{"$f":"IFERROR(VLOOKUP($A107,Filtro!$A$5:$I$351,5,FALSE),0)","v":84},107]
["80302009","0302009","Aminoácidos, cualitativo en sangre",0,{"$f":"IFERROR(VLOOKUP($A108,Filtro!$A$5:$I$351,3,FALSE),0)","v":0},{"$f":"IFERROR(VLOOKUP($A108,Filtro!$A$5:$I$351,4,FALSE),0)","v":0},{"$f":"IFERROR(VLOOKUP($A108,Filtro!$A$5:$I$351,5,FALSE),0)","v":0},108]
["80302010","0302010","Amonio",0,{"$f":"IFERROR(VLOOKUP($A109,Filtro!$A$5:$I$351,3,FALSE),0)","v":0},{"$f":"IFERROR(VLOOKUP($A109,Filtro!$A$5:$I$351,4,FALSE),0)","v":0},{"$f":"IFERROR(VLOOKUP($A109,Filtro!$A$5:$I$351,5,FALSE),0)","v":0},109]
["80302070","0302070","Apolipoproteínas (A1, B u otras)",0,{"$f":"IFERROR(VLOOKUP($A110,Filtro!$A$5:$I$351,3,FALSE),0)","v":0},{"$f":"IFERROR(VLOOKUP($A110,Filtro!$A$5:$I$351,4,FALSE),0)","v":0},{"$f":"IFERROR(VLOOKUP($A110,Filtro!$A$5:$I$351,5,FALSE),0)","v":0},110]
["80302011","0302011","Bicarbonato (proc. aut.)",0,{"$f":"IFERROR(VLOOKUP($A111,Filtro!$A$5:$I$351,3,FALSE),0)","v":0},{"$f":"IFERROR(VLOOKUP($A111,Filtro!$A$5:$I$351,4,FALSE),0)","v":0},{"$f":"IFERROR(VLOOKUP($A111,Filtro!$A$5:$I$351,5,FALSE),0)","v":0},111]
["80302012","0302012","Bilirrubina total (proc. aut.)",183,{"$f":"IFERROR(VLOOKUP($A112,Filtro!$A$5:$I$351,3,FALSE),0)","v":0},{"$f":"IFERROR(VLOOKUP($A112,Filtro!$A$5:$I$351,4,FALSE),0)","v":183},{"$f":"IFERROR(VLOOKUP($A112,Filtro!$A$5:$I$351,5,FALSE),0)","v":745},112]
["80302013","0302013","Bilirrubina total y conjugada",771,{"$f":"IFERROR(VLOOKUP($A113,Filtro!$A$5:$I$351,3,FALSE),0)","v":0},{"$f":"IFERROR(VLOOKUP($A113,Filtro!$A$5:$I$351,4,FALSE),0)","v":771},{"$f":"IFERROR(VLOOKUP($A113,Filtro!$A$5:$I$351,5,FALSE),0)","v":{"v":7607,"d":"7,607"}},113]
["80302014","0302014","Bromosulftaleína, prueba de (incluye medicamento y tomas de muestra)",0,{"$f":"IFERROR(VLOOKUP($A114,Filtro!$A$5:$I$351,3,FALSE),0)","v":0},{"$f":"IFERROR(VLOOKUP($A114,Filtro!$A$5:$I$351,4,FALSE),0)","v":0},{"$f":"IFERROR(VLOOKUP($A114,Filtro!$A$5:$I$351,5,FALSE),0)","v":0},114]
["80302015","0302015","Calcio en sangre",39,{"$f":"IFERROR(VLOOKUP($A115,Filtro!$A$5:$I$351,3,FALSE),0)","v":0},{"$f":"IFERROR(VLOOKUP($A115,Filtro!$A$5:$I$351,4,FALSE),0)","v":39},{"$f":"IFERROR(VLOOKUP($A115,Filtro!$A$5:$I$351,5,FALSE),0)","v":{"v":1917,"d":"1,917"}},115]
["80302016","0302016","Calcio iónico, incluye proteínas totales",0,{"$f":"IFERROR(VLOOKUP($A116,Filtro!$A$5:$I$351,3,FALSE),0)","v":0},{"$f":"IFERROR(VLOOKUP($A116,Filtro!$A$5:$I$351,4,FALSE),0)","v":0},{"$f":"IFERROR(VLOOKUP($A116,Filtro!$A$5:$I$351,5,FALSE),0)","v":2},116]
["80302017","0302017","Caroteno",0,{"$f":"IFERROR(VLOOKUP($A117,Filtro!$A$5:$I$351,3,FALSE),0)","v":0},{"$f":"IFERROR(VLOOKUP($A117,Filtro!$A$5:$I$351,4,FALSE),0)","v":0},{"$f":"IFERROR(VLOOKUP($A117,Filtro!$A$5:$I$351,5,FALSE),0)","v":0},117]
["80302018","0302018","Caroteno, prueba de sobrecarga de (incluye tomas de muestra)",0,{"$f":"IFERROR(VLOOKUP($A118,Filtro!$A$5:$I$351,3,FALSE),0)","v":0},{"$f":"IFERROR(VLOOKUP($A118,Filtro!$A$5:$I$351,4,FALSE),0)","v":0},{"$f":"IFERROR(VLOOKUP($A118,Filtro!$A$5:$I$351,5,FALSE),0)","v":0},118]
["80302019","0302019","Ceruloplasmina",0,{"$f":"IFERROR(VLOOKUP($A119,Filtro!$A$5:$I$351,3,FALSE),0)","v":0},{"$f":"IFERROR(VLOOKUP($A119,Filtro!$A$5:$I$351,4,FALSE),0)","v":0},{"$f":"IFERROR(VLOOKUP($A119,Filtro!$A$5:$I$351,5,FALSE),0)","v":20},119]
["80302020","0302020","Cobre",68,{"$f":"IFERROR(VLOOKUP($A120,Filtro!$A$5:$I$351,3,FALSE),0)","v":0},{"$f":"IFERROR(VLOOKUP($A120,Filtro!$A$5:$I$351,4,FALSE),0)","v":68},{"$f":"IFERROR(VLOOKUP($A120,Filtro!$A$5:$I$351,5,FALSE),0)","v":1},120]
["80302067","0302067","Colesterol total (proc. aut.)",{"v":3328,"d":"3,328"},{"$f":"IFERROR(VLOOKUP($A121,Filtro!$A$5:$I$351,3,FALSE),0)","v":0},{"$f":"IFERROR(VLOOKUP($A121,Filtro!$A$5:$I$351,4,FALSE),0)","v":{"v":3328,"d":"3,328"}},{"$f":"IFERROR(VLOOKUP($A121,Filtro!$A$5:$I$351,5,FALSE),0)","v":{"v":58781,"d":"58,781"}},121]
["80302068","0302068","Colesterol HDL (proc. aut.)",819,{"$f":"IFERROR(VLOOKUP($A122,Filtro!$A$5:$I$351,3,FALSE),0)","v":0},{"$f":"IFERROR(VLOOKUP($A122,Filtro!$A$5:$I$351,4,FALSE),0)","v":819},{"$f":"IFERROR(VLOOKUP($A122,Filtro!$A$5:$I$351,5,FALSE),0)","v":{"v":51289,"d":"51,289"}},122]
["80302021","0302021","Colinesterasa en plasma o sangre total",0,{"$f":"IFERROR(VLOOKUP($A123,Filtro!$A$5:$I$351,3,FALSE),0)","v":0},{"$f":"IFERROR(VLOOKUP($A123,Filtro!$A$5:$I$351,4,FALSE),0)","v":0},{"$f":"IFERROR(VLOOKUP($A123,Filtro!$A$5:$I$351,5,FALSE),0)","v":581},123]
["80302022","0302022","Creatina",292,{"$f":"IFERROR(VLOOKUP($A124,Filtro!$A$5:$I$351,3,FALSE),0)","v":0},{"$f":"IFERROR(VLOOKUP($A124,Filtro!$A$5:$I$351,4,FALSE),0)","v":292},{"$f":"IFERROR(VLOOKUP($A124,Filtro!$A$5:$I$351,5,FALSE),0)","v":{"v":2046,"d":"2,046"}},124]
["80302023","0302023","Creatinina en sangre",{"v":35599,"d":"35,599"},{"$f":"IFERROR(VLOOKUP($A125,Filtro!$A$5:$I$351,3,FALSE),0)","v":0},{"$f":"IFERROR(VLOOKUP($A125,Filtro!$A$5:$I$351,4,FALSE),0)","v":{"v":35599,"d":"35,599"}},{"$f":"IFERROR(VLOOKUP($A125,Filtro!$A$5:$I$351,5,FALSE),0)","v":{"v":93832,"d":"93,832"}},125]
["80302024","0302024","Creatinina, depuración de (Clearence) (proc. aut.)",172,{"$f":"IFERROR(VLOOKUP($A126,Filtro!$A$5:$I$351,3,FALSE),0)","v":0},{"$f":"IFERROR(VLOOKUP($A126,Filtro!$A$5:$I$351,4,FALSE),0)","v":172},{"$f":"IFERROR(VLOOKUP($A126,Filtro!$A$5:$I$351,5,FALSE),0)","v":252},126]
["80302025","0302025","Creatinquinasa CK - MB  miocárdica",0,{"$f":"IFERROR(VLOOKUP($A127,Filtro!$A$5:$I$351,3,FALSE),0)","v":0},{"$f":"IFERROR(VLOOKUP($A127,Filtro!$A$5:$I$351,4,FALSE),0)","v":0},{"$f":"IFERROR(VLOOKUP($A127,Filtro!$A$5:$I$351,5,FALSE),0)","v":15},127]
["80302026","0302026","Creatinquinasa CK - total",1,{"$f":"IFERROR(VLOOKUP($A128,Filtro!$A$5:$I$351,3,FALSE),0)","v":0},{"$f":"IFERROR(VLOOKUP($A128,Filtro!$A$5:$I$351,4,FALSE),0)","v":1},{"$f":"IFERROR(VLOOKUP($A128,Filtro!$A$5:$I$351,5,FALSE),0)","v":416},128]
["80302028","0302028","Depuraciones (Clearance) exógenas de Hipurán, Rojo Congo, manitol e inulina, c/u (no incluye medicamento)",32,{"$f":"IFERROR(VLOOKUP($A129,Filtro!$A$5:$I$351,3,FALSE),0)","v":0},{"$f":"IFERROR(VLOOKUP($A129,Filtro!$A$5:$I$351,4,FALSE),0)","v":32},{"$f":"IFERROR(VLOOKUP($A129,Filtro!$A$5:$I$351,5,FALSE),0)","v":1},129]
["80302029","0302029","Deshidrogenasa hidroxibutírica (HBDH)",0,{"$f":"IFERROR(VLOOKUP($A130,Filtro!$A$5:$I$351,3,FALSE),0)","v":0},{"$f":"IFERROR(VLOOKUP($A130,Filtro!$A$5:$I$351,4,FALSE),0)","v":0},{"$f":"IFERROR(VLOOKUP($A130,Filtro!$A$5:$I$351,5,FALSE),0)","v":0},130]
["80302030","0302030","Deshidrogenasa láctica total (LDH)",26,{"$f":"IFERROR(VLOOKUP($A131,Filtro!$A$5:$I$351,3,FALSE),0)","v":0},{"$f":"IFERROR(VLOOKUP($A131,Filtro!$A$5:$I$351,4,FALSE),0)","v":26},{"$f":"IFERROR(VLOOKUP($A131,Filtro!$A$5:$I$351,5,FALSE),0)","v":527},131]
["80302031","0302031","Deshidrogenasa láctica total (LDH), con separación de isoenzimas",0,{"$f":"IFERROR(VLOOKUP($A132,Filtro!$A$5:$I$351,3,FALSE),0)","v":0},{"$f":"IFERROR(VLOOKUP($A132,Filtro!$A$5:$I$351,4,FALSE),0)","v":0},{"$f":"IFERROR(VLOOKUP($A132,Filtro!$A$5:$I$351,5,FALSE),0)","v":269},132]
["80302032","0302032","Electrolitos plasmáticos (sodio, potasio, cloro) c/u",{"v":64723,"d":"64,723"},{"$f":"IFERROR(VLOOKUP($A133,Filtro!$A$5:$I$351,3,FALSE),0)","v":0},{"$f":"IFERROR(VLOOKUP($A133,Filtro!$A$5:$I$351,4,FALSE),0)","v":{"v":64723,"d":"64,723"}},{"$f":"IFERROR(VLOOKUP($A133,Filtro!$A$5:$I$351,5,FALSE),0)","v":{"v":79317,"d":"79,317"}},133]
["80302033","0302033","Enzima convertidora de angiotensina I",0,{"$f":"IFERROR(VLOOKUP($A134,Filtro!$A$5:$I$351,3,FALSE),0)","v":0},{"$f":"IFERROR(VLOOKUP($A134,Filtro!$A$5:$I$351,4,FALSE),0)","v":0},{"$f":"IFERROR(VLOOKUP($A134,Filtro!$A$5:$I$351,5,FALSE),0)","v":{"v":1270,"d":"1,270"}},134]
["80302034","0302034","Perfil Lipídico (incluye: colesterol total, HDL, LDL, VLDL y triglicéridos) ",{"v":42144,"d":"42,144"},{"$f":"IFERROR(VLOOKUP($A135,Filtro!$A$5:$I$351,3,FALSE),0)","v":0},{"$f":"IFERROR(VLOOKUP($A135,Filtro!$A$5:$I$351,4,FALSE),0)","v":{"v":42144,"d":"42,144"}},{"$f":"IFERROR(VLOOKUP($A135,Filtro!$A$5:$I$351,5,FALSE),0)","v":{"v":65991,"d":"65,991"}},135]
["80302035","0302035","Fármacos y/o drogas; niveles plasmáticos de (alcohol, anorexígenos, antiarrítmicos, antibióticos, antidepresivos, antiepilépticos, antihistamínicos, antiinflamatorios y analgésicos, estimulantes respiratorios, tranquilizantes mayores y menores, etc.) c/u",0,{"$f":"IFERROR(VLOOKUP($A136,Filtro!$A$5:$I$351,3,FALSE),0)","v":0},{"$f":"IFERROR(VLOOKUP($A136,Filtro!$A$5:$I$351,4,FALSE),0)","v":0},{"$f":"IFERROR(VLOOKUP($A136,Filtro!$A$5:$I$351,5,FALSE),0)","v":152},136]
["80302036","0302036","Fenilalanina",0,{"$f":"IFERROR(VLOOKUP($A137,Filtro!$A$5:$I$351,3,FALSE),0)","v":0},{"$f":"IFERROR(VLOOKUP($A137,Filtro!$A$5:$I$351,4,FALSE),0)","v":0},{"$f":"IFERROR(VLOOKUP($A137,Filtro!$A$5:$I$351,5,FALSE),0)","v":0},137]
["80302037","0302037","Fosfatasas ácidas totales",0,{"$f":"IFERROR(VLOOKUP($A138,Filtro!$A$5:$I$351,3,FALSE),0)","v":0},{"$f":"IFERROR(VLOOKUP($A138,Filtro!$A$5:$I$351,4,FALSE),0)","v":0},{"$f":"IFERROR(VLOOKUP($A138,Filtro!$A$5:$I$351,5,FALSE),0)","v":0},138]
["80302038","0302038","Fosfatasas ácidas totales y fracción prostática",0,{"$f":"IFERROR(VLOOKUP($A139,Filtro!$A$5:$I$351,3,FALSE),0)","v":0},{"$f":"IFERROR(VLOOKUP($A139,Filtro!$A$5:$I$351,4,FALSE),0)","v":0},{"$f":"IFERROR(VLOOKUP($A139,Filtro!$A$5:$I$351,5,FALSE),0)","v":0},139]
["80302039","0302039","Fosfatasas alcalinas con separación de isoenzimas hepáticas, intestinales, óseas c/u",0,{"$f":"IFERROR(VLOOKUP($A140,Filtro!$A$5:$I$351,3,FALSE),0)","v":0},{"$f":"IFERROR(VLOOKUP($A140,Filtro!$A$5:$I$351,4,FALSE),0)","v":0},{"$f":"IFERROR(VLOOKUP($A140,Filtro!$A$5:$I$351,5,FALSE),0)","v":4},140]
["80302040","0302040","Fosfatasas alcalinas totales",350,{"$f":"IFERROR(VLOOKUP($A141,Filtro!$A$5:$I$351,3,FALSE),0)","v":0},{"$f":"IFERROR(VLOOKUP($A141,Filtro!$A$5:$I$351,4,FALSE),0)","v":350},{"$f":"IFERROR(VLOOKUP($A141,Filtro!$A$5:$I$351,5,FALSE),0)","v":{"v":6761,"d":"6,761"}},141]
["80302041","0302041","Fosfolípidos",0,{"$f":"IFERROR(VLOOKUP($A142,Filtro!$A$5:$I$351,3,FALSE),0)","v":0},{"$f":"IFERROR(VLOOKUP($A142,Filtro!$A$5:$I$351,4,FALSE),0)","v":0},{"$f":"IFERROR(VLOOKUP($A142,Filtro!$A$5:$I$351,5,FALSE),0)","v":0},142]
["80302042","0302042","Fósforo (fosfatos) en sangre",30,{"$f":"IFERROR(VLOOKUP($A143,Filtro!$A$5:$I$351,3,FALSE),0)","v":0},{"$f":"IFERROR(VLOOKUP($A143,Filtro!$A$5:$I$351,4,FALSE),0)","v":30},{"$f":"IFERROR(VLOOKUP($A143,Filtro!$A$5:$I$351,5,FALSE),0)","v":442},143]
["80302043","0302043","Galactosa",0,{"$f":"IFERROR(VLOOKUP($A144,Filtro!$A$5:$I$351,3,FALSE),0)","v":0},{"$f":"IFERROR(VLOOKUP($A144,Filtro!$A$5:$I$351,4,FALSE),0)","v":0},{"$f":"IFERROR(VLOOKUP($A144,Filtro!$A$5:$I$351,5,FALSE),0)","v":0},144]
["80302044","0302044","Galactosa, curva de tolerancia, (mínimo cuatro determinaciones) (no incluye la galactosa que se administra) (incluye los valores de todas las tomas de muestras necesarias)",0,{"$f":"IFERROR(VLOOKUP($A145,Filtro!$A$5:$I$351,3,FALSE),0)","v":0},{"$f":"IFERROR(VLOOKUP($A145,Filtro!$A$5:$I$351,4,FALSE),0)","v":0},{"$f":"IFERROR(VLOOKUP($A145,Filtro!$A$5:$I$351,5,FALSE),0)","v":0},145]
["80302045","0302045","Gamma glutamiltranspeptidasa (GGT)",243,{"$f":"IFERROR(VLOOKUP($A146,Filtro!$A$5:$I$351,3,FALSE),0)","v":0},{"$f":"IFERROR(VLOOKUP($A146,Filtro!$A$5:$I$351,4,FALSE),0)","v":243},{"$f":"IFERROR(VLOOKUP($A146,Filtro!$A$5:$I$351,5,FALSE),0)","v":917},146]
["80302046","0302046","Gases y equilibrio ácido base en sangre (incluye: pH, O2, CO2, exceso de base y bicarbonato), todos o cada uno de los parámetros",0,{"$f":"IFERROR(VLOOKUP($A147,Filtro!$A$5:$I$351,3,FALSE),0)","v":0},{"$f":"IFERROR(VLOOKUP($A147,Filtro!$A$5:$I$351,4,FALSE),0)","v":0},{"$f":"IFERROR(VLOOKUP($A147,Filtro!$A$5:$I$351,5,FALSE),0)","v":0},147]
["80302047","0302047","Glucosa en sangre",{"v":48753,"d":"48,753"},{"$f":"IFERROR(VLOOKUP($A148,Filtro!$A$5:$I$351,3,FALSE),0)","v":0},{"$f":"IFERROR(VLOOKUP($A148,Filtro!$A$5:$I$351,4,FALSE),0)","v":{"v":48753,"d":"48,753"}},{"$f":"IFERROR(VLOOKUP($A148,Filtro!$A$5:$I$351,5,FALSE),0)","v":{"v":122358,"d":"122,358"}},148]
["80302048","0302048","Glucosa, Prueba de Tolerancia a la Glucosa Oral (PTGO), (dos determinaciones) (no incluye la glucosa que se administra) (incluye el valor de las dos tomas de muestras)",{"v":4200,"d":"4,200"},{"$f":"IFERROR(VLOOKUP($A149,Filtro!$A$5:$I$351,3,FALSE),0)","v":0},{"$f":"IFERROR(VLOOKUP($A149,Filtro!$A$5:$I$351,4,FALSE),0)","v":{"v":4200,"d":"4,200"}},{"$f":"IFERROR(VLOOKUP($A149,Filtro!$A$5:$I$351,5,FALSE),0)","v":{"v":8909,"d":"8,909"}},149]
["80302050","0302050","Adenosindeaminasa en sangre u otro fluído biológico.",0,{"$f":"IFERROR(VLOOKUP($A150,Filtro!$A$5:$I$351,3,FALSE),0)","v":0},{"$f":"IFERROR(VLOOKUP($A150,Filtro!$A$5:$I$351,4,FALSE),0)","v":0},{"$f":"IFERROR(VLOOKUP($A150,Filtro!$A$5:$I$351,5,FALSE),0)","v":19},150]
["80302051","0302051","Lactosa, curva de tolerancia, (mínimo cuatro determinaciones) (no incluye la lactosa que se administra) (incluye los valores de todas las tomas de muestras necesarias)",0,{"$f":"IFERROR(VLOOKUP($A151,Filtro!$A$5:$I$351,3,FALSE),0)","v":0},{"$f":"IFERROR(VLOOKUP($A151,Filtro!$A$5:$I$351,4,FALSE),0)","v":0},{"$f":"IFERROR(VLOOKUP($A151,Filtro!$A$5:$I$351,5,FALSE),0)","v":27},151]
["80302052","0302052","Leucinaminopeptidasa (LAP)",0,{"$f":"IFERROR(VLOOKUP($A152,Filtro!$A$5:$I$351,3,FALSE),0)","v":0},{"$f":"IFERROR(VLOOKUP($A152,Filtro!$A$5:$I$351,4,FALSE),0)","v":0},{"$f":"IFERROR(VLOOKUP($A152,Filtro!$A$5:$I$351,5,FALSE),0)","v":0},152]
["80302053","0302053","Lipasa",0,{"$f":"IFERROR(VLOOKUP($A153,Filtro!$A$5:$I$351,3,FALSE),0)","v":0},{"$f":"IFERROR(VLOOKUP($A153,Filtro!$A$5:$I$351,4,FALSE),0)","v":0},{"$f":"IFERROR(VLOOKUP($A153,Filtro!$A$5:$I$351,5,FALSE),0)","v":5},153]
["80302069","0302069","Lípidos totales (proc. aut.)",0,{"$f":"IFERROR(VLOOKUP($A154,Filtro!$A$5:$I$351,3,FALSE),0)","v":0},{"$f":"IFERROR(VLOOKUP($A154,Filtro!$A$5:$I$351,4,FALSE),0)","v":0},{"$f":"IFERROR(VLOOKUP($A154,Filtro!$A$5:$I$351,5,FALSE),0)","v":{"v":2525,"d":"2,525"}},154]
["80302054","0302054","Lipoproteínas, electroforesis de (incluye lípidos totales)",0,{"$f":"IFERROR(VLOOKUP($A155,Filtro!$A$5:$I$351,3,FALSE),0)","v":0},{"$f":"IFERROR(VLOOKUP($A155,Filtro!$A$5:$I$351,4,FALSE),0)","v":0},{"$f":"IFERROR(VLOOKUP($A155,Filtro!$A$5:$I$351,5,FALSE),0)","v":7},155]
["80302055","0302055","Litio",0,{"$f":"IFERROR(VLOOKUP($A156,Filtro!$A$5:$I$351,3,FALSE),0)","v":0},{"$f":"IFERROR(VLOOKUP($A156,Filtro!$A$5:$I$351,4,FALSE),0)","v":0},{"$f":"IFERROR(VLOOKUP($A156,Filtro!$A$5:$I$351,5,FALSE),0)","v":0},156]
["80302056","0302056","Magnesio",0,{"$f":"IFERROR(VLOOKUP($A157,Filtro!$A$5:$I$351,3,FALSE),0)","v":0},{"$f":"IFERROR(VLOOKUP($A157,Filtro!$A$5:$I$351,4,FALSE),0)","v":0},{"$f":"IFERROR(VLOOKUP($A157,Filtro!$A$5:$I$351,5,FALSE),0)","v":3},157]
["80302057","0302057","Nitrógeno ureico y/o úrea en sangre",{"v":22034,"d":"22,034"},{"$f":"IFERROR(VLOOKUP($A158,Filtro!$A$5:$I$351,3,FALSE),0)","v":0},{"$f":"IFERROR(VLOOKUP($A158,Filtro!$A$5:$I$351,4,FALSE),0)","v":{"v":22034,"d":"22,034"}},{"$f":"IFERROR(VLOOKUP($A158,Filtro!$A$5:$I$351,5,FALSE),0)","v":{"v":40547,"d":"40,547"}},158]
["80302058","0302058","Osmolalidad en sangre",0,{"$f":"IFERROR(VLOOKUP($A159,Filtro!$A$5:$I$351,3,FALSE),0)","v":0},{"$f":"IFERROR(VLOOKUP($A159,Filtro!$A$5:$I$351,4,FALSE),0)","v":0},{"$f":"IFERROR(VLOOKUP($A159,Filtro!$A$5:$I$351,5,FALSE),0)","v":1},159]
["80302075","0302075","Perfil bioquímico (determinación automatizada de 12 parámetros)",35,{"$f":"IFERROR(VLOOKUP($A160,Filtro!$A$5:$I$351,3,FALSE),0)","v":0},{"$f":"IFERROR(VLOOKUP($A160,Filtro!$A$5:$I$351,4,FALSE),0)","v":35},{"$f":"IFERROR(VLOOKUP($A160,Filtro!$A$5:$I$351,5,FALSE),0)","v":{"v":1114,"d":"1,114"}},160]
["80302059","0302059","Proteínas fraccionadas albúmina/globulina (incluye código 03-02-060)",812,{"$f":"IFERROR(VLOOKUP($A161,Filtro!$A$5:$I$351,3,FALSE),0)","v":0},{"$f":"IFERROR(VLOOKUP($A161,Filtro!$A$5:$I$351,4,FALSE),0)","v":812},{"$f":"IFERROR(VLOOKUP($A161,Filtro!$A$5:$I$351,5,FALSE),0)","v":66},161]
["80302060","0302060","Proteínas totales o albúminas, c/u en sangre",908,{"$f":"IFERROR(VLOOKUP($A162,Filtro!$A$5:$I$351,3,FALSE),0)","v":0},{"$f":"IFERROR(VLOOKUP($A162,Filtro!$A$5:$I$351,4,FALSE),0)","v":908},{"$f":"IFERROR(VLOOKUP($A162,Filtro!$A$5:$I$351,5,FALSE),0)","v":{"v":2895,"d":"2,895"}},162]
["80302061","0302061","Proteínas, electroforesis (incluye cód. 03-02-060)",0,{"$f":"IFERROR(VLOOKUP($A163,Filtro!$A$5:$I$351,3,FALSE),0)","v":0},{"$f":"IFERROR(VLOOKUP($A163,Filtro!$A$5:$I$351,4,FALSE),0)","v":0},{"$f":"IFERROR(VLOOKUP($A163,Filtro!$A$5:$I$351,5,FALSE),0)","v":0},163]
["80302062","0302062","Salicilemia cuantitativa        ",0,{"$f":"IFERROR(VLOOKUP($A164,Filtro!$A$5:$I$351,3,FALSE),0)","v":0},{"$f":"IFERROR(VLOOKUP($A164,Filtro!$A$5:$I$351,4,FALSE),0)","v":0},{"$f":"IFERROR(VLOOKUP($A164,Filtro!$A$5:$I$351,5,FALSE),0)","v":184},164]
["80302076","0302076","Perfil Hepático (incluye tiempo de protrombina, bilirrubina total y conjugada, fosfatasas alcalinas totales, GGT, transaminasas GOT/AST y GPT/ALT)",{"$f":"SUM(E165:F165)","v":{"v":20540,"d":"20,540"}},{"$f":"IFERROR(VLOOKUP($A165,Filtro!$A$5:$I$351,3,FALSE),0)","v":0},{"$f":"IFERROR(VLOOKUP($A165,Filtro!$A$5:$I$351,4,FALSE),0)","v":{"v":20540,"d":"20,540"}},{"$f":"IFERROR(VLOOKUP($A165,Filtro!$A$5:$I$351,5,FALSE),0)","v":{"v":22483,"d":"22,483"}},165]
["80302063","0302063","Transaminasas, oxalacética (GOT/AST), Pirúvica (GPT/ALT), c/u",650,{"$f":"IFERROR(VLOOKUP($A166,Filtro!$A$5:$I$351,3,FALSE),0)","v":0},{"$f":"IFERROR(VLOOKUP($A166,Filtro!$A$5:$I$351,4,FALSE),0)","v":650},{"$f":"IFERROR(VLOOKUP($A166,Filtro!$A$5:$I$351,5,FALSE),0)","v":{"v":17225,"d":"17,225"}},166]
["80302064","0302064","Triglicéridos (proc. aut.)",{"v":1666,"d":"1,666"},{"$f":"IFERROR(VLOOKUP($A167,Filtro!$A$5:$I$351,3,FALSE),0)","v":0},{"$f":"IFERROR(VLOOKUP($A167,Filtro!$A$5:$I$351,4,FALSE),0)","v":{"v":1666,"d":"1,666"}},{"$f":"IFERROR(VLOOKUP($A167,Filtro!$A$5:$I$351,5,FALSE),0)","v":{"v":53308,"d":"53,308"}},167]
["80302065","0302065","Vitaminas A, B, C, D, E, etc., c/u",0,{"$f":"IFERROR(VLOOKUP($A168,Filtro!$A$5:$I$351,3,FALSE),0)","v":0},{"$f":"IFERROR(VLOOKUP($A168,Filtro!$A$5:$I$351,4,FALSE),0)","v":0},{"$f":"IFERROR(VLOOKUP($A168,Filtro!$A$5:$I$351,5,FALSE),0)","v":374},168]
["80302066","0302066","Xilosa, prueba de absorción (no incluye la xilosa que se administra)",0,{"$f":"IFERROR(VLOOKUP($A169,Filtro!$A$5:$I$351,3,FALSE),0)","v":0},{"$f":"IFERROR(VLOOKUP($A169,Filtro!$A$5:$I$351,4,FALSE),0)","v":0},{"$f":"IFERROR(VLOOKUP($A169,Filtro!$A$5:$I$351,5,FALSE),0)","v":0},169]
[null,"TOTAL",null,{"$f":"SUM(D101:D169)","v":{"v":272398,"d":"272,398"}},{"$f":"SUM(E101:E169)","v":0},{"$f":"SUM(F101:F169)","v":{"v":272398,"d":"272,398"}},{"$f":"SUM(G101:G169)","v":{"v":687676,"d":"687,676"}},170]
[{"$nulls":7},171]
[null," EXÁMENES HORMONALES",{"$nulls":5},172]
["80303015","0303015","Hormona folículo estimulante (FSH)",{"$f":"SUM(E173:F173)","v":11},{"$f":"IFERROR(VLOOKUP($A173,Filtro!$A$5:$I$351,3,FALSE),0)","v":0},{"$f":"IFERROR(VLOOKUP($A173,Filtro!$A$5:$I$351,4,FALSE),0)","v":11},{"$f":"IFERROR(VLOOKUP($A173,Filtro!$A$5:$I$351,5,FALSE),0)","v":186},173]
["80303024","0303024","Tiroestimulante (TSH), hormona (adulto, niño o R.N.)                            ",{"v":30511,"d":"30,511"},{"$f":"IFERROR(VLOOKUP($A174,Filtro!$A$5:$I$351,3,FALSE),0)","v":0},{"$f":"IFERROR(VLOOKUP($A174,Filtro!$A$5:$I$351,4,FALSE),0)","v":{"v":30511,"d":"30,511"}},{"$f":"IFERROR(VLOOKUP($A174,Filtro!$A$5:$I$351,5,FALSE),0)","v":{"v":79879,"d":"79,879"}},174]
["80303025","0303025","Tiroglobulina                                                                                   ",0,{"$f":"IFERROR(VLOOKUP($A175,Filtro!$A$5:$I$351,3,FALSE),0)","v":0},{"$f":"IFERROR(VLOOKUP($A175,Filtro!$A$5:$I$351,4,FALSE),0)","v":0},{"$f":"IFERROR(VLOOKUP($A175,Filtro!$A$5:$I$351,5,FALSE),0)","v":39},175]
["80303026","0303026","Tiroxina libre (T4L)                                                                       ",{"v":21760,"d":"21,760"},{"$f":"IFERROR(VLOOKUP($A176,Filtro!$A$5:$I$351,3,FALSE),0)","v":0},{"$f":"IFERROR(VLOOKUP($A176,Filtro!$A$5:$I$351,4,FALSE),0)","v":{"v":21760,"d":"21,760"}},{"$f":"IFERROR(VLOOKUP($A176,Filtro!$A$5:$I$351,5,FALSE),0)","v":{"v":29426,"d":"29,426"}},176]
["80303027","0303027","Tiroxina o tetrayodotironina (T4)                                               ",460,{"$f":"IFERROR(VLOOKUP($A177,Filtro!$A$5:$I$351,3,FALSE),0)","v":0},{"$f":"IFERROR(VLOOKUP($A177,Filtro!$A$5:$I$351,4,FALSE),0)","v":460},{"$f":"IFERROR(VLOOKUP($A177,Filtro!$A$5:$I$351,5,FALSE),0)","v":113},177]
["80303028","0303028","Triyodotironina (T3)                                                               ",294,{"$f":"IFERROR(VLOOKUP($A178,Filtro!$A$5:$I$351,3,FALSE),0)","v":0},{"$f":"IFERROR(VLOOKUP($A178,Filtro!$A$5:$I$351,4,FALSE),0)","v":294},{"$f":"IFERROR(VLOOKUP($A178,Filtro!$A$5:$I$351,5,FALSE),0)","v":47},178]
[null,"TOTAL",null,{"$f":"SUM(D173:D178)","v":{"v":53036,"d":"53,036"}},{"$f":"SUM(E173:E178)","v":0},{"$f":"SUM(F173:F178)","v":{"v":53036,"d":"53,036"}},{"$f":"SUM(G173:G178)","v":{"v":109690,"d":"109,690"}},179]
[{"$nulls":7},180]
[null,"INMUNOLÓGICOS",{"$nulls":5},181]
["80305001","0305001","Alfa -1- antitripsina cuantitativa",{"$f":"SUM(E182:F182)","v":0},{"$f":"IFERROR(VLOOKUP($A182,Filtro!$A$5:$I$351,3,FALSE),0)","v":0},{"$f":"IFERROR(VLOOKUP($A182,Filtro!$A$5:$I$351,4,FALSE),0)","v":0},{"$f":"IFERROR(VLOOKUP($A182,Filtro!$A$5:$I$351,5,FALSE),0)","v":0},182]
["80305002","0305002","Alfa -2- macroglobulina",0,{"$f":"IFERROR(VLOOKUP($A183,Filtro!$A$5:$I$351,3,FALSE),0)","v":0},{"$f":"IFERROR(VLOOKUP($A183,Filtro!$A$5:$I$351,4,FALSE),0)","v":0},{"$f":"IFERROR(VLOOKUP($A183,Filtro!$A$5:$I$351,5,FALSE),0)","v":0},183]
["80305003","0305003","Alfa fetoproteínas",0,{"$f":"IFERROR(VLOOKUP($A184,Filtro!$A$5:$I$351,3,FALSE),0)","v":0},{"$f":"IFERROR(VLOOKUP($A184,Filtro!$A$5:$I$351,4,FALSE),0)","v":0},{"$f":"IFERROR(VLOOKUP($A184,Filtro!$A$5:$I$351,5,FALSE),0)","v":0},184]
["80305004","0305004","Tamizaje de Anticuerpos anti antígenos nucleares extractables (a- ENA: Sm, RNP, Ro, La, Scl- 70 y Jo- 1)",0,{"$f":"IFERROR(VLOOKUP($A185,Filtro!$A$5:$I$351,3,FALSE),0)","v":0},{"$f":"IFERROR(VLOOKUP($A185,Filtro!$A$5:$I$351,4,FALSE),0)","v":0},{"$f":"IFERROR(VLOOKUP($A185,Filtro!$A$5:$I$351,5,FALSE),0)","v":3},185]
["80305005","0305005","Anticuerpos antinucleares (ANA), antimitocondriales, anti DNA (ADNA), anti músculo liso, anticentrómero, u otros, c/u.",0,{"$f":"IFERROR(VLOOKUP($A186,Filtro!$A$5:$I$351,3,FALSE),0)","v":0},{"$f":"IFERROR(VLOOKUP($A186,Filtro!$A$5:$I$351,4,FALSE),0)","v":0},{"$f":"IFERROR(VLOOKUP($A186,Filtro!$A$5:$I$351,5,FALSE),0)","v":217},186]
["80305006","0305006","Anticuerpos atípicos, pannel de identificación",0,{"$f":"IFERROR(VLOOKUP($A187,Filtro!$A$5:$I$351,3,FALSE),0)","v":0},{"$f":"IFERROR(VLOOKUP($A187,Filtro!$A$5:$I$351,4,FALSE),0)","v":0},{"$f":"IFERROR(VLOOKUP($A187,Filtro!$A$5:$I$351,5,FALSE),0)","v":0},187]
["80305007","0305007","Anticuerpos específicos y otros autoanticuerpos (anticuerpos antitiroídeos: anticuerpos antimicrosomales y antitiroglobulinas y otros anticuerpos: prostático, espermios, etc.) c/u",0,{"$f":"IFERROR(VLOOKUP($A188,Filtro!$A$5:$I$351,3,FALSE),0)","v":0},{"$f":"IFERROR(VLOOKUP($A188,Filtro!$A$5:$I$351,4,FALSE),0)","v":0},{"$f":"IFERROR(VLOOKUP($A188,Filtro!$A$5:$I$351,5,FALSE),0)","v":1},188]
["80305008","0305008","Antiestreptolisina O, por técnica de látex ",0,{"$f":"IFERROR(VLOOKUP($A189,Filtro!$A$5:$I$351,3,FALSE),0)","v":0},{"$f":"IFERROR(VLOOKUP($A189,Filtro!$A$5:$I$351,4,FALSE),0)","v":0},{"$f":"IFERROR(VLOOKUP($A189,Filtro!$A$5:$I$351,5,FALSE),0)","v":0},189]
["80305009","0305009","Antígeno carcinoembrionario (CEA)",0,{"$f":"IFERROR(VLOOKUP($A190,Filtro!$A$5:$I$351,3,FALSE),0)","v":0},{"$f":"IFERROR(VLOOKUP($A190,Filtro!$A$5:$I$351,4,FALSE),0)","v":0},{"$f":"IFERROR(VLOOKUP($A190,Filtro!$A$5:$I$351,5,FALSE),0)","v":0},190]
["80305070","0305070","Antígeno prostático específico",{"v":1742,"d":"1,742"},{"$f":"IFERROR(VLOOKUP($A191,Filtro!$A$5:$I$351,3,FALSE),0)","v":0},{"$f":"IFERROR(VLOOKUP($A191,Filtro!$A$5:$I$351,4,FALSE),0)","v":{"v":1742,"d":"1,742"}},{"$f":"IFERROR(VLOOKUP($A191,Filtro!$A$5:$I$351,5,FALSE),0)","v":{"v":6181,"d":"6,181"}},191]
["80305170","0305170","Antígeno Ca 125, Ca 15-3 y Ca 19-9, c/u",0,{"$f":"IFERROR(VLOOKUP($A192,Filtro!$A$5:$I$351,3,FALSE),0)","v":0},{"$f":"IFERROR(VLOOKUP($A192,Filtro!$A$5:$I$351,4,FALSE),0)","v":0},{"$f":"IFERROR(VLOOKUP($A192,Filtro!$A$5:$I$351,5,FALSE),0)","v":21},192]
["80305010","0305010","Beta-2-microglobulina",0,{"$f":"IFERROR(VLOOKUP($A193,Filtro!$A$5:$I$351,3,FALSE),0)","v":0},{"$f":"IFERROR(VLOOKUP($A193,Filtro!$A$5:$I$351,4,FALSE),0)","v":0},{"$f":"IFERROR(VLOOKUP($A193,Filtro!$A$5:$I$351,5,FALSE),0)","v":9},193]
["80305011","0305011","Complejos inmunes circulantes",0,{"$f":"IFERROR(VLOOKUP($A194,Filtro!$A$5:$I$351,3,FALSE),0)","v":0},{"$f":"IFERROR(VLOOKUP($A194,Filtro!$A$5:$I$351,4,FALSE),0)","v":0},{"$f":"IFERROR(VLOOKUP($A194,Filtro!$A$5:$I$351,5,FALSE),0)","v":0},194]
["80305012","0305012","Complemento C1Q, C2, C3, C4, etc., c/u",0,{"$f":"IFERROR(VLOOKUP($A195,Filtro!$A$5:$I$351,3,FALSE),0)","v":0},{"$f":"IFERROR(VLOOKUP($A195,Filtro!$A$5:$I$351,4,FALSE),0)","v":0},{"$f":"IFERROR(VLOOKUP($A195,Filtro!$A$5:$I$351,5,FALSE),0)","v":5},195]
["80305013","0305013","Complemento hemolítico (CH 50)",0,{"$f":"IFERROR(VLOOKUP($A196,Filtro!$A$5:$I$351,3,FALSE),0)","v":0},{"$f":"IFERROR(VLOOKUP($A196,Filtro!$A$5:$I$351,4,FALSE),0)","v":0},{"$f":"IFERROR(VLOOKUP($A196,Filtro!$A$5:$I$351,5,FALSE),0)","v":0},196]
["80305014","0305014","Crioglobulinas, precipitación en frío (cualitativa) o cuantitativa c/u",0,{"$f":"IFERROR(VLOOKUP($A197,Filtro!$A$5:$I$351,3,FALSE),0)","v":0},{"$f":"IFERROR(VLOOKUP($A197,Filtro!$A$5:$I$351,4,FALSE),0)","v":0},{"$f":"IFERROR(VLOOKUP($A197,Filtro!$A$5:$I$351,5,FALSE),0)","v":0},197]
["80305015","0305015","Depósito de complejos inmunes por inmunofluorescencia",0,{"$f":"IFERROR(VLOOKUP($A198,Filtro!$A$5:$I$351,3,FALSE),0)","v":0},{"$f":"IFERROR(VLOOKUP($A198,Filtro!$A$5:$I$351,4,FALSE),0)","v":0},{"$f":"IFERROR(VLOOKUP($A198,Filtro!$A$5:$I$351,5,FALSE),0)","v":0},198]
["80305016","0305016","Depósito de complemento por inmunofluorescencia (C3, C4), c/u",0,{"$f":"IFERROR(VLOOKUP($A199,Filtro!$A$5:$I$351,3,FALSE),0)","v":0},{"$f":"IFERROR(VLOOKUP($A199,Filtro!$A$5:$I$351,4,FALSE),0)","v":0},{"$f":"IFERROR(VLOOKUP($A199,Filtro!$A$5:$I$351,5,FALSE),0)","v":0},199]
["80305017","0305017","Depósito de fibrinógeno por inmunofluorescencia",0,{"$f":"IFERROR(VLOOKUP($A200,Filtro!$A$5:$I$351,3,FALSE),0)","v":0},{"$f":"IFERROR(VLOOKUP($A200,Filtro!$A$5:$I$351,4,FALSE),0)","v":0},{"$f":"IFERROR(VLOOKUP($A200,Filtro!$A$5:$I$351,5,FALSE),0)","v":0},200]
["80305018","0305018","Depósito de inmunoglobulina por inmunofluorescencia (IgG, IgA, IgM) c/u",0,{"$f":"IFERROR(VLOOKUP($A201,Filtro!$A$5:$I$351,3,FALSE),0)","v":0},{"$f":"IFERROR(VLOOKUP($A201,Filtro!$A$5:$I$351,4,FALSE),0)","v":0},{"$f":"IFERROR(VLOOKUP($A201,Filtro!$A$5:$I$351,5,FALSE),0)","v":0},201]
["80305019","0305019","Factor reumatoídeo por técnica de látex u otras similares",{"v":1254,"d":"1,254"},{"$f":"IFERROR(VLOOKUP($A202,Filtro!$A$5:$I$351,3,FALSE),0)","v":0},{"$f":"IFERROR(VLOOKUP($A202,Filtro!$A$5:$I$351,4,FALSE),0)","v":{"v":1254,"d":"1,254"}},{"$f":"IFERROR(VLOOKUP($A202,Filtro!$A$5:$I$351,5,FALSE),0)","v":{"v":2877,"d":"2,877"}},202]
["80305020","0305020","Factor reumatoídeo por técnica Scat, Waaler Rose, nefelométricas y/o turbidimétricas",19,{"$f":"IFERROR(VLOOKUP($A203,Filtro!$A$5:$I$351,3,FALSE),0)","v":0},{"$f":"IFERROR(VLOOKUP($A203,Filtro!$A$5:$I$351,4,FALSE),0)","v":19},{"$f":"IFERROR(VLOOKUP($A203,Filtro!$A$5:$I$351,5,FALSE),0)","v":222},203]
["80305021","0305021","Inhibidor de C1Q, C2 y C3, c/u",0,{"$f":"IFERROR(VLOOKUP($A204,Filtro!$A$5:$I$351,3,FALSE),0)","v":0},{"$f":"IFERROR(VLOOKUP($A204,Filtro!$A$5:$I$351,4,FALSE),0)","v":0},{"$f":"IFERROR(VLOOKUP($A204,Filtro!$A$5:$I$351,5,FALSE),0)","v":0},204]
["80305025","0305025","Inmunofijación de inmunoglobulina, c/u",0,{"$f":"IFERROR(VLOOKUP($A205,Filtro!$A$5:$I$351,3,FALSE),0)","v":0},{"$f":"IFERROR(VLOOKUP($A205,Filtro!$A$5:$I$351,4,FALSE),0)","v":0},{"$f":"IFERROR(VLOOKUP($A205,Filtro!$A$5:$I$351,5,FALSE),0)","v":0},205]
["80305026","0305026","Inmunoglobulina IgA secretora",0,{"$f":"IFERROR(VLOOKUP($A206,Filtro!$A$5:$I$351,3,FALSE),0)","v":0},{"$f":"IFERROR(VLOOKUP($A206,Filtro!$A$5:$I$351,4,FALSE),0)","v":0},{"$f":"IFERROR(VLOOKUP($A206,Filtro!$A$5:$I$351,5,FALSE),0)","v":0},206]
["80305027","0305027","Inmunoglobulinas IgA, IgG, IgM, c/u",0,{"$f":"IFERROR(VLOOKUP($A207,Filtro!$A$5:$I$351,3,FALSE),0)","v":0},{"$f":"IFERROR(VLOOKUP($A207,Filtro!$A$5:$I$351,4,FALSE),0)","v":0},{"$f":"IFERROR(VLOOKUP($A207,Filtro!$A$5:$I$351,5,FALSE),0)","v":4},207]
["80305028","0305028","Inmunoglobulinas IgE, IgD total, c/u",0,{"$f":"IFERROR(VLOOKUP($A208,Filtro!$A$5:$I$351,3,FALSE),0)","v":0},{"$f":"IFERROR(VLOOKUP($A208,Filtro!$A$5:$I$351,4,FALSE),0)","v":0},{"$f":"IFERROR(VLOOKUP($A208,Filtro!$A$5:$I$351,5,FALSE),0)","v":0},208]
["80305029","0305029","Inmunoglobulinas IgE, IgG específicas, c/u",0,{"$f":"IFERROR(VLOOKUP($A209,Filtro!$A$5:$I$351,3,FALSE),0)","v":0},{"$f":"IFERROR(VLOOKUP($A209,Filtro!$A$5:$I$351,4,FALSE),0)","v":0},{"$f":"IFERROR(VLOOKUP($A209,Filtro!$A$5:$I$351,5,FALSE),0)","v":0},209]
["80305030","0305030","Proteína C reactiva por técnica de látex u otras similares",2,{"$f":"IFERROR(VLOOKUP($A210,Filtro!$A$5:$I$351,3,FALSE),0)","v":0},{"$f":"IFERROR(VLOOKUP($A210,Filtro!$A$5:$I$351,4,FALSE),0)","v":2},{"$f":"IFERROR(VLOOKUP($A210,Filtro!$A$5:$I$351,5,FALSE),0)","v":671},210]
["80305031","0305031","Proteína C reactiva por técnicas nefelométricas y/o turbidimétricas",0,{"$f":"IFERROR(VLOOKUP($A211,Filtro!$A$5:$I$351,3,FALSE),0)","v":0},{"$f":"IFERROR(VLOOKUP($A211,Filtro!$A$5:$I$351,4,FALSE),0)","v":0},{"$f":"IFERROR(VLOOKUP($A211,Filtro!$A$5:$I$351,5,FALSE),0)","v":0},211]
["80305034","0305034","Quimiotaxis-leucotaxis",0,{"$f":"IFERROR(VLOOKUP($A212,Filtro!$A$5:$I$351,3,FALSE),0)","v":0},{"$f":"IFERROR(VLOOKUP($A212,Filtro!$A$5:$I$351,4,FALSE),0)","v":0},{"$f":"IFERROR(VLOOKUP($A212,Filtro!$A$5:$I$351,5,FALSE),0)","v":0},212]
["80305035","0305035","Crioaglutininas",0,{"$f":"IFERROR(VLOOKUP($A213,Filtro!$A$5:$I$351,3,FALSE),0)","v":0},{"$f":"IFERROR(VLOOKUP($A213,Filtro!$A$5:$I$351,4,FALSE),0)","v":0},{"$f":"IFERROR(VLOOKUP($A213,Filtro!$A$5:$I$351,5,FALSE),0)","v":0},213]
["80305036","0305036","Criohemolisinas",0,{"$f":"IFERROR(VLOOKUP($A214,Filtro!$A$5:$I$351,3,FALSE),0)","v":0},{"$f":"IFERROR(VLOOKUP($A214,Filtro!$A$5:$I$351,4,FALSE),0)","v":0},{"$f":"IFERROR(VLOOKUP($A214,Filtro!$A$5:$I$351,5,FALSE),0)","v":0},214]
["80305037","0305037","Digestión fagocítica nitroblue-tetrazolium cualitativo y cuantitativo",0,{"$f":"IFERROR(VLOOKUP($A215,Filtro!$A$5:$I$351,3,FALSE),0)","v":0},{"$f":"IFERROR(VLOOKUP($A215,Filtro!$A$5:$I$351,4,FALSE),0)","v":0},{"$f":"IFERROR(VLOOKUP($A215,Filtro!$A$5:$I$351,5,FALSE),0)","v":0},215]
["80305038","0305038","Fagocitosis: ingestión y digestión (killing) de levaduras por polimorfonucleares",0,{"$f":"IFERROR(VLOOKUP($A216,Filtro!$A$5:$I$351,3,FALSE),0)","v":0},{"$f":"IFERROR(VLOOKUP($A216,Filtro!$A$5:$I$351,4,FALSE),0)","v":0},{"$f":"IFERROR(VLOOKUP($A216,Filtro!$A$5:$I$351,5,FALSE),0)","v":0},216]
["80305039","0305039","Fagocitosis: ingestión y digestión (killing) de bacterias por polimorfonucleares",0,{"$f":"IFERROR(VLOOKUP($A217,Filtro!$A$5:$I$351,3,FALSE),0)","v":0},{"$f":"IFERROR(VLOOKUP($A217,Filtro!$A$5:$I$351,4,FALSE),0)","v":0},{"$f":"IFERROR(VLOOKUP($A217,Filtro!$A$5:$I$351,5,FALSE),0)","v":0},217]
["80305040","0305040","Inmunoadherencia de leucocitos macrófagos",0,{"$f":"IFERROR(VLOOKUP($A218,Filtro!$A$5:$I$351,3,FALSE),0)","v":0},{"$f":"IFERROR(VLOOKUP($A218,Filtro!$A$5:$I$351,4,FALSE),0)","v":0},{"$f":"IFERROR(VLOOKUP($A218,Filtro!$A$5:$I$351,5,FALSE),0)","v":2},218]
["80305041","0305041","Intradermoreacción (PPD, histoplasmina, aspergilina, u otros, incluye el valor del antígeno y reacción de control), c/u. ",0,{"$f":"IFERROR(VLOOKUP($A219,Filtro!$A$5:$I$351,3,FALSE),0)","v":0},{"$f":"IFERROR(VLOOKUP($A219,Filtro!$A$5:$I$351,4,FALSE),0)","v":0},{"$f":"IFERROR(VLOOKUP($A219,Filtro!$A$5:$I$351,5,FALSE),0)","v":0},219]
["80305042","0305042","LIF o MIF",0,{"$f":"IFERROR(VLOOKUP($A220,Filtro!$A$5:$I$351,3,FALSE),0)","v":0},{"$f":"IFERROR(VLOOKUP($A220,Filtro!$A$5:$I$351,4,FALSE),0)","v":0},{"$f":"IFERROR(VLOOKUP($A220,Filtro!$A$5:$I$351,5,FALSE),0)","v":3},220]
["80305043","0305043","Linfocitos B (inmunofluorescencia)",0,{"$f":"IFERROR(VLOOKUP($A221,Filtro!$A$5:$I$351,3,FALSE),0)","v":0},{"$f":"IFERROR(VLOOKUP($A221,Filtro!$A$5:$I$351,4,FALSE),0)","v":0},{"$f":"IFERROR(VLOOKUP($A221,Filtro!$A$5:$I$351,5,FALSE),0)","v":0},221]
["80305044","0305044","Linfocitos B (rosetas EAC) y linfocitos T (rosetas E) c/u",0,{"$f":"IFERROR(VLOOKUP($A222,Filtro!$A$5:$I$351,3,FALSE),0)","v":0},{"$f":"IFERROR(VLOOKUP($A222,Filtro!$A$5:$I$351,4,FALSE),0)","v":0},{"$f":"IFERROR(VLOOKUP($A222,Filtro!$A$5:$I$351,5,FALSE),0)","v":0},222]
["80305045","0305045","Linfocitos T \"helper\" (OKT4) o supresores (OKT8) con antisuero monoclonal, c/u",0,{"$f":"IFERROR(VLOOKUP($A223,Filtro!$A$5:$I$351,3,FALSE),0)","v":0},{"$f":"IFERROR(VLOOKUP($A223,Filtro!$A$5:$I$351,4,FALSE),0)","v":0},{"$f":"IFERROR(VLOOKUP($A223,Filtro!$A$5:$I$351,5,FALSE),0)","v":1},223]
["80305047","0305047","Linfotoxinas humanas, detección de",0,{"$f":"IFERROR(VLOOKUP($A224,Filtro!$A$5:$I$351,3,FALSE),0)","v":0},{"$f":"IFERROR(VLOOKUP($A224,Filtro!$A$5:$I$351,4,FALSE),0)","v":0},{"$f":"IFERROR(VLOOKUP($A224,Filtro!$A$5:$I$351,5,FALSE),0)","v":240},224]
["80305048","0305048","Reacción cutánea 16 alergenos por escarificación (incluye el valor de los antígenos)",0,{"$f":"IFERROR(VLOOKUP($A225,Filtro!$A$5:$I$351,3,FALSE),0)","v":0},{"$f":"IFERROR(VLOOKUP($A225,Filtro!$A$5:$I$351,4,FALSE),0)","v":0},{"$f":"IFERROR(VLOOKUP($A225,Filtro!$A$5:$I$351,5,FALSE),0)","v":0},225]
["80305049","0305049","Transformación linfoblástica a drogas, análisis de transformación espontanea con estimulo inespecífico y con diferentes concentraciones de la droga en 1000 células",0,{"$f":"IFERROR(VLOOKUP($A226,Filtro!$A$5:$I$351,3,FALSE),0)","v":0},{"$f":"IFERROR(VLOOKUP($A226,Filtro!$A$5:$I$351,4,FALSE),0)","v":0},{"$f":"IFERROR(VLOOKUP($A226,Filtro!$A$5:$I$351,5,FALSE),0)","v":0},226]
["80305051","0305051","Absorción de autoanticuerpos del receptor",0,{"$f":"IFERROR(VLOOKUP($A227,Filtro!$A$5:$I$351,3,FALSE),0)","v":0},{"$f":"IFERROR(VLOOKUP($A227,Filtro!$A$5:$I$351,4,FALSE),0)","v":0},{"$f":"IFERROR(VLOOKUP($A227,Filtro!$A$5:$I$351,5,FALSE),0)","v":0},227]
["80305052","0305052","Anticuerpos linfocitotóxicos (PRA) por microlinfocitotoxicidad",0,{"$f":"IFERROR(VLOOKUP($A228,Filtro!$A$5:$I$351,3,FALSE),0)","v":0},{"$f":"IFERROR(VLOOKUP($A228,Filtro!$A$5:$I$351,4,FALSE),0)","v":0},{"$f":"IFERROR(VLOOKUP($A228,Filtro!$A$5:$I$351,5,FALSE),0)","v":0},228]
["80305053","0305053","Autocrossmatch con linfocitos T y B",0,{"$f":"IFERROR(VLOOKUP($A229,Filtro!$A$5:$I$351,3,FALSE),0)","v":0},{"$f":"IFERROR(VLOOKUP($A229,Filtro!$A$5:$I$351,4,FALSE),0)","v":0},{"$f":"IFERROR(VLOOKUP($A229,Filtro!$A$5:$I$351,5,FALSE),0)","v":0},229]
["80305054","0305054","Autocross match con linfocitos totales",0,{"$f":"IFERROR(VLOOKUP($A230,Filtro!$A$5:$I$351,3,FALSE),0)","v":0},{"$f":"IFERROR(VLOOKUP($A230,Filtro!$A$5:$I$351,4,FALSE),0)","v":0},{"$f":"IFERROR(VLOOKUP($A230,Filtro!$A$5:$I$351,5,FALSE),0)","v":0},230]
["80305056","0305056","Alocrossmatch con linfocitos totales",0,{"$f":"IFERROR(VLOOKUP($A231,Filtro!$A$5:$I$351,3,FALSE),0)","v":0},{"$f":"IFERROR(VLOOKUP($A231,Filtro!$A$5:$I$351,4,FALSE),0)","v":0},{"$f":"IFERROR(VLOOKUP($A231,Filtro!$A$5:$I$351,5,FALSE),0)","v":0},231]
["80305057","0305057","Alocrossmatch con linfocitos T y B",0,{"$f":"IFERROR(VLOOKUP($A232,Filtro!$A$5:$I$351,3,FALSE),0)","v":0},{"$f":"IFERROR(VLOOKUP($A232,Filtro!$A$5:$I$351,4,FALSE),0)","v":0},{"$f":"IFERROR(VLOOKUP($A232,Filtro!$A$5:$I$351,5,FALSE),0)","v":0},232]
["80305058","0305058","Cultivo mixto de linfocitos",0,{"$f":"IFERROR(VLOOKUP($A233,Filtro!$A$5:$I$351,3,FALSE),0)","v":0},{"$f":"IFERROR(VLOOKUP($A233,Filtro!$A$5:$I$351,4,FALSE),0)","v":0},{"$f":"IFERROR(VLOOKUP($A233,Filtro!$A$5:$I$351,5,FALSE),0)","v":0},233]
["80305059","0305059","Identificación de clase de inmunoglobulinas de auto o alo cross match positivo",0,{"$f":"IFERROR(VLOOKUP($A234,Filtro!$A$5:$I$351,3,FALSE),0)","v":0},{"$f":"IFERROR(VLOOKUP($A234,Filtro!$A$5:$I$351,4,FALSE),0)","v":0},{"$f":"IFERROR(VLOOKUP($A234,Filtro!$A$5:$I$351,5,FALSE),0)","v":0},234]
["80305060","0305060","Tipificación HLA B-27",0,{"$f":"IFERROR(VLOOKUP($A235,Filtro!$A$5:$I$351,3,FALSE),0)","v":0},{"$f":"IFERROR(VLOOKUP($A235,Filtro!$A$5:$I$351,4,FALSE),0)","v":0},{"$f":"IFERROR(VLOOKUP($A235,Filtro!$A$5:$I$351,5,FALSE),0)","v":0},235]
["80305061","0305061","Tipificación HLA B-8",0,{"$f":"IFERROR(VLOOKUP($A236,Filtro!$A$5:$I$351,3,FALSE),0)","v":0},{"$f":"IFERROR(VLOOKUP($A236,Filtro!$A$5:$I$351,4,FALSE),0)","v":0},{"$f":"IFERROR(VLOOKUP($A236,Filtro!$A$5:$I$351,5,FALSE),0)","v":0},236]
["80305062","0305062","Tipificación HLA  - DR serológica",0,{"$f":"IFERROR(VLOOKUP($A237,Filtro!$A$5:$I$351,3,FALSE),0)","v":0},{"$f":"IFERROR(VLOOKUP($A237,Filtro!$A$5:$I$351,4,FALSE),0)","v":0},{"$f":"IFERROR(VLOOKUP($A237,Filtro!$A$5:$I$351,5,FALSE),0)","v":0},237]
["80305063","0305063","Tipificación HLA - A, B serológica",0,{"$f":"IFERROR(VLOOKUP($A238,Filtro!$A$5:$I$351,3,FALSE),0)","v":0},{"$f":"IFERROR(VLOOKUP($A238,Filtro!$A$5:$I$351,4,FALSE),0)","v":0},{"$f":"IFERROR(VLOOKUP($A238,Filtro!$A$5:$I$351,5,FALSE),0)","v":0},238]
[null,"TOTAL",null,{"$f":"SUM(D182:D238)","v":{"v":3017,"d":"3,017"}},{"$f":"SUM(E182:E238)","v":0},{"$f":"SUM(F182:F238)","v":{"v":3017,"d":"3,017"}},{"$f":"SUM(G182:G238)","v":{"v":10457,"d":"10,457"}},239]
[{"$nulls":7},240]
[null,"MICROBIOLÓGICOS",{"$nulls":5},241]
["80306001","0306001","Baciloscopía Ziehl-Neelsen por concentración de líquidos (orina u otros), c/u",{"$f":"SUM(E242:F242)","v":13},{"$f":"IFERROR(VLOOKUP($A242,Filtro!$A$5:$I$351,3,FALSE),0)","v":0},{"$f":"IFERROR(VLOOKUP($A242,Filtro!$A$5:$I$351,4,FALSE),0)","v":13},{"$f":"IFERROR(VLOOKUP($A242,Filtro!$A$5:$I$351,5,FALSE),0)","v":139},242]
["80306002","0306002","Baciloscopía Ziehl-Neelsen, c/u",5,{"$f":"IFERROR(VLOOKUP($A243,Filtro!$A$5:$I$351,3,FALSE),0)","v":0},{"$f":"IFERROR(VLOOKUP($A243,Filtro!$A$5:$I$351,4,FALSE),0)","v":5},{"$f":"IFERROR(VLOOKUP($A243,Filtro!$A$5:$I$351,5,FALSE),0)","v":{"v":1553,"d":"1,553"}},243]
["80306004","0306004","Examen directo al fresco, c/s tinción (incluye trichomonas)",14,{"$f":"IFERROR(VLOOKUP($A244,Filtro!$A$5:$I$351,3,FALSE),0)","v":0},{"$f":"IFERROR(VLOOKUP($A244,Filtro!$A$5:$I$351,4,FALSE),0)","v":14},{"$f":"IFERROR(VLOOKUP($A244,Filtro!$A$5:$I$351,5,FALSE),0)","v":1},244]
["80306005","0306005","Tinción de Gram",276,{"$f":"IFERROR(VLOOKUP($A245,Filtro!$A$5:$I$351,3,FALSE),0)","v":0},{"$f":"IFERROR(VLOOKUP($A245,Filtro!$A$5:$I$351,4,FALSE),0)","v":276},{"$f":"IFERROR(VLOOKUP($A245,Filtro!$A$5:$I$351,5,FALSE),0)","v":13},245]
["80306006","0306006","Ultramicroscopía (incluye toma de muestras)",0,{"$f":"IFERROR(VLOOKUP($A246,Filtro!$A$5:$I$351,3,FALSE),0)","v":0},{"$f":"IFERROR(VLOOKUP($A246,Filtro!$A$5:$I$351,4,FALSE),0)","v":0},{"$f":"IFERROR(VLOOKUP($A246,Filtro!$A$5:$I$351,5,FALSE),0)","v":0},246]
["80306007","0306007","Coprocultivo, c/u",258,{"$f":"IFERROR(VLOOKUP($A247,Filtro!$A$5:$I$351,3,FALSE),0)","v":0},{"$f":"IFERROR(VLOOKUP($A247,Filtro!$A$5:$I$351,4,FALSE),0)","v":258},{"$f":"IFERROR(VLOOKUP($A247,Filtro!$A$5:$I$351,5,FALSE),0)","v":208},247]
["80306008","0306008","Corriente (excepto coprocultivo, hemocultivo y urocultivo) c/u",222,{"$f":"IFERROR(VLOOKUP($A248,Filtro!$A$5:$I$351,3,FALSE),0)","v":0},{"$f":"IFERROR(VLOOKUP($A248,Filtro!$A$5:$I$351,4,FALSE),0)","v":222},{"$f":"IFERROR(VLOOKUP($A248,Filtro!$A$5:$I$351,5,FALSE),0)","v":332},248]
["80306009","0306009","Hemocultivo aerobio, c/u",0,{"$f":"IFERROR(VLOOKUP($A249,Filtro!$A$5:$I$351,3,FALSE),0)","v":0},{"$f":"IFERROR(VLOOKUP($A249,Filtro!$A$5:$I$351,4,FALSE),0)","v":0},{"$f":"IFERROR(VLOOKUP($A249,Filtro!$A$5:$I$351,5,FALSE),0)","v":0},249]
["80306010","0306010","Hemocultivo anaerobio, c/u",0,{"$f":"IFERROR(VLOOKUP($A250,Filtro!$A$5:$I$351,3,FALSE),0)","v":0},{"$f":"IFERROR(VLOOKUP($A250,Filtro!$A$5:$I$351,4,FALSE),0)","v":0},{"$f":"IFERROR(VLOOKUP($A250,Filtro!$A$5:$I$351,5,FALSE),0)","v":0},250]
["80306011","0306011","Urocultivo, recuento de colonias y antibiograma (cualquier técnica) (incluye toma de orina aséptica) (no incluye recolector pediátrico)",{"v":9386,"d":"9,386"},{"$f":"IFERROR(VLOOKUP($A251,Filtro!$A$5:$I$351,3,FALSE),0)","v":0},{"$f":"IFERROR(VLOOKUP($A251,Filtro!$A$5:$I$351,4,FALSE),0)","v":{"v":9386,"d":"9,386"}},{"$f":"IFERROR(VLOOKUP($A251,Filtro!$A$5:$I$351,5,FALSE),0)","v":{"v":17542,"d":"17,542"}},251]
["80306012","0306012","Anaerobios (incluye cód. 03-06-008)",0,{"$f":"IFERROR(VLOOKUP($A252,Filtro!$A$5:$I$351,3,FALSE),0)","v":0},{"$f":"IFERROR(VLOOKUP($A252,Filtro!$A$5:$I$351,4,FALSE),0)","v":0},{"$f":"IFERROR(VLOOKUP($A252,Filtro!$A$5:$I$351,5,FALSE),0)","v":1},252]
["80306013","0306013","Cultivo específico para Bordetella",0,{"$f":"IFERROR(VLOOKUP($A253,Filtro!$A$5:$I$351,3,FALSE),0)","v":0},{"$f":"IFERROR(VLOOKUP($A253,Filtro!$A$5:$I$351,4,FALSE),0)","v":0},{"$f":"IFERROR(VLOOKUP($A253,Filtro!$A$5:$I$351,5,FALSE),0)","v":0},253]
["80306014","0306014","Cultivo para Campylobacter, Yersinia, Vibrio, c/u",0,{"$f":"IFERROR(VLOOKUP($A254,Filtro!$A$5:$I$351,3,FALSE),0)","v":0},{"$f":"IFERROR(VLOOKUP($A254,Filtro!$A$5:$I$351,4,FALSE),0)","v":0},{"$f":"IFERROR(VLOOKUP($A254,Filtro!$A$5:$I$351,5,FALSE),0)","v":0},254]
["80306015","0306015","Difteria",0,{"$f":"IFERROR(VLOOKUP($A255,Filtro!$A$5:$I$351,3,FALSE),0)","v":0},{"$f":"IFERROR(VLOOKUP($A255,Filtro!$A$5:$I$351,4,FALSE),0)","v":0},{"$f":"IFERROR(VLOOKUP($A255,Filtro!$A$5:$I$351,5,FALSE),0)","v":0},255]
["80306016","0306016","Neisseria gonorrhoeae (gonococo)",0,{"$f":"IFERROR(VLOOKUP($A256,Filtro!$A$5:$I$351,3,FALSE),0)","v":0},{"$f":"IFERROR(VLOOKUP($A256,Filtro!$A$5:$I$351,4,FALSE),0)","v":0},{"$f":"IFERROR(VLOOKUP($A256,Filtro!$A$5:$I$351,5,FALSE),0)","v":0},256]
["80306017","0306017","Cultivo para Levaduras",0,{"$f":"IFERROR(VLOOKUP($A257,Filtro!$A$5:$I$351,3,FALSE),0)","v":0},{"$f":"IFERROR(VLOOKUP($A257,Filtro!$A$5:$I$351,4,FALSE),0)","v":0},{"$f":"IFERROR(VLOOKUP($A257,Filtro!$A$5:$I$351,5,FALSE),0)","v":0},257]
["80306117","0306117","Hongos Filamentosos",14,{"$f":"IFERROR(VLOOKUP($A258,Filtro!$A$5:$I$351,3,FALSE),0)","v":0},{"$f":"IFERROR(VLOOKUP($A258,Filtro!$A$5:$I$351,4,FALSE),0)","v":14},{"$f":"IFERROR(VLOOKUP($A258,Filtro!$A$5:$I$351,5,FALSE),0)","v":0},258]
["80306018","0306018","Cultivo para bacilo de Koch, (incluye otras micobacterias)",1,{"$f":"IFERROR(VLOOKUP($A259,Filtro!$A$5:$I$351,3,FALSE),0)","v":0},{"$f":"IFERROR(VLOOKUP($A259,Filtro!$A$5:$I$351,4,FALSE),0)","v":1},{"$f":"IFERROR(VLOOKUP($A259,Filtro!$A$5:$I$351,5,FALSE),0)","v":164},259]
["80306019","0306019","Cultivo para Legionella",0,{"$f":"IFERROR(VLOOKUP($A260,Filtro!$A$5:$I$351,3,FALSE),0)","v":0},{"$f":"IFERROR(VLOOKUP($A260,Filtro!$A$5:$I$351,4,FALSE),0)","v":0},{"$f":"IFERROR(VLOOKUP($A260,Filtro!$A$5:$I$351,5,FALSE),0)","v":0},260]
["80306020","0306020","Listeria",0,{"$f":"IFERROR(VLOOKUP($A261,Filtro!$A$5:$I$351,3,FALSE),0)","v":0},{"$f":"IFERROR(VLOOKUP($A261,Filtro!$A$5:$I$351,4,FALSE),0)","v":0},{"$f":"IFERROR(VLOOKUP($A261,Filtro!$A$5:$I$351,5,FALSE),0)","v":0},261]
["80306021","0306021","Neisseria meningitidis (meningococo)",0,{"$f":"IFERROR(VLOOKUP($A262,Filtro!$A$5:$I$351,3,FALSE),0)","v":0},{"$f":"IFERROR(VLOOKUP($A262,Filtro!$A$5:$I$351,4,FALSE),0)","v":0},{"$f":"IFERROR(VLOOKUP($A262,Filtro!$A$5:$I$351,5,FALSE),0)","v":0},262]
["80306022","0306022","Cultivo y Tipificación de micobacterias",0,{"$f":"IFERROR(VLOOKUP($A263,Filtro!$A$5:$I$351,3,FALSE),0)","v":0},{"$f":"IFERROR(VLOOKUP($A263,Filtro!$A$5:$I$351,4,FALSE),0)","v":0},{"$f":"IFERROR(VLOOKUP($A263,Filtro!$A$5:$I$351,5,FALSE),0)","v":24},263]
["80306023","0306023","Mycoplasma y Ureaplasma, c/u",0,{"$f":"IFERROR(VLOOKUP($A264,Filtro!$A$5:$I$351,3,FALSE),0)","v":0},{"$f":"IFERROR(VLOOKUP($A264,Filtro!$A$5:$I$351,4,FALSE),0)","v":0},{"$f":"IFERROR(VLOOKUP($A264,Filtro!$A$5:$I$351,5,FALSE),0)","v":1},264]
["80306024","0306024","Anaerobios  (mínimo 4 fármacos)",0,{"$f":"IFERROR(VLOOKUP($A265,Filtro!$A$5:$I$351,3,FALSE),0)","v":0},{"$f":"IFERROR(VLOOKUP($A265,Filtro!$A$5:$I$351,4,FALSE),0)","v":0},{"$f":"IFERROR(VLOOKUP($A265,Filtro!$A$5:$I$351,5,FALSE),0)","v":0},265]
["80306025","0306025","Bacilo de Koch (cada fármaco)",0,{"$f":"IFERROR(VLOOKUP($A266,Filtro!$A$5:$I$351,3,FALSE),0)","v":0},{"$f":"IFERROR(VLOOKUP($A266,Filtro!$A$5:$I$351,4,FALSE),0)","v":0},{"$f":"IFERROR(VLOOKUP($A266,Filtro!$A$5:$I$351,5,FALSE),0)","v":0},266]
["80306026","0306026","Corriente (mínimo 10 fármacos) (en caso de urocultivo no corresponde su cobro; incluido en el valor 03-06-011)",{"v":1464,"d":"1,464"},{"$f":"IFERROR(VLOOKUP($A267,Filtro!$A$5:$I$351,3,FALSE),0)","v":0},{"$f":"IFERROR(VLOOKUP($A267,Filtro!$A$5:$I$351,4,FALSE),0)","v":{"v":1464,"d":"1,464"}},{"$f":"IFERROR(VLOOKUP($A267,Filtro!$A$5:$I$351,5,FALSE),0)","v":3},267]
["80306027","0306027","Estudio de sensibilidad por dilución (CIM) (mínimo 6 fármacos) (en caso de urocultivo, no corresponde su cobro; incluido en el valor código 03-06-011)",0,{"$f":"IFERROR(VLOOKUP($A268,Filtro!$A$5:$I$351,3,FALSE),0)","v":0},{"$f":"IFERROR(VLOOKUP($A268,Filtro!$A$5:$I$351,4,FALSE),0)","v":0},{"$f":"IFERROR(VLOOKUP($A268,Filtro!$A$5:$I$351,5,FALSE),0)","v":0},268]
["80306028","0306028","Antifungigrama (mínimo 4 fármacos antihongos)",0,{"$f":"IFERROR(VLOOKUP($A269,Filtro!$A$5:$I$351,3,FALSE),0)","v":0},{"$f":"IFERROR(VLOOKUP($A269,Filtro!$A$5:$I$351,4,FALSE),0)","v":0},{"$f":"IFERROR(VLOOKUP($A269,Filtro!$A$5:$I$351,5,FALSE),0)","v":0},269]
["80306029","0306029","Autovacunas, incluye cultivo y preparación  de mínimo 10 ampollas",0,{"$f":"IFERROR(VLOOKUP($A270,Filtro!$A$5:$I$351,3,FALSE),0)","v":0},{"$f":"IFERROR(VLOOKUP($A270,Filtro!$A$5:$I$351,4,FALSE),0)","v":0},{"$f":"IFERROR(VLOOKUP($A270,Filtro!$A$5:$I$351,5,FALSE),0)","v":0},270]
["80306030","0306030","Poder bactericida del suero",0,{"$f":"IFERROR(VLOOKUP($A271,Filtro!$A$5:$I$351,3,FALSE),0)","v":0},{"$f":"IFERROR(VLOOKUP($A271,Filtro!$A$5:$I$351,4,FALSE),0)","v":0},{"$f":"IFERROR(VLOOKUP($A271,Filtro!$A$5:$I$351,5,FALSE),0)","v":0},271]
["80306031","0306031","Preparación de vacunas uni o polivalentes mantenidas en stock (mínimo 5 ampollas)",0,{"$f":"IFERROR(VLOOKUP($A272,Filtro!$A$5:$I$351,3,FALSE),0)","v":0},{"$f":"IFERROR(VLOOKUP($A272,Filtro!$A$5:$I$351,4,FALSE),0)","v":0},{"$f":"IFERROR(VLOOKUP($A272,Filtro!$A$5:$I$351,5,FALSE),0)","v":0},272]
["80306032","0306032","Aspergilosis, candidiasis, histoplasmosis u otros hongos por inmunodiagnóstico c/u",0,{"$f":"IFERROR(VLOOKUP($A273,Filtro!$A$5:$I$351,3,FALSE),0)","v":0},{"$f":"IFERROR(VLOOKUP($A273,Filtro!$A$5:$I$351,4,FALSE),0)","v":0},{"$f":"IFERROR(VLOOKUP($A273,Filtro!$A$5:$I$351,5,FALSE),0)","v":0},273]
["80306033","0306033","Brucella, reacción de aglutinación para (Wright-Hudleson) o similares",0,{"$f":"IFERROR(VLOOKUP($A274,Filtro!$A$5:$I$351,3,FALSE),0)","v":0},{"$f":"IFERROR(VLOOKUP($A274,Filtro!$A$5:$I$351,4,FALSE),0)","v":0},{"$f":"IFERROR(VLOOKUP($A274,Filtro!$A$5:$I$351,5,FALSE),0)","v":0},274]
["80306034","0306034","Clamidias por inmunofluorescencia, peroxidasa, Elisa o similares",0,{"$f":"IFERROR(VLOOKUP($A275,Filtro!$A$5:$I$351,3,FALSE),0)","v":0},{"$f":"IFERROR(VLOOKUP($A275,Filtro!$A$5:$I$351,4,FALSE),0)","v":0},{"$f":"IFERROR(VLOOKUP($A275,Filtro!$A$5:$I$351,5,FALSE),0)","v":0},275]
["80306036","0306036","Mononucleosis, reacción de Paul Bunnell, Anticuerpos Heterófilos o similares",0,{"$f":"IFERROR(VLOOKUP($A276,Filtro!$A$5:$I$351,3,FALSE),0)","v":0},{"$f":"IFERROR(VLOOKUP($A276,Filtro!$A$5:$I$351,4,FALSE),0)","v":0},{"$f":"IFERROR(VLOOKUP($A276,Filtro!$A$5:$I$351,5,FALSE),0)","v":0},276]
["80306037","0306037","Mycoplasma IgG, IgM, c/u. ",0,{"$f":"IFERROR(VLOOKUP($A277,Filtro!$A$5:$I$351,3,FALSE),0)","v":0},{"$f":"IFERROR(VLOOKUP($A277,Filtro!$A$5:$I$351,4,FALSE),0)","v":0},{"$f":"IFERROR(VLOOKUP($A277,Filtro!$A$5:$I$351,5,FALSE),0)","v":0},277]
["80306038","0306038","R.P.R.",{"v":5757,"d":"5,757"},{"$f":"IFERROR(VLOOKUP($A278,Filtro!$A$5:$I$351,3,FALSE),0)","v":0},{"$f":"IFERROR(VLOOKUP($A278,Filtro!$A$5:$I$351,4,FALSE),0)","v":{"v":5757,"d":"5,757"}},{"$f":"IFERROR(VLOOKUP($A278,Filtro!$A$5:$I$351,5,FALSE),0)","v":{"v":4514,"d":"4,514"}},278]
["80306039","0306039","Tíficas, reacciones de aglutinación  (Eberth H y O, paratyphi A y B) (Widal)",0,{"$f":"IFERROR(VLOOKUP($A279,Filtro!$A$5:$I$351,3,FALSE),0)","v":0},{"$f":"IFERROR(VLOOKUP($A279,Filtro!$A$5:$I$351,4,FALSE),0)","v":0},{"$f":"IFERROR(VLOOKUP($A279,Filtro!$A$5:$I$351,5,FALSE),0)","v":0},279]
["80306041","0306041","Treponema pallidum FTA - ABS, MHA-TP c/u",2,{"$f":"IFERROR(VLOOKUP($A280,Filtro!$A$5:$I$351,3,FALSE),0)","v":0},{"$f":"IFERROR(VLOOKUP($A280,Filtro!$A$5:$I$351,4,FALSE),0)","v":2},{"$f":"IFERROR(VLOOKUP($A280,Filtro!$A$5:$I$351,5,FALSE),0)","v":35},280]
["80306042","0306042","V.D.R.L.",402,{"$f":"IFERROR(VLOOKUP($A281,Filtro!$A$5:$I$351,3,FALSE),0)","v":0},{"$f":"IFERROR(VLOOKUP($A281,Filtro!$A$5:$I$351,4,FALSE),0)","v":402},{"$f":"IFERROR(VLOOKUP($A281,Filtro!$A$5:$I$351,5,FALSE),0)","v":{"v":16592,"d":"16,592"}},281]
["80306043","0306043","Artrópodos macroscópicos y microscópicos (imagos y/o pupas y/o larvas), diagnóstico de",0,{"$f":"IFERROR(VLOOKUP($A282,Filtro!$A$5:$I$351,3,FALSE),0)","v":0},{"$f":"IFERROR(VLOOKUP($A282,Filtro!$A$5:$I$351,4,FALSE),0)","v":0},{"$f":"IFERROR(VLOOKUP($A282,Filtro!$A$5:$I$351,5,FALSE),0)","v":0},282]
["80306045","0306045","Coproparasitario seriado con técnica  para Cryptosporidium sp o para Diantamoeba fragilis (incluye los códigos 03-06-048 y/o 03-06-059 más aplicación de técnica de frotis con tinción tricrómica o tinción Ziehl-Neelsen en por lo menos 3 muestras, según corresponda)",0,{"$f":"IFERROR(VLOOKUP($A283,Filtro!$A$5:$I$351,3,FALSE),0)","v":0},{"$f":"IFERROR(VLOOKUP($A283,Filtro!$A$5:$I$351,4,FALSE),0)","v":0},{"$f":"IFERROR(VLOOKUP($A283,Filtro!$A$5:$I$351,5,FALSE),0)","v":3},283]
["80306046","0306046","Coproparasitario seriado para Fasciola hepática (incluye diagnostico de gusanos macroscópicos y ex. microscópico de 10 muestras separadas por método de Telemann y de otras 10 muestras separadas y simultáneas con las ant. por téc. de sedimentación)",0,{"$f":"IFERROR(VLOOKUP($A284,Filtro!$A$5:$I$351,3,FALSE),0)","v":0},{"$f":"IFERROR(VLOOKUP($A284,Filtro!$A$5:$I$351,4,FALSE),0)","v":0},{"$f":"IFERROR(VLOOKUP($A284,Filtro!$A$5:$I$351,5,FALSE),0)","v":0},284]
["80306047","0306047","Coproparasitario seriado para Isospora y Sarcocystis (incluye diagnóstico de gusanos macroscópicos y examen  microscópico de 3 muestras separadas)",0,{"$f":"IFERROR(VLOOKUP($A285,Filtro!$A$5:$I$351,3,FALSE),0)","v":0},{"$f":"IFERROR(VLOOKUP($A285,Filtro!$A$5:$I$351,4,FALSE),0)","v":0},{"$f":"IFERROR(VLOOKUP($A285,Filtro!$A$5:$I$351,5,FALSE),0)","v":6},285]
["80306048","0306048","Coproparasitológico seriado simple (incluye diagnostico de gusanos macroscópicos y examen microscópico por concentración de 3 muestras separadas método Telemann) (proc. aut.)",469,{"$f":"IFERROR(VLOOKUP($A286,Filtro!$A$5:$I$351,3,FALSE),0)","v":0},{"$f":"IFERROR(VLOOKUP($A286,Filtro!$A$5:$I$351,4,FALSE),0)","v":469},{"$f":"IFERROR(VLOOKUP($A286,Filtro!$A$5:$I$351,5,FALSE),0)","v":{"v":1019,"d":"1,019"}},286]
["80306049","0306049","Diagnostico de parásitos en jugo duodenal y/o bilis, examen macroscópico y microscópico (directo y/o concentración, c/s tinción)",0,{"$f":"IFERROR(VLOOKUP($A287,Filtro!$A$5:$I$351,3,FALSE),0)","v":0},{"$f":"IFERROR(VLOOKUP($A287,Filtro!$A$5:$I$351,4,FALSE),0)","v":0},{"$f":"IFERROR(VLOOKUP($A287,Filtro!$A$5:$I$351,5,FALSE),0)","v":0},287]
["80306050","0306050","Diagnostico parasitario en exudados, secreciones y otros líquidos orgánicos (no especificados mas adelante), examen macro y microscópico de (incluye concentración y/o tinción cuando proceda), c/u",0,{"$f":"IFERROR(VLOOKUP($A288,Filtro!$A$5:$I$351,3,FALSE),0)","v":0},{"$f":"IFERROR(VLOOKUP($A288,Filtro!$A$5:$I$351,4,FALSE),0)","v":0},{"$f":"IFERROR(VLOOKUP($A288,Filtro!$A$5:$I$351,5,FALSE),0)","v":0},288]
["80306051","0306051","Graham, examen de (incluye diagnostico de gusanos macroscópicos y examen microscópico de 5 muestras separadas)",150,{"$f":"IFERROR(VLOOKUP($A289,Filtro!$A$5:$I$351,3,FALSE),0)","v":0},{"$f":"IFERROR(VLOOKUP($A289,Filtro!$A$5:$I$351,4,FALSE),0)","v":150},{"$f":"IFERROR(VLOOKUP($A289,Filtro!$A$5:$I$351,5,FALSE),0)","v":321},289]
["80306052","0306052","Gusanos macroscópicos, diagnóstico de (proc. aut.)",1,{"$f":"IFERROR(VLOOKUP($A290,Filtro!$A$5:$I$351,3,FALSE),0)","v":0},{"$f":"IFERROR(VLOOKUP($A290,Filtro!$A$5:$I$351,4,FALSE),0)","v":1},{"$f":"IFERROR(VLOOKUP($A290,Filtro!$A$5:$I$351,5,FALSE),0)","v":72},290]
["80306053","0306053","Hemoparásitos, diagnóstico microscópico de (mínimo 10 frotis y/o gotas gruesas, c/s examen directo al fresco), cada sesión",0,{"$f":"IFERROR(VLOOKUP($A291,Filtro!$A$5:$I$351,3,FALSE),0)","v":0},{"$f":"IFERROR(VLOOKUP($A291,Filtro!$A$5:$I$351,4,FALSE),0)","v":0},{"$f":"IFERROR(VLOOKUP($A291,Filtro!$A$5:$I$351,5,FALSE),0)","v":0},291]
["80306054","0306054","Hemoparásitos, diagnóstico por técnica de Strout o similar en hasta 10 tubos capilares, cada sesión",0,{"$f":"IFERROR(VLOOKUP($A292,Filtro!$A$5:$I$351,3,FALSE),0)","v":0},{"$f":"IFERROR(VLOOKUP($A292,Filtro!$A$5:$I$351,4,FALSE),0)","v":0},{"$f":"IFERROR(VLOOKUP($A292,Filtro!$A$5:$I$351,5,FALSE),0)","v":0},292]
["80306056","0306056","Raspado de piel, examen microscópico de (\"Acarotest\"): de 6 a 10 preparaciones",0,{"$f":"IFERROR(VLOOKUP($A293,Filtro!$A$5:$I$351,3,FALSE),0)","v":0},{"$f":"IFERROR(VLOOKUP($A293,Filtro!$A$5:$I$351,4,FALSE),0)","v":0},{"$f":"IFERROR(VLOOKUP($A293,Filtro!$A$5:$I$351,5,FALSE),0)","v":0},293]
["80306057","0306057","Tenias post. trat., Diagnostico y búsqueda de escólex de",0,{"$f":"IFERROR(VLOOKUP($A294,Filtro!$A$5:$I$351,3,FALSE),0)","v":0},{"$f":"IFERROR(VLOOKUP($A294,Filtro!$A$5:$I$351,4,FALSE),0)","v":0},{"$f":"IFERROR(VLOOKUP($A294,Filtro!$A$5:$I$351,5,FALSE),0)","v":8},294]
["80306058","0306058","Xenodiagnóstico (cada aplicación de 2 cajas, con 6 ninfas por lo menos c/u, examinadas a los 20 y/o 30 días y hasta por 60 días más si procede)",0,{"$f":"IFERROR(VLOOKUP($A295,Filtro!$A$5:$I$351,3,FALSE),0)","v":0},{"$f":"IFERROR(VLOOKUP($A295,Filtro!$A$5:$I$351,4,FALSE),0)","v":0},{"$f":"IFERROR(VLOOKUP($A295,Filtro!$A$5:$I$351,5,FALSE),0)","v":0},295]
["80306059","0306059","Coproparasitológico seriado simple (incluye diagnóstico de gusanos macroscopicos  y exámen microscopico por concentración de tres muestras separadas método PAFS (proc. aut.)",69,{"$f":"IFERROR(VLOOKUP($A296,Filtro!$A$5:$I$351,3,FALSE),0)","v":0},{"$f":"IFERROR(VLOOKUP($A296,Filtro!$A$5:$I$351,4,FALSE),0)","v":69},{"$f":"IFERROR(VLOOKUP($A296,Filtro!$A$5:$I$351,5,FALSE),0)","v":167},296]
["80306061","0306061","Elisa indirecta (Chagas, hidatidosis, toxocariasis y otras), c/u",800,{"$f":"IFERROR(VLOOKUP($A297,Filtro!$A$5:$I$351,3,FALSE),0)","v":0},{"$f":"IFERROR(VLOOKUP($A297,Filtro!$A$5:$I$351,4,FALSE),0)","v":800},{"$f":"IFERROR(VLOOKUP($A297,Filtro!$A$5:$I$351,5,FALSE),0)","v":{"v":4548,"d":"4,548"}},297]
["80306062","0306062","Fijación del complemento (distomatosis, toxoplasmosis, cisticercosis y otras) c/u",0,{"$f":"IFERROR(VLOOKUP($A298,Filtro!$A$5:$I$351,3,FALSE),0)","v":0},{"$f":"IFERROR(VLOOKUP($A298,Filtro!$A$5:$I$351,4,FALSE),0)","v":0},{"$f":"IFERROR(VLOOKUP($A298,Filtro!$A$5:$I$351,5,FALSE),0)","v":0},298]
["80306063","0306063","Floculación en bentonita, látex, precipitinas o similar (triquinosis, hidatidosis y otros), c/u",0,{"$f":"IFERROR(VLOOKUP($A299,Filtro!$A$5:$I$351,3,FALSE),0)","v":0},{"$f":"IFERROR(VLOOKUP($A299,Filtro!$A$5:$I$351,4,FALSE),0)","v":0},{"$f":"IFERROR(VLOOKUP($A299,Filtro!$A$5:$I$351,5,FALSE),0)","v":0},299]
["80306064","0306064","Hemaglutinación indirecta (toxoplasmosis, Chagas, hidatidosis y otras), c/u",0,{"$f":"IFERROR(VLOOKUP($A300,Filtro!$A$5:$I$351,3,FALSE),0)","v":0},{"$f":"IFERROR(VLOOKUP($A300,Filtro!$A$5:$I$351,4,FALSE),0)","v":0},{"$f":"IFERROR(VLOOKUP($A300,Filtro!$A$5:$I$351,5,FALSE),0)","v":26},300]
["80306065","0306065","Inmunoelectroforesis o contrainmunoelectroforesis (hidatidosis, distomatosis, amebiasis y otras), c/u",0,{"$f":"IFERROR(VLOOKUP($A301,Filtro!$A$5:$I$351,3,FALSE),0)","v":0},{"$f":"IFERROR(VLOOKUP($A301,Filtro!$A$5:$I$351,4,FALSE),0)","v":0},{"$f":"IFERROR(VLOOKUP($A301,Filtro!$A$5:$I$351,5,FALSE),0)","v":0},301]
["80306066","0306066","Inmunofluorescencia indirecta (toxoplasmosis, Chagas, amebiasis y otras), c/u",7,{"$f":"IFERROR(VLOOKUP($A302,Filtro!$A$5:$I$351,3,FALSE),0)","v":0},{"$f":"IFERROR(VLOOKUP($A302,Filtro!$A$5:$I$351,4,FALSE),0)","v":7},{"$f":"IFERROR(VLOOKUP($A302,Filtro!$A$5:$I$351,5,FALSE),0)","v":15},302]
["80306067","0306067","Reacción intradérmica (incluye el valor y la aplicación del antígeno y del control y examen de las reacciones inmediatas y retardadas, cada antígeno) (bachmann, distomatosis u otras)",0,{"$f":"IFERROR(VLOOKUP($A303,Filtro!$A$5:$I$351,3,FALSE),0)","v":0},{"$f":"IFERROR(VLOOKUP($A303,Filtro!$A$5:$I$351,4,FALSE),0)","v":0},{"$f":"IFERROR(VLOOKUP($A303,Filtro!$A$5:$I$351,5,FALSE),0)","v":0},303]
["80306068","0306068","Aislamiento de virus (adenovirus, citomegalovirus, Coxsakie, herpes, influenza, polio, sarampión y otros), c/u",0,{"$f":"IFERROR(VLOOKUP($A304,Filtro!$A$5:$I$351,3,FALSE),0)","v":0},{"$f":"IFERROR(VLOOKUP($A304,Filtro!$A$5:$I$351,4,FALSE),0)","v":0},{"$f":"IFERROR(VLOOKUP($A304,Filtro!$A$5:$I$351,5,FALSE),0)","v":0},304]
["80306069","0306069","Anticuerpos virales, determ. de (adenovirus, citomegalovirus, herpes simple, rubéola, Influenza  A y B; virus varicela-zoster; virus sincicial respiratorio; parainfluenza 1, 2 y 3, Epstein Barr y otros), c/u",0,{"$f":"IFERROR(VLOOKUP($A305,Filtro!$A$5:$I$351,3,FALSE),0)","v":0},{"$f":"IFERROR(VLOOKUP($A305,Filtro!$A$5:$I$351,4,FALSE),0)","v":0},{"$f":"IFERROR(VLOOKUP($A305,Filtro!$A$5:$I$351,5,FALSE),0)","v":0},305]
["80306169","0306169","Anticuerpos virales, determ. de H.I.V.",{"$f":"SUM(E306:F306)","v":1},{"$f":"IFERROR(VLOOKUP($A306,Filtro!$A$5:$I$351,3,FALSE),0)","v":0},{"$f":"IFERROR(VLOOKUP($A306,Filtro!$A$5:$I$351,4,FALSE),0)","v":1},{"$f":"IFERROR(VLOOKUP($A306,Filtro!$A$5:$I$351,5,FALSE),0)","v":{"v":2549,"d":"2,549"}},306]
["80306070","0306070","Antígenos virales determ. de (adenovirus, citomegalovirus, herpes simple, rubéola, influenza y otros), (por cualquier técnica ej: inmunofluorescencia), c/u",0,{"$f":"IFERROR(VLOOKUP($A307,Filtro!$A$5:$I$351,3,FALSE),0)","v":0},{"$f":"IFERROR(VLOOKUP($A307,Filtro!$A$5:$I$351,4,FALSE),0)","v":0},{"$f":"IFERROR(VLOOKUP($A307,Filtro!$A$5:$I$351,5,FALSE),0)","v":62},307]
["80306170","0306170","Antígenos virales determ. de rotavirus, por cualquier técnica ",18,{"$f":"IFERROR(VLOOKUP($A308,Filtro!$A$5:$I$351,3,FALSE),0)","v":0},{"$f":"IFERROR(VLOOKUP($A308,Filtro!$A$5:$I$351,4,FALSE),0)","v":18},{"$f":"IFERROR(VLOOKUP($A308,Filtro!$A$5:$I$351,5,FALSE),0)","v":0},308]
["80306270","0306270","Antígenos virales determ. de virus sincicial, por cualquier técnica ",0,{"$f":"IFERROR(VLOOKUP($A309,Filtro!$A$5:$I$351,3,FALSE),0)","v":0},{"$f":"IFERROR(VLOOKUP($A309,Filtro!$A$5:$I$351,4,FALSE),0)","v":0},{"$f":"IFERROR(VLOOKUP($A309,Filtro!$A$5:$I$351,5,FALSE),0)","v":0},309]
["80306072","0306072","Reacción de seroneutralización para: virus polio, ECHO, Coxsakie, c/u",0,{"$f":"IFERROR(VLOOKUP($A310,Filtro!$A$5:$I$351,3,FALSE),0)","v":0},{"$f":"IFERROR(VLOOKUP($A310,Filtro!$A$5:$I$351,4,FALSE),0)","v":0},{"$f":"IFERROR(VLOOKUP($A310,Filtro!$A$5:$I$351,5,FALSE),0)","v":0},310]
["80306073","0306073","Virus hepatitis A, Anticore",0,{"$f":"IFERROR(VLOOKUP($A311,Filtro!$A$5:$I$351,3,FALSE),0)","v":0},{"$f":"IFERROR(VLOOKUP($A311,Filtro!$A$5:$I$351,4,FALSE),0)","v":0},{"$f":"IFERROR(VLOOKUP($A311,Filtro!$A$5:$I$351,5,FALSE),0)","v":0},311]
["80306074","0306074","Virus hepatitis A, anticuerpos IgM del",5,{"$f":"IFERROR(VLOOKUP($A312,Filtro!$A$5:$I$351,3,FALSE),0)","v":0},{"$f":"IFERROR(VLOOKUP($A312,Filtro!$A$5:$I$351,4,FALSE),0)","v":5},{"$f":"IFERROR(VLOOKUP($A312,Filtro!$A$5:$I$351,5,FALSE),0)","v":32},312]
["80306075","0306075","Virus hepatitis B, anticuerpo del antígeno E del",0,{"$f":"IFERROR(VLOOKUP($A313,Filtro!$A$5:$I$351,3,FALSE),0)","v":0},{"$f":"IFERROR(VLOOKUP($A313,Filtro!$A$5:$I$351,4,FALSE),0)","v":0},{"$f":"IFERROR(VLOOKUP($A313,Filtro!$A$5:$I$351,5,FALSE),0)","v":446},313]
["80306076","0306076","Virus hepatitis B, anticore total del (anti HBc total)",0,{"$f":"IFERROR(VLOOKUP($A314,Filtro!$A$5:$I$351,3,FALSE),0)","v":0},{"$f":"IFERROR(VLOOKUP($A314,Filtro!$A$5:$I$351,4,FALSE),0)","v":0},{"$f":"IFERROR(VLOOKUP($A314,Filtro!$A$5:$I$351,5,FALSE),0)","v":52},314]
["80306077","0306077","Virus hepatitis B, anticuerpos de antígeno de superficie (australiano)",0,{"$f":"IFERROR(VLOOKUP($A315,Filtro!$A$5:$I$351,3,FALSE),0)","v":0},{"$f":"IFERROR(VLOOKUP($A315,Filtro!$A$5:$I$351,4,FALSE),0)","v":0},{"$f":"IFERROR(VLOOKUP($A315,Filtro!$A$5:$I$351,5,FALSE),0)","v":8},315]
["80306078","0306078","Virus hepatitis B, antígeno E del (HBEAg)",2,{"$f":"IFERROR(VLOOKUP($A316,Filtro!$A$5:$I$351,3,FALSE),0)","v":0},{"$f":"IFERROR(VLOOKUP($A316,Filtro!$A$5:$I$351,4,FALSE),0)","v":2},{"$f":"IFERROR(VLOOKUP($A316,Filtro!$A$5:$I$351,5,FALSE),0)","v":{"v":1255,"d":"1,255"}},316]
["80306079","0306079","Virus hepatitis B, antígeno superficie",29,{"$f":"IFERROR(VLOOKUP($A317,Filtro!$A$5:$I$351,3,FALSE),0)","v":0},{"$f":"IFERROR(VLOOKUP($A317,Filtro!$A$5:$I$351,4,FALSE),0)","v":29},{"$f":"IFERROR(VLOOKUP($A317,Filtro!$A$5:$I$351,5,FALSE),0)","v":620},317]
["80306080","0306080","Virus hepatitis B, anticore IgM del (anti HBc IgM)",1,{"$f":"IFERROR(VLOOKUP($A318,Filtro!$A$5:$I$351,3,FALSE),0)","v":0},{"$f":"IFERROR(VLOOKUP($A318,Filtro!$A$5:$I$351,4,FALSE),0)","v":1},{"$f":"IFERROR(VLOOKUP($A318,Filtro!$A$5:$I$351,5,FALSE),0)","v":101},318]
["80306081","0306081","Virus hepatitis C, anticuerpos de (anti HCV)",0,{"$f":"IFERROR(VLOOKUP($A319,Filtro!$A$5:$I$351,3,FALSE),0)","v":0},{"$f":"IFERROR(VLOOKUP($A319,Filtro!$A$5:$I$351,4,FALSE),0)","v":0},{"$f":"IFERROR(VLOOKUP($A319,Filtro!$A$5:$I$351,5,FALSE),0)","v":22},319]
[null,"TOTAL",null,{"$f":"SUM(D242:D319)","v":{"v":19366,"d":"19,366"}},{"$f":"SUM(E242:E319)","v":0},{"$f":"SUM(F242:F319)","v":{"v":19366,"d":"19,366"}},{"$f":"SUM(G242:G319)","v":{"v":52454,"d":"52,454"}},320]
[{"$nulls":7},321]
[null,"EXÁMENES DE DEPOSICIONES, EXUDADOS, SECRESIONES Y OTROS LÍQUIDOS",{"$nulls":5},322]
["80308001","0308001","Azúcares reductores (Benedict-Fehling o similar)",{"$f":"SUM(E323:F323)","v":2},{"$f":"IFERROR(VLOOKUP($A323,Filtro!$A$5:$I$351,3,FALSE),0)","v":0},{"$f":"IFERROR(VLOOKUP($A323,Filtro!$A$5:$I$351,4,FALSE),0)","v":2},{"$f":"IFERROR(VLOOKUP($A323,Filtro!$A$5:$I$351,5,FALSE),0)","v":79},323]
["80308002","0308002","Balance graso (Van de Kamer) muestra de tres o más días",0,{"$f":"IFERROR(VLOOKUP($A324,Filtro!$A$5:$I$351,3,FALSE),0)","v":0},{"$f":"IFERROR(VLOOKUP($A324,Filtro!$A$5:$I$351,4,FALSE),0)","v":0},{"$f":"IFERROR(VLOOKUP($A324,Filtro!$A$5:$I$351,5,FALSE),0)","v":0},324]
["80308003","0308003","Grasas neutras (Sudán III)",0,{"$f":"IFERROR(VLOOKUP($A325,Filtro!$A$5:$I$351,3,FALSE),0)","v":0},{"$f":"IFERROR(VLOOKUP($A325,Filtro!$A$5:$I$351,4,FALSE),0)","v":0},{"$f":"IFERROR(VLOOKUP($A325,Filtro!$A$5:$I$351,5,FALSE),0)","v":0},325]
["80308004","0308004","Hemorragias ocultas, (bencidina, guayaco o test de Weber y similares), cualquier método, c/muestra",155,{"$f":"IFERROR(VLOOKUP($A326,Filtro!$A$5:$I$351,3,FALSE),0)","v":0},{"$f":"IFERROR(VLOOKUP($A326,Filtro!$A$5:$I$351,4,FALSE),0)","v":155},{"$f":"IFERROR(VLOOKUP($A326,Filtro!$A$5:$I$351,5,FALSE),0)","v":{"v":1048,"d":"1,048"}},326]
["80308005","0308005","Leucocitos fecales",140,{"$f":"IFERROR(VLOOKUP($A327,Filtro!$A$5:$I$351,3,FALSE),0)","v":0},{"$f":"IFERROR(VLOOKUP($A327,Filtro!$A$5:$I$351,4,FALSE),0)","v":140},{"$f":"IFERROR(VLOOKUP($A327,Filtro!$A$5:$I$351,5,FALSE),0)","v":277},327]
["80308006","0308006","PH",0,{"$f":"IFERROR(VLOOKUP($A328,Filtro!$A$5:$I$351,3,FALSE),0)","v":0},{"$f":"IFERROR(VLOOKUP($A328,Filtro!$A$5:$I$351,4,FALSE),0)","v":0},{"$f":"IFERROR(VLOOKUP($A328,Filtro!$A$5:$I$351,5,FALSE),0)","v":0},328]
["80308007","0308007","Porfirinas, c/u",0,{"$f":"IFERROR(VLOOKUP($A329,Filtro!$A$5:$I$351,3,FALSE),0)","v":0},{"$f":"IFERROR(VLOOKUP($A329,Filtro!$A$5:$I$351,4,FALSE),0)","v":0},{"$f":"IFERROR(VLOOKUP($A329,Filtro!$A$5:$I$351,5,FALSE),0)","v":0},329]
["80308008","0308008","Urobilinógeno cuantitativo",0,{"$f":"IFERROR(VLOOKUP($A330,Filtro!$A$5:$I$351,3,FALSE),0)","v":0},{"$f":"IFERROR(VLOOKUP($A330,Filtro!$A$5:$I$351,4,FALSE),0)","v":0},{"$f":"IFERROR(VLOOKUP($A330,Filtro!$A$5:$I$351,5,FALSE),0)","v":0},330]
["80308009","0308009","Células neoplásicas en fluídos biológicos",0,{"$f":"IFERROR(VLOOKUP($A331,Filtro!$A$5:$I$351,3,FALSE),0)","v":0},{"$f":"IFERROR(VLOOKUP($A331,Filtro!$A$5:$I$351,4,FALSE),0)","v":0},{"$f":"IFERROR(VLOOKUP($A331,Filtro!$A$5:$I$351,5,FALSE),0)","v":0},331]
["80308010","0308010","Citológico c/s tinción (incluye examen al fresco, recuento celular y citológico porcentual)",{"v":1862,"d":"1,862"},{"$f":"IFERROR(VLOOKUP($A332,Filtro!$A$5:$I$351,3,FALSE),0)","v":0},{"$f":"IFERROR(VLOOKUP($A332,Filtro!$A$5:$I$351,4,FALSE),0)","v":{"v":1862,"d":"1,862"}},{"$f":"IFERROR(VLOOKUP($A332,Filtro!$A$5:$I$351,5,FALSE),0)","v":17},332]
["80308011","0308011","Directo al fresco c/s tinción, (incluye trichomonas)",0,{"$f":"IFERROR(VLOOKUP($A333,Filtro!$A$5:$I$351,3,FALSE),0)","v":0},{"$f":"IFERROR(VLOOKUP($A333,Filtro!$A$5:$I$351,4,FALSE),0)","v":0},{"$f":"IFERROR(VLOOKUP($A333,Filtro!$A$5:$I$351,5,FALSE),0)","v":0},333]
["80308012","0308012","Electrolitos (sodio, potasio, cloro), c/u",50,{"$f":"IFERROR(VLOOKUP($A334,Filtro!$A$5:$I$351,3,FALSE),0)","v":0},{"$f":"IFERROR(VLOOKUP($A334,Filtro!$A$5:$I$351,4,FALSE),0)","v":50},{"$f":"IFERROR(VLOOKUP($A334,Filtro!$A$5:$I$351,5,FALSE),0)","v":{"v":1945,"d":"1,945"}},334]
["80308013","0308013","Eosinófilos, recuento de",0,{"$f":"IFERROR(VLOOKUP($A335,Filtro!$A$5:$I$351,3,FALSE),0)","v":0},{"$f":"IFERROR(VLOOKUP($A335,Filtro!$A$5:$I$351,4,FALSE),0)","v":0},{"$f":"IFERROR(VLOOKUP($A335,Filtro!$A$5:$I$351,5,FALSE),0)","v":308},335]
["80308014","0308014","Físico-químico (incluye aspecto, color, pH, glucosa, proteína, Pandy y filancia)",0,{"$f":"IFERROR(VLOOKUP($A336,Filtro!$A$5:$I$351,3,FALSE),0)","v":0},{"$f":"IFERROR(VLOOKUP($A336,Filtro!$A$5:$I$351,4,FALSE),0)","v":0},{"$f":"IFERROR(VLOOKUP($A336,Filtro!$A$5:$I$351,5,FALSE),0)","v":0},336]
["80308015","0308015","Glucosa en exudados secreciones y otros liquidos",0,{"$f":"IFERROR(VLOOKUP($A337,Filtro!$A$5:$I$351,3,FALSE),0)","v":0},{"$f":"IFERROR(VLOOKUP($A337,Filtro!$A$5:$I$351,4,FALSE),0)","v":0},{"$f":"IFERROR(VLOOKUP($A337,Filtro!$A$5:$I$351,5,FALSE),0)","v":0},337]
["80308016","0308016","Mucina, determinación de",0,{"$f":"IFERROR(VLOOKUP($A338,Filtro!$A$5:$I$351,3,FALSE),0)","v":0},{"$f":"IFERROR(VLOOKUP($A338,Filtro!$A$5:$I$351,4,FALSE),0)","v":0},{"$f":"IFERROR(VLOOKUP($A338,Filtro!$A$5:$I$351,5,FALSE),0)","v":0},338]
["80308017","0308017","pH, (proc. aut.)",0,{"$f":"IFERROR(VLOOKUP($A339,Filtro!$A$5:$I$351,3,FALSE),0)","v":0},{"$f":"IFERROR(VLOOKUP($A339,Filtro!$A$5:$I$351,4,FALSE),0)","v":0},{"$f":"IFERROR(VLOOKUP($A339,Filtro!$A$5:$I$351,5,FALSE),0)","v":0},339]
["80308018","0308018","Proteínas totales o albúmina (proc. aut.) c/u",0,{"$f":"IFERROR(VLOOKUP($A340,Filtro!$A$5:$I$351,3,FALSE),0)","v":0},{"$f":"IFERROR(VLOOKUP($A340,Filtro!$A$5:$I$351,4,FALSE),0)","v":0},{"$f":"IFERROR(VLOOKUP($A340,Filtro!$A$5:$I$351,5,FALSE),0)","v":74},340]
["80308019","0308019","Proteínas, electroforesis de (incluye proteínas totales)",0,{"$f":"IFERROR(VLOOKUP($A341,Filtro!$A$5:$I$351,3,FALSE),0)","v":0},{"$f":"IFERROR(VLOOKUP($A341,Filtro!$A$5:$I$351,4,FALSE),0)","v":0},{"$f":"IFERROR(VLOOKUP($A341,Filtro!$A$5:$I$351,5,FALSE),0)","v":0},341]
["80308020","0308020","Bandas oligoclonales (incluye electroforesis de L.C.R., suero e inmunofijación)",0,{"$f":"IFERROR(VLOOKUP($A342,Filtro!$A$5:$I$351,3,FALSE),0)","v":0},{"$f":"IFERROR(VLOOKUP($A342,Filtro!$A$5:$I$351,4,FALSE),0)","v":0},{"$f":"IFERROR(VLOOKUP($A342,Filtro!$A$5:$I$351,5,FALSE),0)","v":0},342]
["80308021","0308021","Glutamina",0,{"$f":"IFERROR(VLOOKUP($A343,Filtro!$A$5:$I$351,3,FALSE),0)","v":0},{"$f":"IFERROR(VLOOKUP($A343,Filtro!$A$5:$I$351,4,FALSE),0)","v":0},{"$f":"IFERROR(VLOOKUP($A343,Filtro!$A$5:$I$351,5,FALSE),0)","v":0},343]
["80308022","0308022","Indice IgG/albúmina (incluye determ. de IgG y albúmina en L.C.R. y suero)",0,{"$f":"IFERROR(VLOOKUP($A344,Filtro!$A$5:$I$351,3,FALSE),0)","v":0},{"$f":"IFERROR(VLOOKUP($A344,Filtro!$A$5:$I$351,4,FALSE),0)","v":0},{"$f":"IFERROR(VLOOKUP($A344,Filtro!$A$5:$I$351,5,FALSE),0)","v":42},344]
["80308023","0308023","Estudio de cristales (con luz polarizada)",0,{"$f":"IFERROR(VLOOKUP($A345,Filtro!$A$5:$I$351,3,FALSE),0)","v":0},{"$f":"IFERROR(VLOOKUP($A345,Filtro!$A$5:$I$351,4,FALSE),0)","v":0},{"$f":"IFERROR(VLOOKUP($A345,Filtro!$A$5:$I$351,5,FALSE),0)","v":0},345]
["80308024","0308024","Acidez titulable, pH, volumen (una muestra)",0,{"$f":"IFERROR(VLOOKUP($A346,Filtro!$A$5:$I$351,3,FALSE),0)","v":0},{"$f":"IFERROR(VLOOKUP($A346,Filtro!$A$5:$I$351,4,FALSE),0)","v":0},{"$f":"IFERROR(VLOOKUP($A346,Filtro!$A$5:$I$351,5,FALSE),0)","v":474},346]
["80308025","0308025","Prueba de estimulación máxima con histamina, mínimo 5 muestras (no incluye la histamina ni el antihistamínico).",0,{"$f":"IFERROR(VLOOKUP($A347,Filtro!$A$5:$I$351,3,FALSE),0)","v":0},{"$f":"IFERROR(VLOOKUP($A347,Filtro!$A$5:$I$351,4,FALSE),0)","v":0},{"$f":"IFERROR(VLOOKUP($A347,Filtro!$A$5:$I$351,5,FALSE),0)","v":2},347]
["80308026","0308026","Volumen, anhídrido carbónico, amilasa y lipasa",0,{"$f":"IFERROR(VLOOKUP($A348,Filtro!$A$5:$I$351,3,FALSE),0)","v":0},{"$f":"IFERROR(VLOOKUP($A348,Filtro!$A$5:$I$351,4,FALSE),0)","v":0},{"$f":"IFERROR(VLOOKUP($A348,Filtro!$A$5:$I$351,5,FALSE),0)","v":0},348]
["80308027","0308027","Cristales de colesterol",0,{"$f":"IFERROR(VLOOKUP($A349,Filtro!$A$5:$I$351,3,FALSE),0)","v":0},{"$f":"IFERROR(VLOOKUP($A349,Filtro!$A$5:$I$351,4,FALSE),0)","v":0},{"$f":"IFERROR(VLOOKUP($A349,Filtro!$A$5:$I$351,5,FALSE),0)","v":0},349]
["80308028","0308028","Lípidos biliares",0,{"$f":"IFERROR(VLOOKUP($A350,Filtro!$A$5:$I$351,3,FALSE),0)","v":0},{"$f":"IFERROR(VLOOKUP($A350,Filtro!$A$5:$I$351,4,FALSE),0)","v":0},{"$f":"IFERROR(VLOOKUP($A350,Filtro!$A$5:$I$351,5,FALSE),0)","v":0},350]
["80308029","0308029","Espermiograma (físico y microscópico, con o sin observación hasta 24 horas)",0,{"$f":"IFERROR(VLOOKUP($A351,Filtro!$A$5:$I$351,3,FALSE),0)","v":0},{"$f":"IFERROR(VLOOKUP($A351,Filtro!$A$5:$I$351,4,FALSE),0)","v":0},{"$f":"IFERROR(VLOOKUP($A351,Filtro!$A$5:$I$351,5,FALSE),0)","v":17},351]
["80308030","0308030","Fosfatasa ácida prostática",0,{"$f":"IFERROR(VLOOKUP($A352,Filtro!$A$5:$I$351,3,FALSE),0)","v":0},{"$f":"IFERROR(VLOOKUP($A352,Filtro!$A$5:$I$351,4,FALSE),0)","v":0},{"$f":"IFERROR(VLOOKUP($A352,Filtro!$A$5:$I$351,5,FALSE),0)","v":3},352]
["80308031","0308031","Fructosa, consumo de",0,{"$f":"IFERROR(VLOOKUP($A353,Filtro!$A$5:$I$351,3,FALSE),0)","v":0},{"$f":"IFERROR(VLOOKUP($A353,Filtro!$A$5:$I$351,4,FALSE),0)","v":0},{"$f":"IFERROR(VLOOKUP($A353,Filtro!$A$5:$I$351,5,FALSE),0)","v":30},353]
["80308032","0308032","Bilirrubina                               ",0,{"$f":"IFERROR(VLOOKUP($A354,Filtro!$A$5:$I$351,3,FALSE),0)","v":0},{"$f":"IFERROR(VLOOKUP($A354,Filtro!$A$5:$I$351,4,FALSE),0)","v":0},{"$f":"IFERROR(VLOOKUP($A354,Filtro!$A$5:$I$351,5,FALSE),0)","v":6},354]
["80308033","0308033","Células anaranjadas (proc. aut.)",0,{"$f":"IFERROR(VLOOKUP($A355,Filtro!$A$5:$I$351,3,FALSE),0)","v":0},{"$f":"IFERROR(VLOOKUP($A355,Filtro!$A$5:$I$351,4,FALSE),0)","v":0},{"$f":"IFERROR(VLOOKUP($A355,Filtro!$A$5:$I$351,5,FALSE),0)","v":0},355]
["80308034","0308034","Contaminantes (meconio y sangre) (proc. aut.)",5,{"$f":"IFERROR(VLOOKUP($A356,Filtro!$A$5:$I$351,3,FALSE),0)","v":0},{"$f":"IFERROR(VLOOKUP($A356,Filtro!$A$5:$I$351,4,FALSE),0)","v":5},{"$f":"IFERROR(VLOOKUP($A356,Filtro!$A$5:$I$351,5,FALSE),0)","v":0},356]
["80308035","0308035","Creatinina (proc. aut.)",0,{"$f":"IFERROR(VLOOKUP($A357,Filtro!$A$5:$I$351,3,FALSE),0)","v":0},{"$f":"IFERROR(VLOOKUP($A357,Filtro!$A$5:$I$351,4,FALSE),0)","v":0},{"$f":"IFERROR(VLOOKUP($A357,Filtro!$A$5:$I$351,5,FALSE),0)","v":{"v":1465,"d":"1,465"}},357]
["80308036","0308036","Fosfatidil glicerol y/o fosfatidil inositol",0,{"$f":"IFERROR(VLOOKUP($A358,Filtro!$A$5:$I$351,3,FALSE),0)","v":0},{"$f":"IFERROR(VLOOKUP($A358,Filtro!$A$5:$I$351,4,FALSE),0)","v":0},{"$f":"IFERROR(VLOOKUP($A358,Filtro!$A$5:$I$351,5,FALSE),0)","v":0},358]
["80308037","0308037","Indice de bilirrubina (prueba de Liley)",0,{"$f":"IFERROR(VLOOKUP($A359,Filtro!$A$5:$I$351,3,FALSE),0)","v":0},{"$f":"IFERROR(VLOOKUP($A359,Filtro!$A$5:$I$351,4,FALSE),0)","v":0},{"$f":"IFERROR(VLOOKUP($A359,Filtro!$A$5:$I$351,5,FALSE),0)","v":0},359]
["80308038","0308038","Indice lecitina/esfingomielina",0,{"$f":"IFERROR(VLOOKUP($A360,Filtro!$A$5:$I$351,3,FALSE),0)","v":0},{"$f":"IFERROR(VLOOKUP($A360,Filtro!$A$5:$I$351,4,FALSE),0)","v":0},{"$f":"IFERROR(VLOOKUP($A360,Filtro!$A$5:$I$351,5,FALSE),0)","v":0},360]
["80308039","0308039","Madurez fetal completa (físico; células anaranjadas, bilirrubina, test de Clements, creatinina, contaminantes)",0,{"$f":"IFERROR(VLOOKUP($A361,Filtro!$A$5:$I$351,3,FALSE),0)","v":0},{"$f":"IFERROR(VLOOKUP($A361,Filtro!$A$5:$I$351,4,FALSE),0)","v":0},{"$f":"IFERROR(VLOOKUP($A361,Filtro!$A$5:$I$351,5,FALSE),0)","v":0},361]
["80308040","0308040","Test de Clements (proc. aut.)",0,{"$f":"IFERROR(VLOOKUP($A362,Filtro!$A$5:$I$351,3,FALSE),0)","v":0},{"$f":"IFERROR(VLOOKUP($A362,Filtro!$A$5:$I$351,4,FALSE),0)","v":0},{"$f":"IFERROR(VLOOKUP($A362,Filtro!$A$5:$I$351,5,FALSE),0)","v":2},362]
["80308041","0308041","Colpocitograma",0,{"$f":"IFERROR(VLOOKUP($A363,Filtro!$A$5:$I$351,3,FALSE),0)","v":0},{"$f":"IFERROR(VLOOKUP($A363,Filtro!$A$5:$I$351,4,FALSE),0)","v":0},{"$f":"IFERROR(VLOOKUP($A363,Filtro!$A$5:$I$351,5,FALSE),0)","v":0},363]
["80308042","0308042","Cristalización y filancia de moco cervical",0,{"$f":"IFERROR(VLOOKUP($A364,Filtro!$A$5:$I$351,3,FALSE),0)","v":0},{"$f":"IFERROR(VLOOKUP($A364,Filtro!$A$5:$I$351,4,FALSE),0)","v":0},{"$f":"IFERROR(VLOOKUP($A364,Filtro!$A$5:$I$351,5,FALSE),0)","v":0},364]
["80308043","0308043","Moco-semen, prueba de compatibilidad",0,{"$f":"IFERROR(VLOOKUP($A365,Filtro!$A$5:$I$351,3,FALSE),0)","v":0},{"$f":"IFERROR(VLOOKUP($A365,Filtro!$A$5:$I$351,4,FALSE),0)","v":0},{"$f":"IFERROR(VLOOKUP($A365,Filtro!$A$5:$I$351,5,FALSE),0)","v":0},365]
["80308044","0308044","Flujo vaginal o secreción uretral, estudio de (incluye toma de muestra y códigos 03-06-004, 03-06-005, 03-06-008, 03-06-017, y 03-06-026 )",139,{"$f":"IFERROR(VLOOKUP($A366,Filtro!$A$5:$I$351,3,FALSE),0)","v":0},{"$f":"IFERROR(VLOOKUP($A366,Filtro!$A$5:$I$351,4,FALSE),0)","v":139},{"$f":"IFERROR(VLOOKUP($A366,Filtro!$A$5:$I$351,5,FALSE),0)","v":49},366]
[null,"TOTAL",null,{"$f":"SUM(D323:D366)","v":{"v":2353,"d":"2,353"}},{"$f":"SUM(E323:E366)","v":0},{"$f":"SUM(F323:F366)","v":{"v":2353,"d":"2,353"}},{"$f":"SUM(G323:G366)","v":{"v":5838,"d":"5,838"}},367]
[{"$nulls":7},368]
[null,"EXÁMENES DE ORINA",{"$nulls":5},369]
["80309001","0309001","Acido ascórbico",{"$f":"SUM(E370:F370)","v":0},{"$f":"IFERROR(VLOOKUP($A370,Filtro!$A$5:$I$351,3,FALSE),0)","v":0},{"$f":"IFERROR(VLOOKUP($A370,Filtro!$A$5:$I$351,4,FALSE),0)","v":0},{"$f":"IFERROR(VLOOKUP($A370,Filtro!$A$5:$I$351,5,FALSE),0)","v":0},370]
["80309002","0309002","Acido delta aminolevulínico",0,{"$f":"IFERROR(VLOOKUP($A371,Filtro!$A$5:$I$351,3,FALSE),0)","v":0},{"$f":"IFERROR(VLOOKUP($A371,Filtro!$A$5:$I$351,4,FALSE),0)","v":0},{"$f":"IFERROR(VLOOKUP($A371,Filtro!$A$5:$I$351,5,FALSE),0)","v":0},371]
["80309003","0309003","Acido fenilpirúvico (PKU, cualitativo)",0,{"$f":"IFERROR(VLOOKUP($A372,Filtro!$A$5:$I$351,3,FALSE),0)","v":0},{"$f":"IFERROR(VLOOKUP($A372,Filtro!$A$5:$I$351,4,FALSE),0)","v":0},{"$f":"IFERROR(VLOOKUP($A372,Filtro!$A$5:$I$351,5,FALSE),0)","v":0},372]
["80309004","0309004","Acido úrico cuantitativo",14,{"$f":"IFERROR(VLOOKUP($A373,Filtro!$A$5:$I$351,3,FALSE),0)","v":0},{"$f":"IFERROR(VLOOKUP($A373,Filtro!$A$5:$I$351,4,FALSE),0)","v":14},{"$f":"IFERROR(VLOOKUP($A373,Filtro!$A$5:$I$351,5,FALSE),0)","v":719},373]
["80309005","0309005","Acido 5 hidroxiindolacético cuantitativo",0,{"$f":"IFERROR(VLOOKUP($A374,Filtro!$A$5:$I$351,3,FALSE),0)","v":0},{"$f":"IFERROR(VLOOKUP($A374,Filtro!$A$5:$I$351,4,FALSE),0)","v":0},{"$f":"IFERROR(VLOOKUP($A374,Filtro!$A$5:$I$351,5,FALSE),0)","v":0},374]
["80309006","0309006","Amilasa cuantitativa en orina",0,{"$f":"IFERROR(VLOOKUP($A375,Filtro!$A$5:$I$351,3,FALSE),0)","v":0},{"$f":"IFERROR(VLOOKUP($A375,Filtro!$A$5:$I$351,4,FALSE),0)","v":0},{"$f":"IFERROR(VLOOKUP($A375,Filtro!$A$5:$I$351,5,FALSE),0)","v":0},375]
["80309007","0309007","Aminoácidos (cualitativo) (excepto fenilalanina, PKU)",0,{"$f":"IFERROR(VLOOKUP($A376,Filtro!$A$5:$I$351,3,FALSE),0)","v":0},{"$f":"IFERROR(VLOOKUP($A376,Filtro!$A$5:$I$351,4,FALSE),0)","v":0},{"$f":"IFERROR(VLOOKUP($A376,Filtro!$A$5:$I$351,5,FALSE),0)","v":0},376]
["80309008","0309008","Calcio cuantitativo en orina",0,{"$f":"IFERROR(VLOOKUP($A377,Filtro!$A$5:$I$351,3,FALSE),0)","v":0},{"$f":"IFERROR(VLOOKUP($A377,Filtro!$A$5:$I$351,4,FALSE),0)","v":0},{"$f":"IFERROR(VLOOKUP($A377,Filtro!$A$5:$I$351,5,FALSE),0)","v":7},377]
["80309009","0309009","Cálculo urinario (examen físico y químico)",0,{"$f":"IFERROR(VLOOKUP($A378,Filtro!$A$5:$I$351,3,FALSE),0)","v":0},{"$f":"IFERROR(VLOOKUP($A378,Filtro!$A$5:$I$351,4,FALSE),0)","v":0},{"$f":"IFERROR(VLOOKUP($A378,Filtro!$A$5:$I$351,5,FALSE),0)","v":0},378]
["80309010","0309010","Creatinina cuantitativa en orina",{"v":27910,"d":"27,910"},{"$f":"IFERROR(VLOOKUP($A379,Filtro!$A$5:$I$351,3,FALSE),0)","v":0},{"$f":"IFERROR(VLOOKUP($A379,Filtro!$A$5:$I$351,4,FALSE),0)","v":{"v":27910,"d":"27,910"}},{"$f":"IFERROR(VLOOKUP($A379,Filtro!$A$5:$I$351,5,FALSE),0)","v":{"v":26709,"d":"26,709"}},379]
["80309011","0309011","Cuerpos cetónicos",0,{"$f":"IFERROR(VLOOKUP($A380,Filtro!$A$5:$I$351,3,FALSE),0)","v":0},{"$f":"IFERROR(VLOOKUP($A380,Filtro!$A$5:$I$351,4,FALSE),0)","v":0},{"$f":"IFERROR(VLOOKUP($A380,Filtro!$A$5:$I$351,5,FALSE),0)","v":0},380]
["80309012","0309012","Electrolitos (sodio, potasio, cloro) c/u en orina",45,{"$f":"IFERROR(VLOOKUP($A381,Filtro!$A$5:$I$351,3,FALSE),0)","v":0},{"$f":"IFERROR(VLOOKUP($A381,Filtro!$A$5:$I$351,4,FALSE),0)","v":45},{"$f":"IFERROR(VLOOKUP($A381,Filtro!$A$5:$I$351,5,FALSE),0)","v":45},381]
["80309013","0309013","Microalbuminuria cuantitativa",{"v":27808,"d":"27,808"},{"$f":"IFERROR(VLOOKUP($A382,Filtro!$A$5:$I$351,3,FALSE),0)","v":0},{"$f":"IFERROR(VLOOKUP($A382,Filtro!$A$5:$I$351,4,FALSE),0)","v":{"v":27808,"d":"27,808"}},{"$f":"IFERROR(VLOOKUP($A382,Filtro!$A$5:$I$351,5,FALSE),0)","v":{"v":39999,"d":"39,999"}},382]
["80309014","0309014","Embarazo, detección de (cualquier técnica)",208,{"$f":"IFERROR(VLOOKUP($A383,Filtro!$A$5:$I$351,3,FALSE),0)","v":25},{"$f":"IFERROR(VLOOKUP($A383,Filtro!$A$5:$I$351,4,FALSE),0)","v":183},{"$f":"IFERROR(VLOOKUP($A383,Filtro!$A$5:$I$351,5,FALSE),0)","v":145},383]
["80309040","0309040","Fenilquetonuria (PKU), cuantitativo",11,{"$f":"IFERROR(VLOOKUP($A384,Filtro!$A$5:$I$351,3,FALSE),0)","v":11},{"$f":"IFERROR(VLOOKUP($A384,Filtro!$A$5:$I$351,4,FALSE),0)","v":0},{"$f":"IFERROR(VLOOKUP($A384,Filtro!$A$5:$I$351,5,FALSE),0)","v":0},384]
["80309015","0309015","Fósforo cuantitativo en orina",0,{"$f":"IFERROR(VLOOKUP($A385,Filtro!$A$5:$I$351,3,FALSE),0)","v":0},{"$f":"IFERROR(VLOOKUP($A385,Filtro!$A$5:$I$351,4,FALSE),0)","v":0},{"$f":"IFERROR(VLOOKUP($A385,Filtro!$A$5:$I$351,5,FALSE),0)","v":11},385]
["80309016","0309016","Glucosa (cuantitativo) en orina",943,{"$f":"IFERROR(VLOOKUP($A386,Filtro!$A$5:$I$351,3,FALSE),0)","v":0},{"$f":"IFERROR(VLOOKUP($A386,Filtro!$A$5:$I$351,4,FALSE),0)","v":943},{"$f":"IFERROR(VLOOKUP($A386,Filtro!$A$5:$I$351,5,FALSE),0)","v":0},386]
["80309035","0309035","Hemosiderina",0,{"$f":"IFERROR(VLOOKUP($A387,Filtro!$A$5:$I$351,3,FALSE),0)","v":0},{"$f":"IFERROR(VLOOKUP($A387,Filtro!$A$5:$I$351,4,FALSE),0)","v":0},{"$f":"IFERROR(VLOOKUP($A387,Filtro!$A$5:$I$351,5,FALSE),0)","v":0},387]
["80309017","0309017","Hidroxiprolina en orina",0,{"$f":"IFERROR(VLOOKUP($A388,Filtro!$A$5:$I$351,3,FALSE),0)","v":0},{"$f":"IFERROR(VLOOKUP($A388,Filtro!$A$5:$I$351,4,FALSE),0)","v":0},{"$f":"IFERROR(VLOOKUP($A388,Filtro!$A$5:$I$351,5,FALSE),0)","v":0},388]
["80309018","0309018","Melanogenuria (test de cloruro férrico)",0,{"$f":"IFERROR(VLOOKUP($A389,Filtro!$A$5:$I$351,3,FALSE),0)","v":0},{"$f":"IFERROR(VLOOKUP($A389,Filtro!$A$5:$I$351,4,FALSE),0)","v":0},{"$f":"IFERROR(VLOOKUP($A389,Filtro!$A$5:$I$351,5,FALSE),0)","v":0},389]
["80309019","0309019","Mucopolisacáridos",0,{"$f":"IFERROR(VLOOKUP($A390,Filtro!$A$5:$I$351,3,FALSE),0)","v":0},{"$f":"IFERROR(VLOOKUP($A390,Filtro!$A$5:$I$351,4,FALSE),0)","v":0},{"$f":"IFERROR(VLOOKUP($A390,Filtro!$A$5:$I$351,5,FALSE),0)","v":0},390]
["80309020","0309020","Nitrógeno ureico o urea en orina (cuantitativo)",54,{"$f":"IFERROR(VLOOKUP($A391,Filtro!$A$5:$I$351,3,FALSE),0)","v":0},{"$f":"IFERROR(VLOOKUP($A391,Filtro!$A$5:$I$351,4,FALSE),0)","v":54},{"$f":"IFERROR(VLOOKUP($A391,Filtro!$A$5:$I$351,5,FALSE),0)","v":{"v":1134,"d":"1,134"}},391]
["80309021","0309021","Nucleótidos cíclicos (CAMP, CGM, u otros) c/u",111,{"$f":"IFERROR(VLOOKUP($A392,Filtro!$A$5:$I$351,3,FALSE),0)","v":0},{"$f":"IFERROR(VLOOKUP($A392,Filtro!$A$5:$I$351,4,FALSE),0)","v":111},{"$f":"IFERROR(VLOOKUP($A392,Filtro!$A$5:$I$351,5,FALSE),0)","v":111},392]
["80309022","0309022","Orina completa, (incluye cód. 03-09-023 y 03-09-024)",{"v":41035,"d":"41,035"},{"$f":"IFERROR(VLOOKUP($A393,Filtro!$A$5:$I$351,3,FALSE),0)","v":0},{"$f":"IFERROR(VLOOKUP($A393,Filtro!$A$5:$I$351,4,FALSE),0)","v":{"v":41035,"d":"41,035"}},{"$f":"IFERROR(VLOOKUP($A393,Filtro!$A$5:$I$351,5,FALSE),0)","v":{"v":92395,"d":"92,395"}},393]
["80309023","0309023","Orina, físico-químico (aspecto, color, densidad, pH, proteínas, glucosa, cuerpos cetónicos, urobilinógeno, bilirrubina, hemoglobina y nitritos) todos o cada uno de los parámetros (proc. aut.)",{"v":1597,"d":"1,597"},{"$f":"IFERROR(VLOOKUP($A394,Filtro!$A$5:$I$351,3,FALSE),0)","v":{"v":1504,"d":"1,504"}},{"$f":"IFERROR(VLOOKUP($A394,Filtro!$A$5:$I$351,4,FALSE),0)","v":93},{"$f":"IFERROR(VLOOKUP($A394,Filtro!$A$5:$I$351,5,FALSE),0)","v":{"v":2688,"d":"2,688"}},394]
["80309024","0309024","Orina, sedimento (proc. aut.)",0,{"$f":"IFERROR(VLOOKUP($A395,Filtro!$A$5:$I$351,3,FALSE),0)","v":0},{"$f":"IFERROR(VLOOKUP($A395,Filtro!$A$5:$I$351,4,FALSE),0)","v":0},{"$f":"IFERROR(VLOOKUP($A395,Filtro!$A$5:$I$351,5,FALSE),0)","v":{"v":3320,"d":"3,320"}},395]
["80309025","0309025","Osmolalidad",0,{"$f":"IFERROR(VLOOKUP($A396,Filtro!$A$5:$I$351,3,FALSE),0)","v":0},{"$f":"IFERROR(VLOOKUP($A396,Filtro!$A$5:$I$351,4,FALSE),0)","v":0},{"$f":"IFERROR(VLOOKUP($A396,Filtro!$A$5:$I$351,5,FALSE),0)","v":0},396]
["80309027","0309027","Porfirinas, c/u",0,{"$f":"IFERROR(VLOOKUP($A397,Filtro!$A$5:$I$351,3,FALSE),0)","v":0},{"$f":"IFERROR(VLOOKUP($A397,Filtro!$A$5:$I$351,4,FALSE),0)","v":0},{"$f":"IFERROR(VLOOKUP($A397,Filtro!$A$5:$I$351,5,FALSE),0)","v":2},397]
["80309028","0309028","Proteína (cuantitativa) en orina",{"v":1263,"d":"1,263"},{"$f":"IFERROR(VLOOKUP($A398,Filtro!$A$5:$I$351,3,FALSE),0)","v":0},{"$f":"IFERROR(VLOOKUP($A398,Filtro!$A$5:$I$351,4,FALSE),0)","v":{"v":1263,"d":"1,263"}},{"$f":"IFERROR(VLOOKUP($A398,Filtro!$A$5:$I$351,5,FALSE),0)","v":{"v":6152,"d":"6,152"}},398]
["80309029","0309029","Proteínas de Bence-Jones prueba térmica",0,{"$f":"IFERROR(VLOOKUP($A399,Filtro!$A$5:$I$351,3,FALSE),0)","v":0},{"$f":"IFERROR(VLOOKUP($A399,Filtro!$A$5:$I$351,4,FALSE),0)","v":0},{"$f":"IFERROR(VLOOKUP($A399,Filtro!$A$5:$I$351,5,FALSE),0)","v":379},399]
[null,"TOTAL",null,{"$f":"SUM(D370:D399)","v":{"v":100999,"d":"100,999"}},{"$f":"SUM(E370:E399)","v":{"v":1540,"d":"1,540"}},{"$f":"SUM(F370:F399)","v":{"v":99459,"d":"99,459"}},{"$f":"SUM(G370:G399)","v":{"v":173816,"d":"173,816"}},400]
[null,"TOTAL EXÁMENES",null,{"$f":"+D98+D170+D179+D239+D320+D367+D400","v":{"v":530338,"d":"530,338"}},{"$f":"+E98+E170+E179+E239+E320+E367+E400","v":{"v":1540,"d":"1,540"}},{"$f":"+F98+F170+F179+F239+F320+F367+F400","v":{"v":528798,"d":"528,798"}},{"$f":"+G98+G170+G179+G239+G320+G367+G400","v":{"v":1252356,"d":"1,252,356"}},401]
[{"$nulls":7},402]
[null,"EXÁMENES RADIOLÓGICOS",{"$nulls":5},403]
["80401001","0401001","Radiografía de las glándulas salivales \"sialografía\"",{"$f":"SUM(E404:F404)","v":13},{"$f":"IFERROR(VLOOKUP($A404,Filtro!$A$5:$I$351,3,FALSE),0)","v":13},{"$f":"IFERROR(VLOOKUP($A404,Filtro!$A$5:$I$351,4,FALSE),0)","v":0},{"$f":"IFERROR(VLOOKUP($A404,Filtro!$A$5:$I$351,5,FALSE),0)","v":0},404]
["80401002","0401002","Radiografía de partes blandas, laringe lateral, cavum rinofaríngeo (rinofarinx). ",75,{"$f":"IFERROR(VLOOKUP($A405,Filtro!$A$5:$I$351,3,FALSE),0)","v":75},{"$f":"IFERROR(VLOOKUP($A405,Filtro!$A$5:$I$351,4,FALSE),0)","v":0},{"$f":"IFERROR(VLOOKUP($A405,Filtro!$A$5:$I$351,5,FALSE),0)","v":49},405]
["80401003","0401003","Planigrafías laringe  (4 EXP.)                     ",0,{"$f":"IFERROR(VLOOKUP($A406,Filtro!$A$5:$I$351,3,FALSE),0)","v":0},{"$f":"IFERROR(VLOOKUP($A406,Filtro!$A$5:$I$351,4,FALSE),0)","v":0},{"$f":"IFERROR(VLOOKUP($A406,Filtro!$A$5:$I$351,5,FALSE),0)","v":0},406]
["80401004","0401004","Radiografía de tórax, proyección complementaria (oblicuas, selectivas u otras)",14,{"$f":"IFERROR(VLOOKUP($A407,Filtro!$A$5:$I$351,3,FALSE),0)","v":0},{"$f":"IFERROR(VLOOKUP($A407,Filtro!$A$5:$I$351,4,FALSE),0)","v":14},{"$f":"IFERROR(VLOOKUP($A407,Filtro!$A$5:$I$351,5,FALSE),0)","v":33},407]
["80401005","0401005","Tórax, proyección complementaria de corazón (oblicuas u otras) (1 exp.) c/u       ",0,{"$f":"IFERROR(VLOOKUP($A408,Filtro!$A$5:$I$351,3,FALSE),0)","v":0},{"$f":"IFERROR(VLOOKUP($A408,Filtro!$A$5:$I$351,4,FALSE),0)","v":0},{"$f":"IFERROR(VLOOKUP($A408,Filtro!$A$5:$I$351,5,FALSE),0)","v":0},408]
["80401006","0401006","Estudio radiológico de corazón (incluye fluoroscopía, telerradiografías frontal y lateral con esofagograma) ",0,{"$f":"IFERROR(VLOOKUP($A409,Filtro!$A$5:$I$351,3,FALSE),0)","v":0},{"$f":"IFERROR(VLOOKUP($A409,Filtro!$A$5:$I$351,4,FALSE),0)","v":0},{"$f":"IFERROR(VLOOKUP($A409,Filtro!$A$5:$I$351,5,FALSE),0)","v":0},409]
["80401007","0401007","Planigrafia localizada (incluye mínimo 6 cortes) (6 exp.)     ",0,{"$f":"IFERROR(VLOOKUP($A410,Filtro!$A$5:$I$351,3,FALSE),0)","v":0},{"$f":"IFERROR(VLOOKUP($A410,Filtro!$A$5:$I$351,4,FALSE),0)","v":0},{"$f":"IFERROR(VLOOKUP($A410,Filtro!$A$5:$I$351,5,FALSE),0)","v":0},410]
["80401008","0401008","Radiografía de tórax  frontal o lateral con equipo móvil fuera del departamento de rayos.",0,{"$f":"IFERROR(VLOOKUP($A411,Filtro!$A$5:$I$351,3,FALSE),0)","v":0},{"$f":"IFERROR(VLOOKUP($A411,Filtro!$A$5:$I$351,4,FALSE),0)","v":0},{"$f":"IFERROR(VLOOKUP($A411,Filtro!$A$5:$I$351,5,FALSE),0)","v":68},411]
["80401009","0401009","Radiografía de tórax simple frontal o lateral ",{"v":1084,"d":"1,084"},{"$f":"IFERROR(VLOOKUP($A412,Filtro!$A$5:$I$351,3,FALSE),0)","v":{"v":1034,"d":"1,034"}},{"$f":"IFERROR(VLOOKUP($A412,Filtro!$A$5:$I$351,4,FALSE),0)","v":50},{"$f":"IFERROR(VLOOKUP($A412,Filtro!$A$5:$I$351,5,FALSE),0)","v":649},412]
["80401070","0401070","Radiografía de tórax frontal y lateral",{"v":9531,"d":"9,531"},{"$f":"IFERROR(VLOOKUP($A413,Filtro!$A$5:$I$351,3,FALSE),0)","v":{"v":7465,"d":"7,465"}},{"$f":"IFERROR(VLOOKUP($A413,Filtro!$A$5:$I$351,4,FALSE),0)","v":{"v":2066,"d":"2,066"}},{"$f":"IFERROR(VLOOKUP($A413,Filtro!$A$5:$I$351,5,FALSE),0)","v":{"v":4205,"d":"4,205"}},413]
["80401010","0401010","Mamografía bilateral",918,{"$f":"IFERROR(VLOOKUP($A414,Filtro!$A$5:$I$351,3,FALSE),0)","v":0},{"$f":"IFERROR(VLOOKUP($A414,Filtro!$A$5:$I$351,4,FALSE),0)","v":918},{"$f":"IFERROR(VLOOKUP($A414,Filtro!$A$5:$I$351,5,FALSE),0)","v":{"v":3596,"d":"3,596"}},414]
["80401110","0401110","Mamografía unilateral",0,{"$f":"IFERROR(VLOOKUP($A415,Filtro!$A$5:$I$351,3,FALSE),0)","v":0},{"$f":"IFERROR(VLOOKUP($A415,Filtro!$A$5:$I$351,4,FALSE),0)","v":0},{"$f":"IFERROR(VLOOKUP($A415,Filtro!$A$5:$I$351,5,FALSE),0)","v":671},415]
["80401130","0401130","Mamografía proyección complementaria  (axilar u otras)",0,{"$f":"IFERROR(VLOOKUP($A416,Filtro!$A$5:$I$351,3,FALSE),0)","v":0},{"$f":"IFERROR(VLOOKUP($A416,Filtro!$A$5:$I$351,4,FALSE),0)","v":0},{"$f":"IFERROR(VLOOKUP($A416,Filtro!$A$5:$I$351,5,FALSE),0)","v":0},416]
["80401011","0401011","Marcación preoperatoria de lesiones de la mama",0,{"$f":"IFERROR(VLOOKUP($A417,Filtro!$A$5:$I$351,3,FALSE),0)","v":0},{"$f":"IFERROR(VLOOKUP($A417,Filtro!$A$5:$I$351,4,FALSE),0)","v":0},{"$f":"IFERROR(VLOOKUP($A417,Filtro!$A$5:$I$351,5,FALSE),0)","v":0},417]
["80401012","0401012","Radiografía de mama, pieza operatoria",0,{"$f":"IFERROR(VLOOKUP($A418,Filtro!$A$5:$I$351,3,FALSE),0)","v":0},{"$f":"IFERROR(VLOOKUP($A418,Filtro!$A$5:$I$351,4,FALSE),0)","v":0},{"$f":"IFERROR(VLOOKUP($A418,Filtro!$A$5:$I$351,5,FALSE),0)","v":0},418]
["80401013","0401013","Radiografía de Abdomen Simple",978,{"$f":"IFERROR(VLOOKUP($A419,Filtro!$A$5:$I$351,3,FALSE),0)","v":978},{"$f":"IFERROR(VLOOKUP($A419,Filtro!$A$5:$I$351,4,FALSE),0)","v":0},{"$f":"IFERROR(VLOOKUP($A419,Filtro!$A$5:$I$351,5,FALSE),0)","v":79},419]
["80401014","0401014","Radiografía de abdomen simple, proyección complementaria (lateral y/o oblicua)",92,{"$f":"IFERROR(VLOOKUP($A420,Filtro!$A$5:$I$351,3,FALSE),0)","v":92},{"$f":"IFERROR(VLOOKUP($A420,Filtro!$A$5:$I$351,4,FALSE),0)","v":0},{"$f":"IFERROR(VLOOKUP($A420,Filtro!$A$5:$I$351,5,FALSE),0)","v":0},420]
["80401015","0401015","Colangiografía intra o postoperatoria (por sonda T, o similar)",0,{"$f":"IFERROR(VLOOKUP($A421,Filtro!$A$5:$I$351,3,FALSE),0)","v":0},{"$f":"IFERROR(VLOOKUP($A421,Filtro!$A$5:$I$351,4,FALSE),0)","v":0},{"$f":"IFERROR(VLOOKUP($A421,Filtro!$A$5:$I$351,5,FALSE),0)","v":0},421]
["80401016","0401016","Colangiografía medica con planigrafía (6 exp.)        ",0,{"$f":"IFERROR(VLOOKUP($A422,Filtro!$A$5:$I$351,3,FALSE),0)","v":0},{"$f":"IFERROR(VLOOKUP($A422,Filtro!$A$5:$I$351,4,FALSE),0)","v":0},{"$f":"IFERROR(VLOOKUP($A422,Filtro!$A$5:$I$351,5,FALSE),0)","v":0},422]
["80401017","0401017","Colecistografía c/s seriografía (34 exp.)                ",0,{"$f":"IFERROR(VLOOKUP($A423,Filtro!$A$5:$I$351,3,FALSE),0)","v":0},{"$f":"IFERROR(VLOOKUP($A423,Filtro!$A$5:$I$351,4,FALSE),0)","v":0},{"$f":"IFERROR(VLOOKUP($A423,Filtro!$A$5:$I$351,5,FALSE),0)","v":0},423]
["80401018","0401018","Enema baritado del colon (incluye llene y control post-vaciamiento)",0,{"$f":"IFERROR(VLOOKUP($A424,Filtro!$A$5:$I$351,3,FALSE),0)","v":0},{"$f":"IFERROR(VLOOKUP($A424,Filtro!$A$5:$I$351,4,FALSE),0)","v":0},{"$f":"IFERROR(VLOOKUP($A424,Filtro!$A$5:$I$351,5,FALSE),0)","v":0},424]
["80401019","0401019","Enema baritado del colon o intestino delgado, doble contraste",0,{"$f":"IFERROR(VLOOKUP($A425,Filtro!$A$5:$I$351,3,FALSE),0)","v":0},{"$f":"IFERROR(VLOOKUP($A425,Filtro!$A$5:$I$351,4,FALSE),0)","v":0},{"$f":"IFERROR(VLOOKUP($A425,Filtro!$A$5:$I$351,5,FALSE),0)","v":0},425]
["80401020","0401020","Esofagograma  (incluye pesquisa de cuerpo extraño) (proc.aut.)",0,{"$f":"IFERROR(VLOOKUP($A426,Filtro!$A$5:$I$351,3,FALSE),0)","v":0},{"$f":"IFERROR(VLOOKUP($A426,Filtro!$A$5:$I$351,4,FALSE),0)","v":0},{"$f":"IFERROR(VLOOKUP($A426,Filtro!$A$5:$I$351,5,FALSE),0)","v":0},426]
["80401021","0401021","Radiografía de esófago, estómago y duodeno, relleno y/o doble contraste ",0,{"$f":"IFERROR(VLOOKUP($A427,Filtro!$A$5:$I$351,3,FALSE),0)","v":0},{"$f":"IFERROR(VLOOKUP($A427,Filtro!$A$5:$I$351,4,FALSE),0)","v":0},{"$f":"IFERROR(VLOOKUP($A427,Filtro!$A$5:$I$351,5,FALSE),0)","v":0},427]
["80401022","0401022","Estudio radiológico de deglución faríngea",0,{"$f":"IFERROR(VLOOKUP($A428,Filtro!$A$5:$I$351,3,FALSE),0)","v":0},{"$f":"IFERROR(VLOOKUP($A428,Filtro!$A$5:$I$351,4,FALSE),0)","v":0},{"$f":"IFERROR(VLOOKUP($A428,Filtro!$A$5:$I$351,5,FALSE),0)","v":0},428]
["80401023","0401023","Estudio radiológico del intestino delgado",0,{"$f":"IFERROR(VLOOKUP($A429,Filtro!$A$5:$I$351,3,FALSE),0)","v":0},{"$f":"IFERROR(VLOOKUP($A429,Filtro!$A$5:$I$351,4,FALSE),0)","v":0},{"$f":"IFERROR(VLOOKUP($A429,Filtro!$A$5:$I$351,5,FALSE),0)","v":0},429]
["80401024","0401024","Radiografía de esófago, estómago y duodeno, simple en niños ",0,{"$f":"IFERROR(VLOOKUP($A430,Filtro!$A$5:$I$351,3,FALSE),0)","v":0},{"$f":"IFERROR(VLOOKUP($A430,Filtro!$A$5:$I$351,4,FALSE),0)","v":0},{"$f":"IFERROR(VLOOKUP($A430,Filtro!$A$5:$I$351,5,FALSE),0)","v":0},430]
["80401026","0401026","Pielografía de eliminación con control minutado (10 exp.)",0,{"$f":"IFERROR(VLOOKUP($A431,Filtro!$A$5:$I$351,3,FALSE),0)","v":0},{"$f":"IFERROR(VLOOKUP($A431,Filtro!$A$5:$I$351,4,FALSE),0)","v":0},{"$f":"IFERROR(VLOOKUP($A431,Filtro!$A$5:$I$351,5,FALSE),0)","v":0},431]
["80401027","0401027","Pielografía de eliminación o descendente: incluye renal y vesical simples previas, 3 placas post inyección de medio de contraste, controles de pie y cistografía pre y post miccional. ",0,{"$f":"IFERROR(VLOOKUP($A432,Filtro!$A$5:$I$351,3,FALSE),0)","v":0},{"$f":"IFERROR(VLOOKUP($A432,Filtro!$A$5:$I$351,4,FALSE),0)","v":0},{"$f":"IFERROR(VLOOKUP($A432,Filtro!$A$5:$I$351,5,FALSE),0)","v":0},432]
["80401028","0401028","Radiografía renal simple (proc. aut.)",25,{"$f":"IFERROR(VLOOKUP($A433,Filtro!$A$5:$I$351,3,FALSE),0)","v":25},{"$f":"IFERROR(VLOOKUP($A433,Filtro!$A$5:$I$351,4,FALSE),0)","v":0},{"$f":"IFERROR(VLOOKUP($A433,Filtro!$A$5:$I$351,5,FALSE),0)","v":0},433]
["80401029","0401029","Radiografía vesical simple o perivesical (proc. aut.)",12,{"$f":"IFERROR(VLOOKUP($A434,Filtro!$A$5:$I$351,3,FALSE),0)","v":12},{"$f":"IFERROR(VLOOKUP($A434,Filtro!$A$5:$I$351,4,FALSE),0)","v":0},{"$f":"IFERROR(VLOOKUP($A434,Filtro!$A$5:$I$351,5,FALSE),0)","v":0},434]
["80401030","0401030","Radiografía agujeros ópticos, ambos lados",3,{"$f":"IFERROR(VLOOKUP($A435,Filtro!$A$5:$I$351,3,FALSE),0)","v":3},{"$f":"IFERROR(VLOOKUP($A435,Filtro!$A$5:$I$351,4,FALSE),0)","v":0},{"$f":"IFERROR(VLOOKUP($A435,Filtro!$A$5:$I$351,5,FALSE),0)","v":0},435]
["80401031","0401031","Radiografía de cavidades perinasales, órbitas, articulaciones temporomandibulares, huesos propios de la nariz, malar, maxilar, arco cigomático y cara",{"v":1336,"d":"1,336"},{"$f":"IFERROR(VLOOKUP($A436,Filtro!$A$5:$I$351,3,FALSE),0)","v":{"v":1336,"d":"1,336"}},{"$f":"IFERROR(VLOOKUP($A436,Filtro!$A$5:$I$351,4,FALSE),0)","v":0},{"$f":"IFERROR(VLOOKUP($A436,Filtro!$A$5:$I$351,5,FALSE),0)","v":130},436]
["80401032","0401032","Radiografía de cráneo frontal y lateral",{"v":2237,"d":"2,237"},{"$f":"IFERROR(VLOOKUP($A437,Filtro!$A$5:$I$351,3,FALSE),0)","v":{"v":2237,"d":"2,237"}},{"$f":"IFERROR(VLOOKUP($A437,Filtro!$A$5:$I$351,4,FALSE),0)","v":0},{"$f":"IFERROR(VLOOKUP($A437,Filtro!$A$5:$I$351,5,FALSE),0)","v":89},437]
["80401033","0401033","Radiografía de Cráneo  proyección especial de  base de cráneo (Towne)",224,{"$f":"IFERROR(VLOOKUP($A438,Filtro!$A$5:$I$351,3,FALSE),0)","v":224},{"$f":"IFERROR(VLOOKUP($A438,Filtro!$A$5:$I$351,4,FALSE),0)","v":0},{"$f":"IFERROR(VLOOKUP($A438,Filtro!$A$5:$I$351,5,FALSE),0)","v":3},438]
["80401034","0401034","Radiografía de globo ocular, estudio de cuerpo extraño",0,{"$f":"IFERROR(VLOOKUP($A439,Filtro!$A$5:$I$351,3,FALSE),0)","v":0},{"$f":"IFERROR(VLOOKUP($A439,Filtro!$A$5:$I$351,4,FALSE),0)","v":0},{"$f":"IFERROR(VLOOKUP($A439,Filtro!$A$5:$I$351,5,FALSE),0)","v":0},439]
["80401035","0401035","Radiografía de oído, uno o ambos ",0,{"$f":"IFERROR(VLOOKUP($A440,Filtro!$A$5:$I$351,3,FALSE),0)","v":0},{"$f":"IFERROR(VLOOKUP($A440,Filtro!$A$5:$I$351,4,FALSE),0)","v":0},{"$f":"IFERROR(VLOOKUP($A440,Filtro!$A$5:$I$351,5,FALSE),0)","v":0},440]
["80401036","0401036","Radiografía de oído, uno o ambos (2 proy.) (2 exp.)                     ",0,{"$f":"IFERROR(VLOOKUP($A441,Filtro!$A$5:$I$351,3,FALSE),0)","v":0},{"$f":"IFERROR(VLOOKUP($A441,Filtro!$A$5:$I$351,4,FALSE),0)","v":0},{"$f":"IFERROR(VLOOKUP($A441,Filtro!$A$5:$I$351,5,FALSE),0)","v":0},441]
["80401037","0401037","Radiografía de oído, uno o ambos (3 proy.) (3 exp.)                    ",0,{"$f":"IFERROR(VLOOKUP($A442,Filtro!$A$5:$I$351,3,FALSE),0)","v":0},{"$f":"IFERROR(VLOOKUP($A442,Filtro!$A$5:$I$351,4,FALSE),0)","v":0},{"$f":"IFERROR(VLOOKUP($A442,Filtro!$A$5:$I$351,5,FALSE),0)","v":0},442]
["80401038","0401038","Planigrafía de oidos (68 exp.)                     ",0,{"$f":"IFERROR(VLOOKUP($A443,Filtro!$A$5:$I$351,3,FALSE),0)","v":0},{"$f":"IFERROR(VLOOKUP($A443,Filtro!$A$5:$I$351,4,FALSE),0)","v":0},{"$f":"IFERROR(VLOOKUP($A443,Filtro!$A$5:$I$351,5,FALSE),0)","v":0},443]
["80401039","0401039","Planigrafía silla turca, canal optico, cavidades perinasales, c/u (68 exp.)  ",0,{"$f":"IFERROR(VLOOKUP($A444,Filtro!$A$5:$I$351,3,FALSE),0)","v":0},{"$f":"IFERROR(VLOOKUP($A444,Filtro!$A$5:$I$351,4,FALSE),0)","v":0},{"$f":"IFERROR(VLOOKUP($A444,Filtro!$A$5:$I$351,5,FALSE),0)","v":0},444]
["80401040","0401040","Radiografía de silla turca frontal y lateral ",0,{"$f":"IFERROR(VLOOKUP($A445,Filtro!$A$5:$I$351,3,FALSE),0)","v":0},{"$f":"IFERROR(VLOOKUP($A445,Filtro!$A$5:$I$351,4,FALSE),0)","v":0},{"$f":"IFERROR(VLOOKUP($A445,Filtro!$A$5:$I$351,5,FALSE),0)","v":0},445]
["80401041","0401041","Planigrafía localizada (cervical, dorsal o lumbosacra) (68 exp.)              ",5,{"$f":"IFERROR(VLOOKUP($A446,Filtro!$A$5:$I$351,3,FALSE),0)","v":5},{"$f":"IFERROR(VLOOKUP($A446,Filtro!$A$5:$I$351,4,FALSE),0)","v":0},{"$f":"IFERROR(VLOOKUP($A446,Filtro!$A$5:$I$351,5,FALSE),0)","v":0},446]
["80401042","0401042","Radiografía de columna cervical o atlas-axis (frontal y lateral)",982,{"$f":"IFERROR(VLOOKUP($A447,Filtro!$A$5:$I$351,3,FALSE),0)","v":982},{"$f":"IFERROR(VLOOKUP($A447,Filtro!$A$5:$I$351,4,FALSE),0)","v":0},{"$f":"IFERROR(VLOOKUP($A447,Filtro!$A$5:$I$351,5,FALSE),0)","v":53},447]
["80401043","0401043","Radiografía de columna cervical (frontal, lateral y oblicuas)",80,{"$f":"IFERROR(VLOOKUP($A448,Filtro!$A$5:$I$351,3,FALSE),0)","v":80},{"$f":"IFERROR(VLOOKUP($A448,Filtro!$A$5:$I$351,4,FALSE),0)","v":0},{"$f":"IFERROR(VLOOKUP($A448,Filtro!$A$5:$I$351,5,FALSE),0)","v":3},448]
["80401044","0401044","Radiografía de columna cervical  flexión y  extensión (Dinámicas)",1,{"$f":"IFERROR(VLOOKUP($A449,Filtro!$A$5:$I$351,3,FALSE),0)","v":1},{"$f":"IFERROR(VLOOKUP($A449,Filtro!$A$5:$I$351,4,FALSE),0)","v":0},{"$f":"IFERROR(VLOOKUP($A449,Filtro!$A$5:$I$351,5,FALSE),0)","v":1},449]
["80401045","0401045","Radiografía de columna dorsal o dorsolumbar localizada, parrilla costal adultos (frontal y lateral).",{"v":1852,"d":"1,852"},{"$f":"IFERROR(VLOOKUP($A450,Filtro!$A$5:$I$351,3,FALSE),0)","v":{"v":1852,"d":"1,852"}},{"$f":"IFERROR(VLOOKUP($A450,Filtro!$A$5:$I$351,4,FALSE),0)","v":0},{"$f":"IFERROR(VLOOKUP($A450,Filtro!$A$5:$I$351,5,FALSE),0)","v":158},450]
["80401046","0401046","Radiografía columna lumbar o lumbosacra   ",{"v":1060,"d":"1,060"},{"$f":"IFERROR(VLOOKUP($A451,Filtro!$A$5:$I$351,3,FALSE),0)","v":{"v":1060,"d":"1,060"}},{"$f":"IFERROR(VLOOKUP($A451,Filtro!$A$5:$I$351,4,FALSE),0)","v":0},{"$f":"IFERROR(VLOOKUP($A451,Filtro!$A$5:$I$351,5,FALSE),0)","v":162},451]
["80401047","0401047","Radiografía columna lumbar o lumbosacra  flexión y  extensión (Dinámicas)",5,{"$f":"IFERROR(VLOOKUP($A452,Filtro!$A$5:$I$351,3,FALSE),0)","v":5},{"$f":"IFERROR(VLOOKUP($A452,Filtro!$A$5:$I$351,4,FALSE),0)","v":0},{"$f":"IFERROR(VLOOKUP($A452,Filtro!$A$5:$I$351,5,FALSE),0)","v":1},452]
["80401048","0401048","Radiografía columna lumbar o lumbosacra, oblicuas adicionales ",5,{"$f":"IFERROR(VLOOKUP($A453,Filtro!$A$5:$I$351,3,FALSE),0)","v":5},{"$f":"IFERROR(VLOOKUP($A453,Filtro!$A$5:$I$351,4,FALSE),0)","v":0},{"$f":"IFERROR(VLOOKUP($A453,Filtro!$A$5:$I$351,5,FALSE),0)","v":4},453]
["80401049","0401049","Radiografía de columna total, panorámica con folio graduado  frontal o lateral",0,{"$f":"IFERROR(VLOOKUP($A454,Filtro!$A$5:$I$351,3,FALSE),0)","v":0},{"$f":"IFERROR(VLOOKUP($A454,Filtro!$A$5:$I$351,4,FALSE),0)","v":0},{"$f":"IFERROR(VLOOKUP($A454,Filtro!$A$5:$I$351,5,FALSE),0)","v":2},454]
["80401051","0401051","Radiografía de pelvis, cadera o coxofemoral",{"v":1676,"d":"1,676"},{"$f":"IFERROR(VLOOKUP($A455,Filtro!$A$5:$I$351,3,FALSE),0)","v":{"v":1672,"d":"1,672"}},{"$f":"IFERROR(VLOOKUP($A455,Filtro!$A$5:$I$351,4,FALSE),0)","v":4},{"$f":"IFERROR(VLOOKUP($A455,Filtro!$A$5:$I$351,5,FALSE),0)","v":{"v":1004,"d":"1,004"}},455]
["80401151","0401151","Radiografía de pelvis, cadera o coxofemoral de RN, lactante o niño menor de 6 años.",{"v":1865,"d":"1,865"},{"$f":"IFERROR(VLOOKUP($A456,Filtro!$A$5:$I$351,3,FALSE),0)","v":609},{"$f":"IFERROR(VLOOKUP($A456,Filtro!$A$5:$I$351,4,FALSE),0)","v":{"v":1256,"d":"1,256"}},{"$f":"IFERROR(VLOOKUP($A456,Filtro!$A$5:$I$351,5,FALSE),0)","v":{"v":2333,"d":"2,333"}},456]
["80401052","0401052","Radiografía de pelvis, cadera o coxofemoral, proyecciones especiales; (rotación interna, abducción, lateral, Lawenstein u otras)",422,{"$f":"IFERROR(VLOOKUP($A457,Filtro!$A$5:$I$351,3,FALSE),0)","v":422},{"$f":"IFERROR(VLOOKUP($A457,Filtro!$A$5:$I$351,4,FALSE),0)","v":0},{"$f":"IFERROR(VLOOKUP($A457,Filtro!$A$5:$I$351,5,FALSE),0)","v":150},457]
["80401053","0401053","Radiografía de Sacrocoxis o articulaciones sacroilíacas.",251,{"$f":"IFERROR(VLOOKUP($A458,Filtro!$A$5:$I$351,3,FALSE),0)","v":251},{"$f":"IFERROR(VLOOKUP($A458,Filtro!$A$5:$I$351,4,FALSE),0)","v":0},{"$f":"IFERROR(VLOOKUP($A458,Filtro!$A$5:$I$351,5,FALSE),0)","v":12},458]
["80401054","0401054","Radiografía de brazo, antebrazo, codo, muñeca, mano, dedos, pie  (frontal y lateral)",{"v":10654,"d":"10,654"},{"$f":"IFERROR(VLOOKUP($A459,Filtro!$A$5:$I$351,3,FALSE),0)","v":{"v":10654,"d":"10,654"}},{"$f":"IFERROR(VLOOKUP($A459,Filtro!$A$5:$I$351,4,FALSE),0)","v":0},{"$f":"IFERROR(VLOOKUP($A459,Filtro!$A$5:$I$351,5,FALSE),0)","v":889},459]
["80401055","0401055","Radiografía de clavícula.",180,{"$f":"IFERROR(VLOOKUP($A460,Filtro!$A$5:$I$351,3,FALSE),0)","v":180},{"$f":"IFERROR(VLOOKUP($A460,Filtro!$A$5:$I$351,4,FALSE),0)","v":0},{"$f":"IFERROR(VLOOKUP($A460,Filtro!$A$5:$I$351,5,FALSE),0)","v":9},460]
["80401056","0401056","Radiografía Edad Ósea: carpo y mano ",19,{"$f":"IFERROR(VLOOKUP($A461,Filtro!$A$5:$I$351,3,FALSE),0)","v":19},{"$f":"IFERROR(VLOOKUP($A461,Filtro!$A$5:$I$351,4,FALSE),0)","v":0},{"$f":"IFERROR(VLOOKUP($A461,Filtro!$A$5:$I$351,5,FALSE),0)","v":11},461]
["80401057","0401057","Radiografía Edad ósea : rodilla frontal",1,{"$f":"IFERROR(VLOOKUP($A462,Filtro!$A$5:$I$351,3,FALSE),0)","v":1},{"$f":"IFERROR(VLOOKUP($A462,Filtro!$A$5:$I$351,4,FALSE),0)","v":0},{"$f":"IFERROR(VLOOKUP($A462,Filtro!$A$5:$I$351,5,FALSE),0)","v":0},462]
["80401058","0401058","Estudio radiológico de escafoides",15,{"$f":"IFERROR(VLOOKUP($A463,Filtro!$A$5:$I$351,3,FALSE),0)","v":15},{"$f":"IFERROR(VLOOKUP($A463,Filtro!$A$5:$I$351,4,FALSE),0)","v":0},{"$f":"IFERROR(VLOOKUP($A463,Filtro!$A$5:$I$351,5,FALSE),0)","v":3},463]
["80401059","0401059","Estudio radiológico de muñeca o tobillo frontal lateral y oblicuas",{"v":1218,"d":"1,218"},{"$f":"IFERROR(VLOOKUP($A464,Filtro!$A$5:$I$351,3,FALSE),0)","v":{"v":1218,"d":"1,218"}},{"$f":"IFERROR(VLOOKUP($A464,Filtro!$A$5:$I$351,4,FALSE),0)","v":0},{"$f":"IFERROR(VLOOKUP($A464,Filtro!$A$5:$I$351,5,FALSE),0)","v":76},464]
["80401060","0401060","Radiografía de hombro, fémur, rodilla, pierna, costilla o esternón Frontal y Lateral",{"v":5543,"d":"5,543"},{"$f":"IFERROR(VLOOKUP($A465,Filtro!$A$5:$I$351,3,FALSE),0)","v":{"v":5543,"d":"5,543"}},{"$f":"IFERROR(VLOOKUP($A465,Filtro!$A$5:$I$351,4,FALSE),0)","v":0},{"$f":"IFERROR(VLOOKUP($A465,Filtro!$A$5:$I$351,5,FALSE),0)","v":{"v":1603,"d":"1,603"}},465]
["80401061","0401061","Planigrafía ósea frontal y/o lateral (6 exp.) ",0,{"$f":"IFERROR(VLOOKUP($A466,Filtro!$A$5:$I$351,3,FALSE),0)","v":0},{"$f":"IFERROR(VLOOKUP($A466,Filtro!$A$5:$I$351,4,FALSE),0)","v":0},{"$f":"IFERROR(VLOOKUP($A466,Filtro!$A$5:$I$351,5,FALSE),0)","v":0},466]
["80401062","0401062","Radiografía de Proyecciones especiales oblicuas u otras en hombro, brazo, codo, rodilla, rótulas, sesamoideos, axial de ambas rótulas o similares",220,{"$f":"IFERROR(VLOOKUP($A467,Filtro!$A$5:$I$351,3,FALSE),0)","v":220},{"$f":"IFERROR(VLOOKUP($A467,Filtro!$A$5:$I$351,4,FALSE),0)","v":0},{"$f":"IFERROR(VLOOKUP($A467,Filtro!$A$5:$I$351,5,FALSE),0)","v":80},467]
["80401063","0401063","Radiografía de túnel intercondíleo o radio-carpiano",{"$f":"SUM(E468:F468)","v":0},{"$f":"IFERROR(VLOOKUP($A468,Filtro!$A$5:$I$351,3,FALSE),0)","v":0},{"$f":"IFERROR(VLOOKUP($A468,Filtro!$A$5:$I$351,4,FALSE),0)","v":0},{"$f":"IFERROR(VLOOKUP($A468,Filtro!$A$5:$I$351,5,FALSE),0)","v":0},468]
["80401064","0401064","Apoyo fluoroscópico a procedimientos intraoperatorios y/o biopsia (no incluye el proc.)",0,{"$f":"IFERROR(VLOOKUP($A469,Filtro!$A$5:$I$351,3,FALSE),0)","v":0},{"$f":"IFERROR(VLOOKUP($A469,Filtro!$A$5:$I$351,4,FALSE),0)","v":0},{"$f":"IFERROR(VLOOKUP($A469,Filtro!$A$5:$I$351,5,FALSE),0)","v":0},469]
["80404002","0404002","Ecografía obstétrica",{"v":2086,"d":"2,086"},{"$f":"IFERROR(VLOOKUP($A470,Filtro!$A$5:$I$351,3,FALSE),0)","v":52},{"$f":"IFERROR(VLOOKUP($A470,Filtro!$A$5:$I$351,4,FALSE),0)","v":{"v":2034,"d":"2,034"}},{"$f":"IFERROR(VLOOKUP($A470,Filtro!$A$5:$I$351,5,FALSE),0)","v":138},470]
["80404003","0404003","Ecografía abdominal (incluye hígado, vía biliar, vesícula, páncreas, riñones, bazo, retroperitoneo y grandes vasos)",324,{"$f":"IFERROR(VLOOKUP($A471,Filtro!$A$5:$I$351,3,FALSE),0)","v":0},{"$f":"IFERROR(VLOOKUP($A471,Filtro!$A$5:$I$351,4,FALSE),0)","v":324},{"$f":"IFERROR(VLOOKUP($A471,Filtro!$A$5:$I$351,5,FALSE),0)","v":{"v":1800,"d":"1,800"}},471]
["80404004","0404004","Ecografía como apoyo a cirugía, o a procedimiento (de tórax, muscular, partes blandas, etc.)",0,{"$f":"IFERROR(VLOOKUP($A472,Filtro!$A$5:$I$351,3,FALSE),0)","v":0},{"$f":"IFERROR(VLOOKUP($A472,Filtro!$A$5:$I$351,4,FALSE),0)","v":0},{"$f":"IFERROR(VLOOKUP($A472,Filtro!$A$5:$I$351,5,FALSE),0)","v":0},472]
["80404005","0404005","Ecografía transvaginal o transrectal",221,{"$f":"IFERROR(VLOOKUP($A473,Filtro!$A$5:$I$351,3,FALSE),0)","v":18},{"$f":"IFERROR(VLOOKUP($A473,Filtro!$A$5:$I$351,4,FALSE),0)","v":203},{"$f":"IFERROR(VLOOKUP($A473,Filtro!$A$5:$I$351,5,FALSE),0)","v":6},473]
["80404006","0404006","Ecografía ginecológica, pelviana femenina u obstétrica con estudio fetal",642,{"$f":"IFERROR(VLOOKUP($A474,Filtro!$A$5:$I$351,3,FALSE),0)","v":41},{"$f":"IFERROR(VLOOKUP($A474,Filtro!$A$5:$I$351,4,FALSE),0)","v":601},{"$f":"IFERROR(VLOOKUP($A474,Filtro!$A$5:$I$351,5,FALSE),0)","v":10},474]
["80404007","0404007","Ecografía transvaginal para seguimiento de ovulación, procedimiento completo (6-8 sesiones )",6,{"$f":"IFERROR(VLOOKUP($A475,Filtro!$A$5:$I$351,3,FALSE),0)","v":0},{"$f":"IFERROR(VLOOKUP($A475,Filtro!$A$5:$I$351,4,FALSE),0)","v":6},{"$f":"IFERROR(VLOOKUP($A475,Filtro!$A$5:$I$351,5,FALSE),0)","v":0},475]
["80404008","0404008","Ecografía para seguimiento de ovulación, procedimiento completo (6 a 8 sesiones)",0,{"$f":"IFERROR(VLOOKUP($A476,Filtro!$A$5:$I$351,3,FALSE),0)","v":0},{"$f":"IFERROR(VLOOKUP($A476,Filtro!$A$5:$I$351,4,FALSE),0)","v":0},{"$f":"IFERROR(VLOOKUP($A476,Filtro!$A$5:$I$351,5,FALSE),0)","v":0},476]
["80404009","0404009","Ecografía pélvica masculina (incluye vejiga y próstata)",0,{"$f":"IFERROR(VLOOKUP($A477,Filtro!$A$5:$I$351,3,FALSE),0)","v":0},{"$f":"IFERROR(VLOOKUP($A477,Filtro!$A$5:$I$351,4,FALSE),0)","v":0},{"$f":"IFERROR(VLOOKUP($A477,Filtro!$A$5:$I$351,5,FALSE),0)","v":0},477]
["80404010","0404010","Ecografía renal (bilateral), o de bazo",0,{"$f":"IFERROR(VLOOKUP($A478,Filtro!$A$5:$I$351,3,FALSE),0)","v":0},{"$f":"IFERROR(VLOOKUP($A478,Filtro!$A$5:$I$351,4,FALSE),0)","v":0},{"$f":"IFERROR(VLOOKUP($A478,Filtro!$A$5:$I$351,5,FALSE),0)","v":0},478]
["80404011","0404011","Ecografía encefálica (RN o lactante)",0,{"$f":"IFERROR(VLOOKUP($A479,Filtro!$A$5:$I$351,3,FALSE),0)","v":0},{"$f":"IFERROR(VLOOKUP($A479,Filtro!$A$5:$I$351,4,FALSE),0)","v":0},{"$f":"IFERROR(VLOOKUP($A479,Filtro!$A$5:$I$351,5,FALSE),0)","v":0},479]
["80404012","0404012","Ecografía mamaria bilateral (incluye Doppler)",168,{"$f":"IFERROR(VLOOKUP($A480,Filtro!$A$5:$I$351,3,FALSE),0)","v":0},{"$f":"IFERROR(VLOOKUP($A480,Filtro!$A$5:$I$351,4,FALSE),0)","v":168},{"$f":"IFERROR(VLOOKUP($A480,Filtro!$A$5:$I$351,5,FALSE),0)","v":{"v":1017,"d":"1,017"}},480]
["80404013","0404013","Ecografía ocular, uno o ambos ojos.",0,{"$f":"IFERROR(VLOOKUP($A481,Filtro!$A$5:$I$351,3,FALSE),0)","v":0},{"$f":"IFERROR(VLOOKUP($A481,Filtro!$A$5:$I$351,4,FALSE),0)","v":0},{"$f":"IFERROR(VLOOKUP($A481,Filtro!$A$5:$I$351,5,FALSE),0)","v":0},481]
["80404014","0404014","Ecografía testicular (uno o ambos) (Incluye Doppler)",0,{"$f":"IFERROR(VLOOKUP($A482,Filtro!$A$5:$I$351,3,FALSE),0)","v":0},{"$f":"IFERROR(VLOOKUP($A482,Filtro!$A$5:$I$351,4,FALSE),0)","v":0},{"$f":"IFERROR(VLOOKUP($A482,Filtro!$A$5:$I$351,5,FALSE),0)","v":0},482]
["80404015","0404015","Ecografía tiroidea (Incluye Doppler)",0,{"$f":"IFERROR(VLOOKUP($A483,Filtro!$A$5:$I$351,3,FALSE),0)","v":0},{"$f":"IFERROR(VLOOKUP($A483,Filtro!$A$5:$I$351,4,FALSE),0)","v":0},{"$f":"IFERROR(VLOOKUP($A483,Filtro!$A$5:$I$351,5,FALSE),0)","v":0},483]
["80404016","0404016","Ecografía vascular periférica, articular o de partes blandas",0,{"$f":"IFERROR(VLOOKUP($A484,Filtro!$A$5:$I$351,3,FALSE),0)","v":0},{"$f":"IFERROR(VLOOKUP($A484,Filtro!$A$5:$I$351,4,FALSE),0)","v":0},{"$f":"IFERROR(VLOOKUP($A484,Filtro!$A$5:$I$351,5,FALSE),0)","v":0},484]
["80404018","0404018","Ecotomografía vascular periférica (bilateral), cervical (bilateral), abdominal o de otros órganos con doppler duplex                 ",0,{"$f":"IFERROR(VLOOKUP($A485,Filtro!$A$5:$I$351,3,FALSE),0)","v":0},{"$f":"IFERROR(VLOOKUP($A485,Filtro!$A$5:$I$351,4,FALSE),0)","v":0},{"$f":"IFERROR(VLOOKUP($A485,Filtro!$A$5:$I$351,5,FALSE),0)","v":0},485]
["80404019","0404019","Ecotomografía vascular periférica (bilateral), cervical (bilateral), abdominal o de otros órganos con doppler color                ",0,{"$f":"IFERROR(VLOOKUP($A486,Filtro!$A$5:$I$351,3,FALSE),0)","v":0},{"$f":"IFERROR(VLOOKUP($A486,Filtro!$A$5:$I$351,4,FALSE),0)","v":0},{"$f":"IFERROR(VLOOKUP($A486,Filtro!$A$5:$I$351,5,FALSE),0)","v":0},486]
[{"$nulls":7},487]
[null,"SECCIÓN B: PROCEDIMIENTOS APOYO CLÍNICO Y TERAPÉUTICO",{"$nulls":7},488]
[null,"CÓDIGOS","PROCEDIMIENTOS","Total","SAPU/SAR/SUR","Resto Establecimientos APS","Funcionario",null,"Compras de Servicios",489]
[{"$nulls":6},"Médico","Otro",null,490]
[null,"NEUROLOGÍA",{"$nulls":7},491]
["81101003",1101003,"Lumbar c/s manometria c/s queckensted   ",{"$f":"SUM(E492:F492)","v":0},{"$f":"IFERROR(VLOOKUP($A492,Filtro!$A$5:$I$351,3,FALSE),0)","v":0},{"$f":"IFERROR(VLOOKUP($A492,Filtro!$A$5:$I$351,4,FALSE),0)","v":0},{"$f":"IFERROR(VLOOKUP($A492,Filtro!$A$5:$I$351,5,FALSE),0)","v":0},{"$f":"IFERROR(VLOOKUP($A492,Filtro!$A$5:$I$351,6,FALSE),0)","v":0},{"$f":"IFERROR(VLOOKUP($A492,Filtro!$A$5:$I$351,7,FALSE),0)","v":0},492]
[{"$nulls":9},493]
[null,"OFTALMOLOGÍA",{"$nulls":7},494]
["81201003",1201003,"cuantificacion de lagrimacion (test de   schirmer),  uno o                  ",{"$f":"SUM(E495:F495)","v":0},{"$f":"IFERROR(VLOOKUP($A495,Filtro!$A$5:$I$351,3,FALSE),0)","v":0},{"$f":"IFERROR(VLOOKUP($A495,Filtro!$A$5:$I$351,4,FALSE),0)","v":0},{"$f":"IFERROR(VLOOKUP($A495,Filtro!$A$5:$I$351,5,FALSE),0)","v":0},{"$f":"IFERROR(VLOOKUP($A495,Filtro!$A$5:$I$351,6,FALSE),0)","v":0},{"$f":"IFERROR(VLOOKUP($A495,Filtro!$A$5:$I$351,7,FALSE),0)","v":0},495]
["81201004",1201004,"curva de tension aplanatica (por cada dia), c/ojo                                ",0,{"$f":"IFERROR(VLOOKUP($A496,Filtro!$A$5:$I$351,3,FALSE),0)","v":0},{"$f":"IFERROR(VLOOKUP($A496,Filtro!$A$5:$I$351,4,FALSE),0)","v":0},{"$f":"IFERROR(VLOOKUP($A496,Filtro!$A$5:$I$351,5,FALSE),0)","v":0},{"$f":"IFERROR(VLOOKUP($A496,Filtro!$A$5:$I$351,6,FALSE),0)","v":0},{"$f":"IFERROR(VLOOKUP($A496,Filtro!$A$5:$I$351,7,FALSE),0)","v":0},496]
["81201005",1201005,"diploscopia cuantitativa, ambos ojos                                                      ",0,{"$f":"IFERROR(VLOOKUP($A497,Filtro!$A$5:$I$351,3,FALSE),0)","v":0},{"$f":"IFERROR(VLOOKUP($A497,Filtro!$A$5:$I$351,4,FALSE),0)","v":0},{"$f":"IFERROR(VLOOKUP($A497,Filtro!$A$5:$I$351,5,FALSE),0)","v":0},{"$f":"IFERROR(VLOOKUP($A497,Filtro!$A$5:$I$351,6,FALSE),0)","v":0},{"$f":"IFERROR(VLOOKUP($A497,Filtro!$A$5:$I$351,7,FALSE),0)","v":0},497]
["81201009",1201009,"exploracion sensoriomotora: estrabismo, estudio completo ,               ",0,{"$f":"IFERROR(VLOOKUP($A498,Filtro!$A$5:$I$351,3,FALSE),0)","v":0},{"$f":"IFERROR(VLOOKUP($A498,Filtro!$A$5:$I$351,4,FALSE),0)","v":0},{"$f":"IFERROR(VLOOKUP($A498,Filtro!$A$5:$I$351,5,FALSE),0)","v":0},{"$f":"IFERROR(VLOOKUP($A498,Filtro!$A$5:$I$351,6,FALSE),0)","v":0},{"$f":"IFERROR(VLOOKUP($A498,Filtro!$A$5:$I$351,7,FALSE),0)","v":0},498]
["81201012",1201012,"retinografia, ambos ojos                                                                           ",0,{"$f":"IFERROR(VLOOKUP($A499,Filtro!$A$5:$I$351,3,FALSE),0)","v":0},{"$f":"IFERROR(VLOOKUP($A499,Filtro!$A$5:$I$351,4,FALSE),0)","v":0},{"$f":"IFERROR(VLOOKUP($A499,Filtro!$A$5:$I$351,5,FALSE),0)","v":0},{"$f":"IFERROR(VLOOKUP($A499,Filtro!$A$5:$I$351,6,FALSE),0)","v":0},{"$f":"IFERROR(VLOOKUP($A499,Filtro!$A$5:$I$351,7,FALSE),0)","v":0},499]
["81201014",1201014,"tonometria ocular, cualquier tecnica, c/ojo                                            ",0,{"$f":"IFERROR(VLOOKUP($A500,Filtro!$A$5:$I$351,3,FALSE),0)","v":0},{"$f":"IFERROR(VLOOKUP($A500,Filtro!$A$5:$I$351,4,FALSE),0)","v":0},{"$f":"IFERROR(VLOOKUP($A500,Filtro!$A$5:$I$351,5,FALSE),0)","v":0},{"$f":"IFERROR(VLOOKUP($A500,Filtro!$A$5:$I$351,6,FALSE),0)","v":0},{"$f":"IFERROR(VLOOKUP($A500,Filtro!$A$5:$I$351,7,FALSE),0)","v":0},500]
["81201015",1201015,"tratamiento ortoptico y/ o pleoptico (por sesion) ,                               ",0,{"$f":"IFERROR(VLOOKUP($A501,Filtro!$A$5:$I$351,3,FALSE),0)","v":0},{"$f":"IFERROR(VLOOKUP($A501,Filtro!$A$5:$I$351,4,FALSE),0)","v":0},{"$f":"IFERROR(VLOOKUP($A501,Filtro!$A$5:$I$351,5,FALSE),0)","v":0},{"$f":"IFERROR(VLOOKUP($A501,Filtro!$A$5:$I$351,6,FALSE),0)","v":0},{"$f":"IFERROR(VLOOKUP($A501,Filtro!$A$5:$I$351,7,FALSE),0)","v":0},501]
["81201019",1201019,"Exploracion vitreorretinal, ambos ojos                                                       ",0,{"$f":"IFERROR(VLOOKUP($A502,Filtro!$A$5:$I$351,3,FALSE),0)","v":0},{"$f":"IFERROR(VLOOKUP($A502,Filtro!$A$5:$I$351,4,FALSE),0)","v":0},{"$f":"IFERROR(VLOOKUP($A502,Filtro!$A$5:$I$351,5,FALSE),0)","v":0},{"$f":"IFERROR(VLOOKUP($A502,Filtro!$A$5:$I$351,6,FALSE),0)","v":0},{"$f":"IFERROR(VLOOKUP($A502,Filtro!$A$5:$I$351,7,FALSE),0)","v":0},502]
["81201029",1201029,"Cuerpo extrano conjuntival y/o corneal en adultos                                 ",251,{"$f":"IFERROR(VLOOKUP($A503,Filtro!$A$5:$I$351,3,FALSE),0)","v":176},{"$f":"IFERROR(VLOOKUP($A503,Filtro!$A$5:$I$351,4,FALSE),0)","v":75},{"$f":"IFERROR(VLOOKUP($A503,Filtro!$A$5:$I$351,5,FALSE),0)","v":1},{"$f":"IFERROR(VLOOKUP($A503,Filtro!$A$5:$I$351,6,FALSE),0)","v":208},{"$f":"IFERROR(VLOOKUP($A503,Filtro!$A$5:$I$351,7,FALSE),0)","v":0},503]
["81201042",1201042,"Campimetría computarizada, c/ojo (excluye UAPO)                            ",0,{"$f":"IFERROR(VLOOKUP($A504,Filtro!$A$5:$I$351,3,FALSE),0)","v":0},{"$f":"IFERROR(VLOOKUP($A504,Filtro!$A$5:$I$351,4,FALSE),0)","v":0},{"$f":"IFERROR(VLOOKUP($A504,Filtro!$A$5:$I$351,5,FALSE),0)","v":0},{"$f":"IFERROR(VLOOKUP($A504,Filtro!$A$5:$I$351,6,FALSE),0)","v":0},{"$f":"IFERROR(VLOOKUP($A504,Filtro!$A$5:$I$351,7,FALSE),0)","v":0},504]
["81201042A",1201042,"Campimetría computarizada, c/ojo (en UAPO)                                  ",0,{"$f":"IFERROR(VLOOKUP($A505,Filtro!$A$5:$I$351,3,FALSE),0)","v":0},{"$f":"IFERROR(VLOOKUP($A505,Filtro!$A$5:$I$351,4,FALSE),0)","v":0},{"$f":"IFERROR(VLOOKUP($A505,Filtro!$A$5:$I$351,5,FALSE),0)","v":0},{"$f":"IFERROR(VLOOKUP($A505,Filtro!$A$5:$I$351,6,FALSE),0)","v":0},{"$f":"IFERROR(VLOOKUP($A505,Filtro!$A$5:$I$351,7,FALSE),0)","v":0},505]
[null,"TOTAL",null,{"$f":"SUM(D495:D505)","v":251},176,75,1,208,0,506]
[{"$nulls":9},507]
[null,"OTORRINOLARINGOLOGÍA",{"$nulls":7},508]
["81301025",1301025,"Taponamiento nasal anterior (proc. aut.)",{"$f":"SUM(E509:F509)","v":152},{"$f":"IFERROR(VLOOKUP($A509,Filtro!$A$5:$I$351,3,FALSE),0)","v":114},{"$f":"IFERROR(VLOOKUP($A509,Filtro!$A$5:$I$351,4,FALSE),0)","v":38},{"$f":"IFERROR(VLOOKUP($A509,Filtro!$A$5:$I$351,5,FALSE),0)","v":52},{"$f":"IFERROR(VLOOKUP($A509,Filtro!$A$5:$I$351,6,FALSE),0)","v":88},{"$f":"IFERROR(VLOOKUP($A509,Filtro!$A$5:$I$351,7,FALSE),0)","v":1},509]
["81301026",1301026,"Taponamiento nasal posterior",9,{"$f":"IFERROR(VLOOKUP($A510,Filtro!$A$5:$I$351,3,FALSE),0)","v":8},{"$f":"IFERROR(VLOOKUP($A510,Filtro!$A$5:$I$351,4,FALSE),0)","v":1},{"$f":"IFERROR(VLOOKUP($A510,Filtro!$A$5:$I$351,5,FALSE),0)","v":0},{"$f":"IFERROR(VLOOKUP($A510,Filtro!$A$5:$I$351,6,FALSE),0)","v":4},{"$f":"IFERROR(VLOOKUP($A510,Filtro!$A$5:$I$351,7,FALSE),0)","v":0},510]
["81301029",1301029,"Cuerpo extraño en fosas nasales, extraccion en adultos        ",1,{"$f":"IFERROR(VLOOKUP($A511,Filtro!$A$5:$I$351,3,FALSE),0)","v":1},{"$f":"IFERROR(VLOOKUP($A511,Filtro!$A$5:$I$351,4,FALSE),0)","v":0},{"$f":"IFERROR(VLOOKUP($A511,Filtro!$A$5:$I$351,5,FALSE),0)","v":1},{"$f":"IFERROR(VLOOKUP($A511,Filtro!$A$5:$I$351,6,FALSE),0)","v":0},{"$f":"IFERROR(VLOOKUP($A511,Filtro!$A$5:$I$351,7,FALSE),0)","v":0},511]
["81301030",1301030,"Cuerpo extraño en fosas nasales, extraccion en niños        ",6,{"$f":"IFERROR(VLOOKUP($A512,Filtro!$A$5:$I$351,3,FALSE),0)","v":6},{"$f":"IFERROR(VLOOKUP($A512,Filtro!$A$5:$I$351,4,FALSE),0)","v":0},{"$f":"IFERROR(VLOOKUP($A512,Filtro!$A$5:$I$351,5,FALSE),0)","v":6},{"$f":"IFERROR(VLOOKUP($A512,Filtro!$A$5:$I$351,6,FALSE),0)","v":0},{"$f":"IFERROR(VLOOKUP($A512,Filtro!$A$5:$I$351,7,FALSE),0)","v":0},512]
["81301042",1301042,"Trompa de eustaquio, insuflacion instrumental (proc. Aut.) en adultos                                                                             ",0,{"$f":"IFERROR(VLOOKUP($A513,Filtro!$A$5:$I$351,3,FALSE),0)","v":0},{"$f":"IFERROR(VLOOKUP($A513,Filtro!$A$5:$I$351,4,FALSE),0)","v":0},{"$f":"IFERROR(VLOOKUP($A513,Filtro!$A$5:$I$351,5,FALSE),0)","v":0},{"$f":"IFERROR(VLOOKUP($A513,Filtro!$A$5:$I$351,6,FALSE),0)","v":0},{"$f":"IFERROR(VLOOKUP($A513,Filtro!$A$5:$I$351,7,FALSE),0)","v":0},513]
["81301043",1301043,"Trompa de eustaquio, insuflacion instrumental (proc. Aut.) en ninos                                                                                     ",17,{"$f":"IFERROR(VLOOKUP($A514,Filtro!$A$5:$I$351,3,FALSE),0)","v":0},{"$f":"IFERROR(VLOOKUP($A514,Filtro!$A$5:$I$351,4,FALSE),0)","v":17},{"$f":"IFERROR(VLOOKUP($A514,Filtro!$A$5:$I$351,5,FALSE),0)","v":0},{"$f":"IFERROR(VLOOKUP($A514,Filtro!$A$5:$I$351,6,FALSE),0)","v":17},{"$f":"IFERROR(VLOOKUP($A514,Filtro!$A$5:$I$351,7,FALSE),0)","v":0},514]
[null,"TOTAL",null,{"$f":"SUM(D509:D514)","v":185},129,56,59,109,1,515]
[{"$nulls":9},516]
[null,"DERMATOLOGÍA Y TEGUMENTOS",{"$nulls":7},517]
["81601110",1601110,"Curetaje de lesiones virales o similares hasta 10 lesiones                          ",{"$f":"SUM(E518:F518)","v":0},{"$f":"IFERROR(VLOOKUP($A518,Filtro!$A$5:$I$351,3,FALSE),0)","v":0},{"$f":"IFERROR(VLOOKUP($A518,Filtro!$A$5:$I$351,4,FALSE),0)","v":0},{"$f":"IFERROR(VLOOKUP($A518,Filtro!$A$5:$I$351,5,FALSE),0)","v":0},{"$f":"IFERROR(VLOOKUP($A518,Filtro!$A$5:$I$351,6,FALSE),0)","v":0},{"$f":"IFERROR(VLOOKUP($A518,Filtro!$A$5:$I$351,7,FALSE),0)","v":0},518]
["81601115",1601115,"Implantes Subcutáneos, instalación o retiro",826,{"$f":"IFERROR(VLOOKUP($A519,Filtro!$A$5:$I$351,3,FALSE),0)","v":0},{"$f":"IFERROR(VLOOKUP($A519,Filtro!$A$5:$I$351,4,FALSE),0)","v":826},{"$f":"IFERROR(VLOOKUP($A519,Filtro!$A$5:$I$351,5,FALSE),0)","v":0},{"$f":"IFERROR(VLOOKUP($A519,Filtro!$A$5:$I$351,6,FALSE),0)","v":784},{"$f":"IFERROR(VLOOKUP($A519,Filtro!$A$5:$I$351,7,FALSE),0)","v":0},519]
[null,"TOTAL",null,{"$f":"SUM(D518:D519)","v":826},0,826,0,784,0,520]
[{"$nulls":9},521]
[null,"CARDIOLOGÍA",{"$nulls":7},522]
["81701001","1701001","Electrocardiograma",{"$f":"SUM(E523:F523)","v":{"v":73743,"d":"73,743"}},{"$f":"IFERROR(VLOOKUP($A523,Filtro!$A$5:$I$351,3,FALSE),0)","v":{"v":19736,"d":"19,736"}},{"$f":"IFERROR(VLOOKUP($A523,Filtro!$A$5:$I$351,4,FALSE),0)","v":{"v":54007,"d":"54,007"}},{"$f":"IFERROR(VLOOKUP($A523,Filtro!$A$5:$I$351,5,FALSE),0)","v":43},{"$f":"IFERROR(VLOOKUP($A523,Filtro!$A$5:$I$351,6,FALSE),0)","v":{"v":69299,"d":"69,299"}},{"$f":"IFERROR(VLOOKUP($A523,Filtro!$A$5:$I$351,7,FALSE),0)","v":{"v":18553,"d":"18,553"}},523]
["81701006","1701006","E.C.G. Continuo (test holter o similares, por ej. variabilidad de la frecuencia cardiaca y/o alta resolución  del st y/o despolarización tardía);20 a 24 horas de registro                                                                         ",89,{"$f":"IFERROR(VLOOKUP($A524,Filtro!$A$5:$I$351,3,FALSE),0)","v":0},{"$f":"IFERROR(VLOOKUP($A524,Filtro!$A$5:$I$351,4,FALSE),0)","v":89},{"$f":"IFERROR(VLOOKUP($A524,Filtro!$A$5:$I$351,5,FALSE),0)","v":0},{"$f":"IFERROR(VLOOKUP($A524,Filtro!$A$5:$I$351,6,FALSE),0)","v":89},{"$f":"IFERROR(VLOOKUP($A524,Filtro!$A$5:$I$351,7,FALSE),0)","v":75},524]
["81701009","1701009","Monitoreo continuo de presión arterial",{"v":31728,"d":"31,728"},{"$f":"IFERROR(VLOOKUP($A525,Filtro!$A$5:$I$351,3,FALSE),0)","v":{"v":3512,"d":"3,512"}},{"$f":"IFERROR(VLOOKUP($A525,Filtro!$A$5:$I$351,4,FALSE),0)","v":{"v":28216,"d":"28,216"}},{"$f":"IFERROR(VLOOKUP($A525,Filtro!$A$5:$I$351,5,FALSE),0)","v":3},{"$f":"IFERROR(VLOOKUP($A525,Filtro!$A$5:$I$351,6,FALSE),0)","v":{"v":31198,"d":"31,198"}},{"$f":"IFERROR(VLOOKUP($A525,Filtro!$A$5:$I$351,7,FALSE),0)","v":259},525]
["81707038",null,"Monitoreo Ambulatorio de Presión Arterial (procedimiento finalizado)",{"v":22832,"d":"22,832"},{"$f":"IFERROR(VLOOKUP($A526,Filtro!$A$5:$I$351,3,FALSE),0)","v":{"v":4442,"d":"4,442"}},{"$f":"IFERROR(VLOOKUP($A526,Filtro!$A$5:$I$351,4,FALSE),0)","v":{"v":18390,"d":"18,390"}},{"$f":"IFERROR(VLOOKUP($A526,Filtro!$A$5:$I$351,5,FALSE),0)","v":15},{"$f":"IFERROR(VLOOKUP($A526,Filtro!$A$5:$I$351,6,FALSE),0)","v":{"v":21647,"d":"21,647"}},{"$f":"IFERROR(VLOOKUP($A526,Filtro!$A$5:$I$351,7,FALSE),0)","v":15},526]
[null,"TOTAL",null,{"$f":"SUM(D523:D526)","v":{"v":128392,"d":"128,392"}},{"v":27690,"d":"27,690"},{"v":100702,"d":"100,702"},61,{"v":122233,"d":"122,233"},{"v":18902,"d":"18,902"},527]
[{"$nulls":9},528]
[null,"NEUMOLOGÍA",{"$nulls":7},529]
["81707001",1707001,"Espirometría Basal                                                                                       ",{"$f":"SUM(E530:F530)","v":912},{"$f":"IFERROR(VLOOKUP($A530,Filtro!$A$5:$I$351,3,FALSE),0)","v":0},{"$f":"IFERROR(VLOOKUP($A530,Filtro!$A$5:$I$351,4,FALSE),0)","v":912},{"$f":"IFERROR(VLOOKUP($A530,Filtro!$A$5:$I$351,5,FALSE),0)","v":0},{"$f":"IFERROR(VLOOKUP($A530,Filtro!$A$5:$I$351,6,FALSE),0)","v":909},{"$f":"IFERROR(VLOOKUP($A530,Filtro!$A$5:$I$351,7,FALSE),0)","v":0},530]
["81707002",1707002,"Espirometria basal y con broncodilatador                                                         ",{"v":1128,"d":"1,128"},{"$f":"IFERROR(VLOOKUP($A531,Filtro!$A$5:$I$351,3,FALSE),0)","v":15},{"$f":"IFERROR(VLOOKUP($A531,Filtro!$A$5:$I$351,4,FALSE),0)","v":{"v":1113,"d":"1,113"}},{"$f":"IFERROR(VLOOKUP($A531,Filtro!$A$5:$I$351,5,FALSE),0)","v":0},{"$f":"IFERROR(VLOOKUP($A531,Filtro!$A$5:$I$351,6,FALSE),0)","v":{"v":1064,"d":"1,064"}},{"$f":"IFERROR(VLOOKUP($A531,Filtro!$A$5:$I$351,7,FALSE),0)","v":0},531]
["81707004",1707004,"Test de provocacion con ejercicio                                                                      ",202,{"$f":"IFERROR(VLOOKUP($A532,Filtro!$A$5:$I$351,3,FALSE),0)","v":1},{"$f":"IFERROR(VLOOKUP($A532,Filtro!$A$5:$I$351,4,FALSE),0)","v":201},{"$f":"IFERROR(VLOOKUP($A532,Filtro!$A$5:$I$351,5,FALSE),0)","v":0},{"$f":"IFERROR(VLOOKUP($A532,Filtro!$A$5:$I$351,6,FALSE),0)","v":202},{"$f":"IFERROR(VLOOKUP($A532,Filtro!$A$5:$I$351,7,FALSE),0)","v":0},532]
["81707030",1707030,"Aerosolterapia (Nebulización)    ",{"v":16213,"d":"16,213"},{"$f":"IFERROR(VLOOKUP($A533,Filtro!$A$5:$I$351,3,FALSE),0)","v":{"v":14884,"d":"14,884"}},{"$f":"IFERROR(VLOOKUP($A533,Filtro!$A$5:$I$351,4,FALSE),0)","v":{"v":1329,"d":"1,329"}},{"$f":"IFERROR(VLOOKUP($A533,Filtro!$A$5:$I$351,5,FALSE),0)","v":228},{"$f":"IFERROR(VLOOKUP($A533,Filtro!$A$5:$I$351,6,FALSE),0)","v":{"v":15843,"d":"15,843"}},{"$f":"IFERROR(VLOOKUP($A533,Filtro!$A$5:$I$351,7,FALSE),0)","v":44},533]
[null,null,"Flujometría Basal ",{"$nulls":6},534]
[null,null,"Flujometría Post BD ",{"$nulls":6},535]
[null,null,"Pimometría ",{"$nulls":6},536]
[null,null,"Test de provocación con ejercicio ",{"$nulls":6},537]
[null,null,"Test de Marcha 6 minutos ",{"$nulls":6},538]
[null,null,"Sesiones de Kinesioterapia Respiratoria ",{"$nulls":6},539]
[null,null,"Toma de muestra Secreción Mucosa/Bronquial ",{"$nulls":6},540]
[null,"TOTAL",null,{"$f":"SUM(D530:D540)","v":{"v":18455,"d":"18,455"}},{"$f":"SUM(E530:E540)","v":{"v":14900,"d":"14,900"}},{"$f":"SUM(F530:F540)","v":{"v":3555,"d":"3,555"}},{"$f":"SUM(G530:G533)","v":228},{"$f":"SUM(H530:H540)","v":{"v":18018,"d":"18,018"}},{"$f":"SUM(I530:I540)","v":44},541]
[{"$nulls":9},542]
[null,"GASTROENTEROLOGÍA",{"$nulls":7},543]
["81801023",1801023,"Intubacion con sonda gastrica                                                                ",{"$f":"SUM(E544:F544)","v":133},{"$f":"IFERROR(VLOOKUP($A544,Filtro!$A$5:$I$351,3,FALSE),0)","v":101},{"$f":"IFERROR(VLOOKUP($A544,Filtro!$A$5:$I$351,4,FALSE),0)","v":32},{"$f":"IFERROR(VLOOKUP($A544,Filtro!$A$5:$I$351,5,FALSE),0)","v":3},{"$f":"IFERROR(VLOOKUP($A544,Filtro!$A$5:$I$351,6,FALSE),0)","v":127},{"$f":"IFERROR(VLOOKUP($A544,Filtro!$A$5:$I$351,7,FALSE),0)","v":0},544]
["81801042",1801042,"Vaciamiento manual de fecaloma                                                                   ",2,{"$f":"IFERROR(VLOOKUP($A545,Filtro!$A$5:$I$351,3,FALSE),0)","v":2},{"$f":"IFERROR(VLOOKUP($A545,Filtro!$A$5:$I$351,4,FALSE),0)","v":0},{"$f":"IFERROR(VLOOKUP($A545,Filtro!$A$5:$I$351,5,FALSE),0)","v":0},{"$f":"IFERROR(VLOOKUP($A545,Filtro!$A$5:$I$351,6,FALSE),0)","v":2},{"$f":"IFERROR(VLOOKUP($A545,Filtro!$A$5:$I$351,7,FALSE),0)","v":0},545]
["81801001",1801001,"Gastroduodenoscopía (incluye esofagoscopía)                                                      ",35,{"$f":"IFERROR(VLOOKUP($A546,Filtro!$A$5:$I$351,3,FALSE),0)","v":35},{"$f":"IFERROR(VLOOKUP($A546,Filtro!$A$5:$I$351,4,FALSE),0)","v":0},{"$f":"IFERROR(VLOOKUP($A546,Filtro!$A$5:$I$351,5,FALSE),0)","v":0},{"$f":"IFERROR(VLOOKUP($A546,Filtro!$A$5:$I$351,6,FALSE),0)","v":35},{"$f":"IFERROR(VLOOKUP($A546,Filtro!$A$5:$I$351,7,FALSE),0)","v":0},546]
[null,"TOTAL",null,{"$f":"SUM(D544:D546)","v":170},138,32,3,164,0,547]
[{"$nulls":9},548]
[null,"UROLOGÍA",{"$nulls":7},549]
["81901019",1901019,"Instilacion vesical (incluye colocacion de sonda) proc. Aut.                                      ",{"$f":"SUM(E550:F550)","v":{"v":1070,"d":"1,070"}},{"$f":"IFERROR(VLOOKUP($A550,Filtro!$A$5:$I$351,3,FALSE),0)","v":804},{"$f":"IFERROR(VLOOKUP($A550,Filtro!$A$5:$I$351,4,FALSE),0)","v":266},{"$f":"IFERROR(VLOOKUP($A550,Filtro!$A$5:$I$351,5,FALSE),0)","v":3},{"$f":"IFERROR(VLOOKUP($A550,Filtro!$A$5:$I$351,6,FALSE),0)","v":{"v":1021,"d":"1,021"}},{"$f":"IFERROR(VLOOKUP($A550,Filtro!$A$5:$I$351,7,FALSE),0)","v":0},550]
["81901022",1901022,"Vac. Vesical por sonda uretral, (proc. Aut.)                                                    ",374,{"$f":"IFERROR(VLOOKUP($A551,Filtro!$A$5:$I$351,3,FALSE),0)","v":240},{"$f":"IFERROR(VLOOKUP($A551,Filtro!$A$5:$I$351,4,FALSE),0)","v":134},{"$f":"IFERROR(VLOOKUP($A551,Filtro!$A$5:$I$351,5,FALSE),0)","v":4},{"$f":"IFERROR(VLOOKUP($A551,Filtro!$A$5:$I$351,6,FALSE),0)","v":369},{"$f":"IFERROR(VLOOKUP($A551,Filtro!$A$5:$I$351,7,FALSE),0)","v":0},551]
[null,"TOTAL",null,{"$f":"SUM(D550:D551)","v":{"v":1444,"d":"1,444"}},{"v":1044,"d":"1,044"},400,7,{"v":1390,"d":"1,390"},0,552]
[{"$nulls":9},553]
[null,"GINECOLOGÍA",{"$nulls":7},554]
["82001015",2001015,"Colocación o extracción de dispositivo intrauterino (no incluye el valor del dispositivo)                    ",{"$f":"SUM(E555:F555)","v":{"v":1037,"d":"1,037"}},{"$f":"IFERROR(VLOOKUP($A555,Filtro!$A$5:$I$351,3,FALSE),0)","v":0},{"$f":"IFERROR(VLOOKUP($A555,Filtro!$A$5:$I$351,4,FALSE),0)","v":{"v":1037,"d":"1,037"}},{"$f":"IFERROR(VLOOKUP($A555,Filtro!$A$5:$I$351,5,FALSE),0)","v":1},{"$f":"IFERROR(VLOOKUP($A555,Filtro!$A$5:$I$351,6,FALSE),0)","v":976},{"$f":"IFERROR(VLOOKUP($A555,Filtro!$A$5:$I$351,7,FALSE),0)","v":0},555]
[{"$nulls":9},556]
[null,"ORTOPEDIA Y TRAUMATOLOGÍA",{"$nulls":7},557]
["82101001",2101001,"Infiltracion local medicamentos (bursas, tendones, yuxtaarticulares y/o intraarticulares",{"$f":"SUM(E558:F558)","v":0},{"$f":"IFERROR(VLOOKUP($A558,Filtro!$A$5:$I$351,3,FALSE),0)","v":0},{"$f":"IFERROR(VLOOKUP($A558,Filtro!$A$5:$I$351,4,FALSE),0)","v":0},{"$f":"IFERROR(VLOOKUP($A558,Filtro!$A$5:$I$351,5,FALSE),0)","v":0},{"$f":"IFERROR(VLOOKUP($A558,Filtro!$A$5:$I$351,6,FALSE),0)","v":0},{"$f":"IFERROR(VLOOKUP($A558,Filtro!$A$5:$I$351,7,FALSE),0)","v":0},558]
["82101002",2101002,"Procedimiento para exploraciones radiologicas (incluye maniobra e inyeccion del medio de contraste)  BM18A  Revisar en BM Colocación valva",0,{"$f":"IFERROR(VLOOKUP($A559,Filtro!$A$5:$I$351,3,FALSE),0)","v":0},{"$f":"IFERROR(VLOOKUP($A559,Filtro!$A$5:$I$351,4,FALSE),0)","v":0},{"$f":"IFERROR(VLOOKUP($A559,Filtro!$A$5:$I$351,5,FALSE),0)","v":0},{"$f":"IFERROR(VLOOKUP($A559,Filtro!$A$5:$I$351,6,FALSE),0)","v":0},{"$f":"IFERROR(VLOOKUP($A559,Filtro!$A$5:$I$351,7,FALSE),0)","v":0},559]
["82101005",2106005,"Rodillera, bota larga o corta de yeso",0,{"$f":"IFERROR(VLOOKUP($A560,Filtro!$A$5:$I$351,3,FALSE),0)","v":0},{"$f":"IFERROR(VLOOKUP($A560,Filtro!$A$5:$I$351,4,FALSE),0)","v":0},{"$f":"IFERROR(VLOOKUP($A560,Filtro!$A$5:$I$351,5,FALSE),0)","v":0},{"$f":"IFERROR(VLOOKUP($A560,Filtro!$A$5:$I$351,6,FALSE),0)","v":0},{"$f":"IFERROR(VLOOKUP($A560,Filtro!$A$5:$I$351,7,FALSE),0)","v":0},560]
["82101007",2106007,"Velpeau",0,{"$f":"IFERROR(VLOOKUP($A561,Filtro!$A$5:$I$351,3,FALSE),0)","v":0},{"$f":"IFERROR(VLOOKUP($A561,Filtro!$A$5:$I$351,4,FALSE),0)","v":0},{"$f":"IFERROR(VLOOKUP($A561,Filtro!$A$5:$I$351,5,FALSE),0)","v":0},{"$f":"IFERROR(VLOOKUP($A561,Filtro!$A$5:$I$351,6,FALSE),0)","v":0},{"$f":"IFERROR(VLOOKUP($A561,Filtro!$A$5:$I$351,7,FALSE),0)","v":0},561]
["82101006",2106006,"Yeso antebraquial c/s ferula digital",0,{"$f":"IFERROR(VLOOKUP($A562,Filtro!$A$5:$I$351,3,FALSE),0)","v":0},{"$f":"IFERROR(VLOOKUP($A562,Filtro!$A$5:$I$351,4,FALSE),0)","v":0},{"$f":"IFERROR(VLOOKUP($A562,Filtro!$A$5:$I$351,5,FALSE),0)","v":0},{"$f":"IFERROR(VLOOKUP($A562,Filtro!$A$5:$I$351,6,FALSE),0)","v":0},{"$f":"IFERROR(VLOOKUP($A562,Filtro!$A$5:$I$351,7,FALSE),0)","v":0},562]
["82101004",2106004,"Yeso braquicarpiano",0,{"$f":"IFERROR(VLOOKUP($A563,Filtro!$A$5:$I$351,3,FALSE),0)","v":0},{"$f":"IFERROR(VLOOKUP($A563,Filtro!$A$5:$I$351,4,FALSE),0)","v":0},{"$f":"IFERROR(VLOOKUP($A563,Filtro!$A$5:$I$351,5,FALSE),0)","v":0},{"$f":"IFERROR(VLOOKUP($A563,Filtro!$A$5:$I$351,6,FALSE),0)","v":0},{"$f":"IFERROR(VLOOKUP($A563,Filtro!$A$5:$I$351,7,FALSE),0)","v":0},563]
["82107003",2107003,"Luxaciones de articulaciones menores (el resto)      ",{"v":1394,"d":"1,394"},{"$f":"IFERROR(VLOOKUP($A564,Filtro!$A$5:$I$351,3,FALSE),0)","v":{"v":1391,"d":"1,391"}},{"$f":"IFERROR(VLOOKUP($A564,Filtro!$A$5:$I$351,4,FALSE),0)","v":3},{"$f":"IFERROR(VLOOKUP($A564,Filtro!$A$5:$I$351,5,FALSE),0)","v":10},{"$f":"IFERROR(VLOOKUP($A564,Filtro!$A$5:$I$351,6,FALSE),0)","v":{"v":1384,"d":"1,384"}},{"$f":"IFERROR(VLOOKUP($A564,Filtro!$A$5:$I$351,7,FALSE),0)","v":0},564]
[null,"TOTAL",null,{"$f":"SUM(D558:D564)","v":{"v":1394,"d":"1,394"}},{"v":1391,"d":"1,391"},3,10,{"v":1384,"d":"1,384"},0,565]
[{"$nulls":9},566]
[null," SECCIÓN C: INTERVENCIONES QUIRÚRGICAS MENORES",{"$nulls":7},567]
["81602201",1602201,"Biopsia de piel y/o mucosa por curetaje o sección tangencial c/s electro x 1 sesion        ",{"$f":"SUM(E568:F568)","v":80},{"$f":"IFERROR(VLOOKUP($A568,Filtro!$A$5:$I$351,3,FALSE),0)","v":0},{"$f":"IFERROR(VLOOKUP($A568,Filtro!$A$5:$I$351,4,FALSE),0)","v":80},{"$f":"IFERROR(VLOOKUP($A568,Filtro!$A$5:$I$351,5,FALSE),0)","v":66},{"$f":"IFERROR(VLOOKUP($A568,Filtro!$A$5:$I$351,6,FALSE),0)","v":8},{"$f":"IFERROR(VLOOKUP($A568,Filtro!$A$5:$I$351,7,FALSE),0)","v":60},568]
["81602202",1602202,"Extirpacion de, reparacion o biopsia total o parcial, de lesiones benignas cutáneas por excision cabeza, cuello, genitales, hasta 3 lesiones                                                                  ",210,{"$f":"IFERROR(VLOOKUP($A569,Filtro!$A$5:$I$351,3,FALSE),0)","v":0},{"$f":"IFERROR(VLOOKUP($A569,Filtro!$A$5:$I$351,4,FALSE),0)","v":210},{"$f":"IFERROR(VLOOKUP($A569,Filtro!$A$5:$I$351,5,FALSE),0)","v":59},{"$f":"IFERROR(VLOOKUP($A569,Filtro!$A$5:$I$351,6,FALSE),0)","v":86},{"$f":"IFERROR(VLOOKUP($A569,Filtro!$A$5:$I$351,7,FALSE),0)","v":147},569]
["81602203",1602203,"Extirpacion de, reparacion o biopsia total o parcial, de lesiones benignas cutáneas por excision resto de cuerpo hasta 3 lesiones                                                                              ",176,{"$f":"IFERROR(VLOOKUP($A570,Filtro!$A$5:$I$351,3,FALSE),0)","v":0},{"$f":"IFERROR(VLOOKUP($A570,Filtro!$A$5:$I$351,4,FALSE),0)","v":176},{"$f":"IFERROR(VLOOKUP($A570,Filtro!$A$5:$I$351,5,FALSE),0)","v":152},{"$f":"IFERROR(VLOOKUP($A570,Filtro!$A$5:$I$351,6,FALSE),0)","v":8},{"$f":"IFERROR(VLOOKUP($A570,Filtro!$A$5:$I$351,7,FALSE),0)","v":101},570]
["81602204",1602204,"Extirpacion de, reparacion o biopsia total o parcial, de lesiones benignas cutáneas por excision cabeza, cuello, genitales, desde 4 hasta 6 lesiones                                              ",121,{"$f":"IFERROR(VLOOKUP($A571,Filtro!$A$5:$I$351,3,FALSE),0)","v":0},{"$f":"IFERROR(VLOOKUP($A571,Filtro!$A$5:$I$351,4,FALSE),0)","v":121},{"$f":"IFERROR(VLOOKUP($A571,Filtro!$A$5:$I$351,5,FALSE),0)","v":103},{"$f":"IFERROR(VLOOKUP($A571,Filtro!$A$5:$I$351,6,FALSE),0)","v":4},{"$f":"IFERROR(VLOOKUP($A571,Filtro!$A$5:$I$351,7,FALSE),0)","v":99},571]
["81602205",1602205,"Extirpacion de, reparacion o biopsia total o parcial, de lesiones benignas cutáneas por excision resto de cuerpo desde 4 hasta 6 lesiones                                                             ",81,{"$f":"IFERROR(VLOOKUP($A572,Filtro!$A$5:$I$351,3,FALSE),0)","v":0},{"$f":"IFERROR(VLOOKUP($A572,Filtro!$A$5:$I$351,4,FALSE),0)","v":81},{"$f":"IFERROR(VLOOKUP($A572,Filtro!$A$5:$I$351,5,FALSE),0)","v":78},{"$f":"IFERROR(VLOOKUP($A572,Filtro!$A$5:$I$351,6,FALSE),0)","v":25},{"$f":"IFERROR(VLOOKUP($A572,Filtro!$A$5:$I$351,7,FALSE),0)","v":73},572]
["81602206",1602206,"Extirpacion de lesiones benignas por sec tangencial ,curetaje,y/o fulguracion hasta 15 lesiones   ",182,{"$f":"IFERROR(VLOOKUP($A573,Filtro!$A$5:$I$351,3,FALSE),0)","v":0},{"$f":"IFERROR(VLOOKUP($A573,Filtro!$A$5:$I$351,4,FALSE),0)","v":182},{"$f":"IFERROR(VLOOKUP($A573,Filtro!$A$5:$I$351,5,FALSE),0)","v":142},{"$f":"IFERROR(VLOOKUP($A573,Filtro!$A$5:$I$351,6,FALSE),0)","v":33},{"$f":"IFERROR(VLOOKUP($A573,Filtro!$A$5:$I$351,7,FALSE),0)","v":31},573]
["81602207",1602207,"Tratamiento por electro de hemangiomas o telangectasias hasta 15 lesiones",5,{"$f":"IFERROR(VLOOKUP($A574,Filtro!$A$5:$I$351,3,FALSE),0)","v":0},{"$f":"IFERROR(VLOOKUP($A574,Filtro!$A$5:$I$351,4,FALSE),0)","v":5},{"$f":"IFERROR(VLOOKUP($A574,Filtro!$A$5:$I$351,5,FALSE),0)","v":5},{"$f":"IFERROR(VLOOKUP($A574,Filtro!$A$5:$I$351,6,FALSE),0)","v":0},{"$f":"IFERROR(VLOOKUP($A574,Filtro!$A$5:$I$351,7,FALSE),0)","v":5},574]
["81602211",1602211,"Cabeza, cuello, genitales: tratamiento quirúrgico de tumor maligno por escisión total o parcial, con o sin sutura, por cada lesión o melanoma cualquier localización",5,{"$f":"IFERROR(VLOOKUP($A575,Filtro!$A$5:$I$351,3,FALSE),0)","v":2},{"$f":"IFERROR(VLOOKUP($A575,Filtro!$A$5:$I$351,4,FALSE),0)","v":3},{"$f":"IFERROR(VLOOKUP($A575,Filtro!$A$5:$I$351,5,FALSE),0)","v":5},{"$f":"IFERROR(VLOOKUP($A575,Filtro!$A$5:$I$351,6,FALSE),0)","v":0},{"$f":"IFERROR(VLOOKUP($A575,Filtro!$A$5:$I$351,7,FALSE),0)","v":0},575]
["81602212",1602212,"Resto del cuerpo: tratamiento quirúrgico de tumor maligno por escisión total o parcial, con o sin sutura, por cada lesión",10,{"$f":"IFERROR(VLOOKUP($A576,Filtro!$A$5:$I$351,3,FALSE),0)","v":0},{"$f":"IFERROR(VLOOKUP($A576,Filtro!$A$5:$I$351,4,FALSE),0)","v":10},{"$f":"IFERROR(VLOOKUP($A576,Filtro!$A$5:$I$351,5,FALSE),0)","v":10},{"$f":"IFERROR(VLOOKUP($A576,Filtro!$A$5:$I$351,6,FALSE),0)","v":0},{"$f":"IFERROR(VLOOKUP($A576,Filtro!$A$5:$I$351,7,FALSE),0)","v":0},576]
["81602213",1602213,"Cabeza, cuello, genitales o melanoma cualquier ubicación: ampliación de márgenes quirúrgicos de tumor maligno extirpado previamente ",56,{"$f":"IFERROR(VLOOKUP($A577,Filtro!$A$5:$I$351,3,FALSE),0)","v":0},{"$f":"IFERROR(VLOOKUP($A577,Filtro!$A$5:$I$351,4,FALSE),0)","v":56},{"$f":"IFERROR(VLOOKUP($A577,Filtro!$A$5:$I$351,5,FALSE),0)","v":56},{"$f":"IFERROR(VLOOKUP($A577,Filtro!$A$5:$I$351,6,FALSE),0)","v":0},{"$f":"IFERROR(VLOOKUP($A577,Filtro!$A$5:$I$351,7,FALSE),0)","v":27},577]
["81602214",1602214,"Resto del cuerpo: ampliación de márgenes quirúrgicos de tumor maligno extirpado prevíamente",0,{"$f":"IFERROR(VLOOKUP($A578,Filtro!$A$5:$I$351,3,FALSE),0)","v":0},{"$f":"IFERROR(VLOOKUP($A578,Filtro!$A$5:$I$351,4,FALSE),0)","v":0},{"$f":"IFERROR(VLOOKUP($A578,Filtro!$A$5:$I$351,5,FALSE),0)","v":0},{"$f":"IFERROR(VLOOKUP($A578,Filtro!$A$5:$I$351,6,FALSE),0)","v":0},{"$f":"IFERROR(VLOOKUP($A578,Filtro!$A$5:$I$351,7,FALSE),0)","v":0},578]
["81602215",1602215,"Tumores vasculares profundos cara, cuero cabelludo, cuello, genitales",0,{"$f":"IFERROR(VLOOKUP($A579,Filtro!$A$5:$I$351,3,FALSE),0)","v":0},{"$f":"IFERROR(VLOOKUP($A579,Filtro!$A$5:$I$351,4,FALSE),0)","v":0},{"$f":"IFERROR(VLOOKUP($A579,Filtro!$A$5:$I$351,5,FALSE),0)","v":0},{"$f":"IFERROR(VLOOKUP($A579,Filtro!$A$5:$I$351,6,FALSE),0)","v":0},{"$f":"IFERROR(VLOOKUP($A579,Filtro!$A$5:$I$351,7,FALSE),0)","v":0},579]
["81602216",1602216,"Tumores vasculares profundos resto del cuerpo",2,{"$f":"IFERROR(VLOOKUP($A580,Filtro!$A$5:$I$351,3,FALSE),0)","v":2},{"$f":"IFERROR(VLOOKUP($A580,Filtro!$A$5:$I$351,4,FALSE),0)","v":0},{"$f":"IFERROR(VLOOKUP($A580,Filtro!$A$5:$I$351,5,FALSE),0)","v":2},{"$f":"IFERROR(VLOOKUP($A580,Filtro!$A$5:$I$351,6,FALSE),0)","v":0},{"$f":"IFERROR(VLOOKUP($A580,Filtro!$A$5:$I$351,7,FALSE),0)","v":0},580]
["81602221",1602221,"Herida cortante o contusa complicada, reparación y sutura (más de 5 cm)",844,{"$f":"IFERROR(VLOOKUP($A581,Filtro!$A$5:$I$351,3,FALSE),0)","v":695},{"$f":"IFERROR(VLOOKUP($A581,Filtro!$A$5:$I$351,4,FALSE),0)","v":149},{"$f":"IFERROR(VLOOKUP($A581,Filtro!$A$5:$I$351,5,FALSE),0)","v":300},{"$f":"IFERROR(VLOOKUP($A581,Filtro!$A$5:$I$351,6,FALSE),0)","v":438},{"$f":"IFERROR(VLOOKUP($A581,Filtro!$A$5:$I$351,7,FALSE),0)","v":0},581]
["81602222",1602222,"Herida cortante o contusa NO complicada, reparacion y sutura (una o multiples de mas de 5 cms de largo total y/o que comprometa solo piel)                                                                             ",{"v":2967,"d":"2,967"},{"$f":"IFERROR(VLOOKUP($A582,Filtro!$A$5:$I$351,3,FALSE),0)","v":{"v":2559,"d":"2,559"}},{"$f":"IFERROR(VLOOKUP($A582,Filtro!$A$5:$I$351,4,FALSE),0)","v":408},{"$f":"IFERROR(VLOOKUP($A582,Filtro!$A$5:$I$351,5,FALSE),0)","v":{"v":1665,"d":"1,665"}},{"$f":"IFERROR(VLOOKUP($A582,Filtro!$A$5:$I$351,6,FALSE),0)","v":834},{"$f":"IFERROR(VLOOKUP($A582,Filtro!$A$5:$I$351,7,FALSE),0)","v":4},582]
["81602217",1602223,"Cabeza, cuello, genitales: extirpación de lesión benigna subepidérmica, incluye tumor sólido, quiste epidérmico y lipoma por lesión ",238,{"$f":"IFERROR(VLOOKUP($A583,Filtro!$A$5:$I$351,3,FALSE),0)","v":28},{"$f":"IFERROR(VLOOKUP($A583,Filtro!$A$5:$I$351,4,FALSE),0)","v":210},{"$f":"IFERROR(VLOOKUP($A583,Filtro!$A$5:$I$351,5,FALSE),0)","v":200},{"$f":"IFERROR(VLOOKUP($A583,Filtro!$A$5:$I$351,6,FALSE),0)","v":38},{"$f":"IFERROR(VLOOKUP($A583,Filtro!$A$5:$I$351,7,FALSE),0)","v":66},583]
["81602224",1602224,"Resto del cuerpo: extirpación de lesión benigna subepidérmica, incluye tumor sólido, quiste epidérmico y lipoma por lesión ",273,{"$f":"IFERROR(VLOOKUP($A584,Filtro!$A$5:$I$351,3,FALSE),0)","v":1},{"$f":"IFERROR(VLOOKUP($A584,Filtro!$A$5:$I$351,4,FALSE),0)","v":272},{"$f":"IFERROR(VLOOKUP($A584,Filtro!$A$5:$I$351,5,FALSE),0)","v":245},{"$f":"IFERROR(VLOOKUP($A584,Filtro!$A$5:$I$351,6,FALSE),0)","v":17},{"$f":"IFERROR(VLOOKUP($A584,Filtro!$A$5:$I$351,7,FALSE),0)","v":108},584]
["81602225",1602225,"Vaciamiento y curetaje quirurgico de lesiones quistica o abscesos                              ",285,{"$f":"IFERROR(VLOOKUP($A585,Filtro!$A$5:$I$351,3,FALSE),0)","v":128},{"$f":"IFERROR(VLOOKUP($A585,Filtro!$A$5:$I$351,4,FALSE),0)","v":157},{"$f":"IFERROR(VLOOKUP($A585,Filtro!$A$5:$I$351,5,FALSE),0)","v":232},{"$f":"IFERROR(VLOOKUP($A585,Filtro!$A$5:$I$351,6,FALSE),0)","v":23},{"$f":"IFERROR(VLOOKUP($A585,Filtro!$A$5:$I$351,7,FALSE),0)","v":41},585]
["81602231",1602231,"Onisectomia total o parcial simple                                                                                      ",258,{"$f":"IFERROR(VLOOKUP($A586,Filtro!$A$5:$I$351,3,FALSE),0)","v":2},{"$f":"IFERROR(VLOOKUP($A586,Filtro!$A$5:$I$351,4,FALSE),0)","v":256},{"$f":"IFERROR(VLOOKUP($A586,Filtro!$A$5:$I$351,5,FALSE),0)","v":157},{"$f":"IFERROR(VLOOKUP($A586,Filtro!$A$5:$I$351,6,FALSE),0)","v":66},{"$f":"IFERROR(VLOOKUP($A586,Filtro!$A$5:$I$351,7,FALSE),0)","v":106},586]
["81602232",1602232,"Cirugia reparadora ungueal por proceso inflamatorio                                                                 ",8,{"$f":"IFERROR(VLOOKUP($A587,Filtro!$A$5:$I$351,3,FALSE),0)","v":0},{"$f":"IFERROR(VLOOKUP($A587,Filtro!$A$5:$I$351,4,FALSE),0)","v":8},{"$f":"IFERROR(VLOOKUP($A587,Filtro!$A$5:$I$351,5,FALSE),0)","v":8},{"$f":"IFERROR(VLOOKUP($A587,Filtro!$A$5:$I$351,6,FALSE),0)","v":0},{"$f":"IFERROR(VLOOKUP($A587,Filtro!$A$5:$I$351,7,FALSE),0)","v":0},587]
["81602223",1602233,"Correccion quirurgica de defecto congenito o por tumor ungueal",2,{"$f":"IFERROR(VLOOKUP($A588,Filtro!$A$5:$I$351,3,FALSE),0)","v":0},{"$f":"IFERROR(VLOOKUP($A588,Filtro!$A$5:$I$351,4,FALSE),0)","v":2},{"$f":"IFERROR(VLOOKUP($A588,Filtro!$A$5:$I$351,5,FALSE),0)","v":2},{"$f":"IFERROR(VLOOKUP($A588,Filtro!$A$5:$I$351,6,FALSE),0)","v":0},{"$f":"IFERROR(VLOOKUP($A588,Filtro!$A$5:$I$351,7,FALSE),0)","v":0},588]
["81602240",1602240,"Curacion por medico, quemadura o similar menor al 5% superficie corporal en pabellon       ",48,{"$f":"IFERROR(VLOOKUP($A589,Filtro!$A$5:$I$351,3,FALSE),0)","v":26},{"$f":"IFERROR(VLOOKUP($A589,Filtro!$A$5:$I$351,4,FALSE),0)","v":22},{"$f":"IFERROR(VLOOKUP($A589,Filtro!$A$5:$I$351,5,FALSE),0)","v":10},{"$f":"IFERROR(VLOOKUP($A589,Filtro!$A$5:$I$351,6,FALSE),0)","v":33},{"$f":"IFERROR(VLOOKUP($A589,Filtro!$A$5:$I$351,7,FALSE),0)","v":0},589]
["81602241",1602241,"Curacion por medico, quemadura o similar  5 a 10% superficie corporal en pabellon        ",6,{"$f":"IFERROR(VLOOKUP($A590,Filtro!$A$5:$I$351,3,FALSE),0)","v":6},{"$f":"IFERROR(VLOOKUP($A590,Filtro!$A$5:$I$351,4,FALSE),0)","v":0},{"$f":"IFERROR(VLOOKUP($A590,Filtro!$A$5:$I$351,5,FALSE),0)","v":4},{"$f":"IFERROR(VLOOKUP($A590,Filtro!$A$5:$I$351,6,FALSE),0)","v":0},{"$f":"IFERROR(VLOOKUP($A590,Filtro!$A$5:$I$351,7,FALSE),0)","v":0},590]
["81602242",1602242,"Curacion por medico, quemadura o similar  mayor  al 10% superficie corporal en pabellon",27,{"$f":"IFERROR(VLOOKUP($A591,Filtro!$A$5:$I$351,3,FALSE),0)","v":4},{"$f":"IFERROR(VLOOKUP($A591,Filtro!$A$5:$I$351,4,FALSE),0)","v":23},{"$f":"IFERROR(VLOOKUP($A591,Filtro!$A$5:$I$351,5,FALSE),0)","v":2},{"$f":"IFERROR(VLOOKUP($A591,Filtro!$A$5:$I$351,6,FALSE),0)","v":0},{"$f":"IFERROR(VLOOKUP($A591,Filtro!$A$5:$I$351,7,FALSE),0)","v":0},591]
[null,"TOTAL",null,{"$f":"SUM(D568:D591)","v":{"v":5884,"d":"5,884"}},{"v":3453,"d":"3,453"},{"v":2431,"d":"2,431"},{"v":3503,"d":"3,503"},{"v":1613,"d":"1,613"},868,592]
[{"$nulls":9},593]
[null,"SECCIÓN D: MISCELÁNEOS",{"$nulls":7},594]
["80106002","0106002","Curación simple ambulatoria",{"$f":"SUM(E595:F595)","v":{"v":89117,"d":"89,117"}},{"$f":"IFERROR(VLOOKUP($A595,Filtro!$A$5:$I$351,3,FALSE),0)","v":{"v":12906,"d":"12,906"}},{"$f":"IFERROR(VLOOKUP($A595,Filtro!$A$5:$I$351,4,FALSE),0)","v":{"v":76211,"d":"76,211"}},{"$f":"IFERROR(VLOOKUP($A595,Filtro!$A$5:$I$351,5,FALSE),0)","v":370},{"$f":"IFERROR(VLOOKUP($A595,Filtro!$A$5:$I$351,6,FALSE),0)","v":{"v":82111,"d":"82,111"}},{"$f":"IFERROR(VLOOKUP($A595,Filtro!$A$5:$I$351,7,FALSE),0)","v":2},595]
["80106005","0106005","Autocontrol pacientes Diabetico insulino dependiente (D.I.D. mensual)",{"v":3365,"d":"3,365"},{"$f":"IFERROR(VLOOKUP($A596,Filtro!$A$5:$I$351,3,FALSE),0)","v":{"v":1409,"d":"1,409"}},{"$f":"IFERROR(VLOOKUP($A596,Filtro!$A$5:$I$351,4,FALSE),0)","v":{"v":1956,"d":"1,956"}},{"$f":"IFERROR(VLOOKUP($A596,Filtro!$A$5:$I$351,5,FALSE),0)","v":49},{"$f":"IFERROR(VLOOKUP($A596,Filtro!$A$5:$I$351,6,FALSE),0)","v":{"v":3294,"d":"3,294"}},{"$f":"IFERROR(VLOOKUP($A596,Filtro!$A$5:$I$351,7,FALSE),0)","v":0},596]
["80106024",null,"Curación avanzada por UV",{"v":6974,"d":"6,974"},{"$f":"IFERROR(VLOOKUP($A597,Filtro!$A$5:$I$351,3,FALSE),0)","v":452},{"$f":"IFERROR(VLOOKUP($A597,Filtro!$A$5:$I$351,4,FALSE),0)","v":{"v":6522,"d":"6,522"}},{"$f":"IFERROR(VLOOKUP($A597,Filtro!$A$5:$I$351,5,FALSE),0)","v":0},{"$f":"IFERROR(VLOOKUP($A597,Filtro!$A$5:$I$351,6,FALSE),0)","v":{"v":6847,"d":"6,847"}},{"$f":"IFERROR(VLOOKUP($A597,Filtro!$A$5:$I$351,7,FALSE),0)","v":0},597]
["80106006","0106006","Oxigenoterapia domiciliaria (pacientes oxígeno dependientes)",{"v":1040,"d":"1,040"},{"$f":"IFERROR(VLOOKUP($A598,Filtro!$A$5:$I$351,3,FALSE),0)","v":187},{"$f":"IFERROR(VLOOKUP($A598,Filtro!$A$5:$I$351,4,FALSE),0)","v":853},{"$f":"IFERROR(VLOOKUP($A598,Filtro!$A$5:$I$351,5,FALSE),0)","v":2},{"$f":"IFERROR(VLOOKUP($A598,Filtro!$A$5:$I$351,6,FALSE),0)","v":885},{"$f":"IFERROR(VLOOKUP($A598,Filtro!$A$5:$I$351,7,FALSE),0)","v":0},598]
["80106017","0106017","Curación compleja",{"v":48291,"d":"48,291"},{"$f":"IFERROR(VLOOKUP($A599,Filtro!$A$5:$I$351,3,FALSE),0)","v":{"v":1673,"d":"1,673"}},{"$f":"IFERROR(VLOOKUP($A599,Filtro!$A$5:$I$351,4,FALSE),0)","v":{"v":46618,"d":"46,618"}},{"$f":"IFERROR(VLOOKUP($A599,Filtro!$A$5:$I$351,5,FALSE),0)","v":572},{"$f":"IFERROR(VLOOKUP($A599,Filtro!$A$5:$I$351,6,FALSE),0)","v":{"v":45696,"d":"45,696"}},{"$f":"IFERROR(VLOOKUP($A599,Filtro!$A$5:$I$351,7,FALSE),0)","v":3},599]
["80106007","0106007","Extracción cuerpo extraño ojo",803,{"$f":"IFERROR(VLOOKUP($A600,Filtro!$A$5:$I$351,3,FALSE),0)","v":435},{"$f":"IFERROR(VLOOKUP($A600,Filtro!$A$5:$I$351,4,FALSE),0)","v":368},{"$f":"IFERROR(VLOOKUP($A600,Filtro!$A$5:$I$351,5,FALSE),0)","v":99},{"$f":"IFERROR(VLOOKUP($A600,Filtro!$A$5:$I$351,6,FALSE),0)","v":631},{"$f":"IFERROR(VLOOKUP($A600,Filtro!$A$5:$I$351,7,FALSE),0)","v":0},600]
["80106008","0106008","Extracción cuerpo extraño otro lugar",472,{"$f":"IFERROR(VLOOKUP($A601,Filtro!$A$5:$I$351,3,FALSE),0)","v":153},{"$f":"IFERROR(VLOOKUP($A601,Filtro!$A$5:$I$351,4,FALSE),0)","v":319},{"$f":"IFERROR(VLOOKUP($A601,Filtro!$A$5:$I$351,5,FALSE),0)","v":52},{"$f":"IFERROR(VLOOKUP($A601,Filtro!$A$5:$I$351,6,FALSE),0)","v":302},{"$f":"IFERROR(VLOOKUP($A601,Filtro!$A$5:$I$351,7,FALSE),0)","v":0},601]
["80106009","0106009","Lavado gástrico",32,{"$f":"IFERROR(VLOOKUP($A602,Filtro!$A$5:$I$351,3,FALSE),0)","v":18},{"$f":"IFERROR(VLOOKUP($A602,Filtro!$A$5:$I$351,4,FALSE),0)","v":14},{"$f":"IFERROR(VLOOKUP($A602,Filtro!$A$5:$I$351,5,FALSE),0)","v":2},{"$f":"IFERROR(VLOOKUP($A602,Filtro!$A$5:$I$351,6,FALSE),0)","v":30},{"$f":"IFERROR(VLOOKUP($A602,Filtro!$A$5:$I$351,7,FALSE),0)","v":0},602]
["80106010","0106010","Lavado oído",911,{"$f":"IFERROR(VLOOKUP($A603,Filtro!$A$5:$I$351,3,FALSE),0)","v":55},{"$f":"IFERROR(VLOOKUP($A603,Filtro!$A$5:$I$351,4,FALSE),0)","v":856},{"$f":"IFERROR(VLOOKUP($A603,Filtro!$A$5:$I$351,5,FALSE),0)","v":343},{"$f":"IFERROR(VLOOKUP($A603,Filtro!$A$5:$I$351,6,FALSE),0)","v":373},{"$f":"IFERROR(VLOOKUP($A603,Filtro!$A$5:$I$351,7,FALSE),0)","v":0},603]
["80106011","0106011","Técnicas reanimación cardiopulmonar básico",51,{"$f":"IFERROR(VLOOKUP($A604,Filtro!$A$5:$I$351,3,FALSE),0)","v":41},{"$f":"IFERROR(VLOOKUP($A604,Filtro!$A$5:$I$351,4,FALSE),0)","v":10},{"$f":"IFERROR(VLOOKUP($A604,Filtro!$A$5:$I$351,5,FALSE),0)","v":6},{"$f":"IFERROR(VLOOKUP($A604,Filtro!$A$5:$I$351,6,FALSE),0)","v":46},{"$f":"IFERROR(VLOOKUP($A604,Filtro!$A$5:$I$351,7,FALSE),0)","v":0},604]
["80106012","0106012","Técnicas reanimación cardiopulmonar avanzado",812,{"$f":"IFERROR(VLOOKUP($A605,Filtro!$A$5:$I$351,3,FALSE),0)","v":605},{"$f":"IFERROR(VLOOKUP($A605,Filtro!$A$5:$I$351,4,FALSE),0)","v":207},{"$f":"IFERROR(VLOOKUP($A605,Filtro!$A$5:$I$351,5,FALSE),0)","v":575},{"$f":"IFERROR(VLOOKUP($A605,Filtro!$A$5:$I$351,6,FALSE),0)","v":247},{"$f":"IFERROR(VLOOKUP($A605,Filtro!$A$5:$I$351,7,FALSE),0)","v":0},605]
["80106013","0106013","Aseo ocular",{"v":6026,"d":"6,026"},{"$f":"IFERROR(VLOOKUP($A606,Filtro!$A$5:$I$351,3,FALSE),0)","v":{"v":3114,"d":"3,114"}},{"$f":"IFERROR(VLOOKUP($A606,Filtro!$A$5:$I$351,4,FALSE),0)","v":{"v":2912,"d":"2,912"}},{"$f":"IFERROR(VLOOKUP($A606,Filtro!$A$5:$I$351,5,FALSE),0)","v":181},{"$f":"IFERROR(VLOOKUP($A606,Filtro!$A$5:$I$351,6,FALSE),0)","v":{"v":4638,"d":"4,638"}},{"$f":"IFERROR(VLOOKUP($A606,Filtro!$A$5:$I$351,7,FALSE),0)","v":0},606]
["80106014","0106014","Administración inyecciones",{"v":324198,"d":"324,198"},{"$f":"IFERROR(VLOOKUP($A607,Filtro!$A$5:$I$351,3,FALSE),0)","v":{"v":181343,"d":"181,343"}},{"$f":"IFERROR(VLOOKUP($A607,Filtro!$A$5:$I$351,4,FALSE),0)","v":{"v":142855,"d":"142,855"}},{"$f":"IFERROR(VLOOKUP($A607,Filtro!$A$5:$I$351,5,FALSE),0)","v":{"v":3923,"d":"3,923"}},{"$f":"IFERROR(VLOOKUP($A607,Filtro!$A$5:$I$351,6,FALSE),0)","v":{"v":307046,"d":"307,046"}},{"$f":"IFERROR(VLOOKUP($A607,Filtro!$A$5:$I$351,7,FALSE),0)","v":36},607]
["80106015","0106015","Administración fleboclisis",{"v":60551,"d":"60,551"},{"$f":"IFERROR(VLOOKUP($A608,Filtro!$A$5:$I$351,3,FALSE),0)","v":{"v":51355,"d":"51,355"}},{"$f":"IFERROR(VLOOKUP($A608,Filtro!$A$5:$I$351,4,FALSE),0)","v":{"v":9196,"d":"9,196"}},{"$f":"IFERROR(VLOOKUP($A608,Filtro!$A$5:$I$351,5,FALSE),0)","v":408},{"$f":"IFERROR(VLOOKUP($A608,Filtro!$A$5:$I$351,6,FALSE),0)","v":{"v":57401,"d":"57,401"}},{"$f":"IFERROR(VLOOKUP($A608,Filtro!$A$5:$I$351,7,FALSE),0)","v":2},608]
["80106020","0106020","Administración oxigeno",{"v":4293,"d":"4,293"},{"$f":"IFERROR(VLOOKUP($A609,Filtro!$A$5:$I$351,3,FALSE),0)","v":{"v":3464,"d":"3,464"}},{"$f":"IFERROR(VLOOKUP($A609,Filtro!$A$5:$I$351,4,FALSE),0)","v":829},{"$f":"IFERROR(VLOOKUP($A609,Filtro!$A$5:$I$351,5,FALSE),0)","v":58},{"$f":"IFERROR(VLOOKUP($A609,Filtro!$A$5:$I$351,6,FALSE),0)","v":{"v":4053,"d":"4,053"}},{"$f":"IFERROR(VLOOKUP($A609,Filtro!$A$5:$I$351,7,FALSE),0)","v":0},609]
["80106021","0106021","Aspiración secreciones",320,{"$f":"IFERROR(VLOOKUP($A610,Filtro!$A$5:$I$351,3,FALSE),0)","v":98},{"$f":"IFERROR(VLOOKUP($A610,Filtro!$A$5:$I$351,4,FALSE),0)","v":222},{"$f":"IFERROR(VLOOKUP($A610,Filtro!$A$5:$I$351,5,FALSE),0)","v":17},{"$f":"IFERROR(VLOOKUP($A610,Filtro!$A$5:$I$351,6,FALSE),0)","v":294},{"$f":"IFERROR(VLOOKUP($A610,Filtro!$A$5:$I$351,7,FALSE),0)","v":0},610]
["80106022","0106022","Instalación sonda",{"v":2856,"d":"2,856"},{"$f":"IFERROR(VLOOKUP($A611,Filtro!$A$5:$I$351,3,FALSE),0)","v":{"v":1088,"d":"1,088"}},{"$f":"IFERROR(VLOOKUP($A611,Filtro!$A$5:$I$351,4,FALSE),0)","v":{"v":1768,"d":"1,768"}},{"$f":"IFERROR(VLOOKUP($A611,Filtro!$A$5:$I$351,5,FALSE),0)","v":48},{"$f":"IFERROR(VLOOKUP($A611,Filtro!$A$5:$I$351,6,FALSE),0)","v":{"v":2572,"d":"2,572"}},{"$f":"IFERROR(VLOOKUP($A611,Filtro!$A$5:$I$351,7,FALSE),0)","v":0},611]
["80106023",null,"Procedimientos de podología",{"v":29103,"d":"29,103"},{"$f":"IFERROR(VLOOKUP($A612,Filtro!$A$5:$I$351,3,FALSE),0)","v":865},{"$f":"IFERROR(VLOOKUP($A612,Filtro!$A$5:$I$351,4,FALSE),0)","v":{"v":28238,"d":"28,238"}},{"$f":"IFERROR(VLOOKUP($A612,Filtro!$A$5:$I$351,5,FALSE),0)","v":48},{"$f":"IFERROR(VLOOKUP($A612,Filtro!$A$5:$I$351,6,FALSE),0)","v":{"v":27070,"d":"27,070"}},{"$f":"IFERROR(VLOOKUP($A612,Filtro!$A$5:$I$351,7,FALSE),0)","v":{"v":1694,"d":"1,694"}},612]
[null,"TOTAL",null,{"$f":"SUM(D595:D612)","v":{"v":579215,"d":"579,215"}},{"v":259261,"d":"259,261"},{"v":319954,"d":"319,954"},{"v":6753,"d":"6,753"},{"v":543536,"d":"543,536"},{"v":1737,"d":"1,737"},613]
[{"$nulls":9},614]
[null,"CÓDIGOS","OTROS PROCEDIMIENTOS","Total","SAPU/SAR/SUR","Resto Establecimientos APS","Compras de Servicios",615]
[{"$nulls":7},616]
["80307011","0307011","Toma de muestra de sangre venosa en adultos",{"$f":"SUM(E617:F617)","v":{"v":279688,"d":"279,688"}},{"$f":"IFERROR(VLOOKUP($A617,Filtro!$A$5:$I$351,3,FALSE),0)","v":{"v":4205,"d":"4,205"}},{"$f":"IFERROR(VLOOKUP($A617,Filtro!$A$5:$I$351,4,FALSE),0)","v":{"v":275483,"d":"275,483"}},{"$f":"IFERROR(VLOOKUP($A617,Filtro!$A$5:$I$351,5,FALSE),0)","v":{"v":77710,"d":"77,710"}},617]
["80307012","0307012","Toma de muestra de sangre venosa en niños y lactantes",{"v":8556,"d":"8,556"},{"$f":"IFERROR(VLOOKUP($A618,Filtro!$A$5:$I$351,3,FALSE),0)","v":76},{"$f":"IFERROR(VLOOKUP($A618,Filtro!$A$5:$I$351,4,FALSE),0)","v":{"v":8480,"d":"8,480"}},{"$f":"IFERROR(VLOOKUP($A618,Filtro!$A$5:$I$351,5,FALSE),0)","v":{"v":2530,"d":"2,530"}},618]
[null,"TOTAL",null,{"$f":"SUM(D617:D618)","v":{"v":288244,"d":"288,244"}},{"$f":"SUM(E617:E618)","v":{"v":4281,"d":"4,281"}},{"$f":"SUM(F617:F618)","v":{"v":283963,"d":"283,963"}},{"$f":"SUM(G617:G618)","v":{"v":80240,"d":"80,240"}},619]
[{"$nulls":9},620]
[null,"SECCIÓN E: OTROS EXÁMENES Y PROCEDIMIENTOS  DE APOYO CLÍNICO Y TERAPEUTICO (SIN CÓDIGO EN ARANCEL)",{"$nulls":7},621]
[null,"EXÁMENES Y/O PROCEDIMIENTO",null,"Total","SAPU/SAR/SUR","Resto Establecimientos APS","Funcionario",null,"Compras de Servicios",622]
[{"$nulls":6},"Médico","Otro",null,623]
["80500001","Toma agudeza visual (ambos ojos)",null,{"$f":"SUM(E624:F624)","v":{"v":1896,"d":"1,896"}},{"$f":"IFERROR(VLOOKUP($A624,Filtro!$A$5:$I$351,3,FALSE),0)","v":0},{"$f":"IFERROR(VLOOKUP($A624,Filtro!$A$5:$I$351,4,FALSE),0)","v":{"v":1896,"d":"1,896"}},{"$f":"IFERROR(VLOOKUP($A624,Filtro!$A$5:$I$351,5,FALSE),0)","v":25},{"$f":"IFERROR(VLOOKUP($A624,Filtro!$A$5:$I$351,6,FALSE),0)","v":{"v":1733,"d":"1,733"}},{"$f":"IFERROR(VLOOKUP($A624,Filtro!$A$5:$I$351,7,FALSE),0)","v":0},624]
["80500002","Autorrefractomia",null,0,{"$f":"IFERROR(VLOOKUP($A625,Filtro!$A$5:$I$351,3,FALSE),0)","v":0},{"$f":"IFERROR(VLOOKUP($A625,Filtro!$A$5:$I$351,4,FALSE),0)","v":0},{"$f":"IFERROR(VLOOKUP($A625,Filtro!$A$5:$I$351,5,FALSE),0)","v":0},{"$f":"IFERROR(VLOOKUP($A625,Filtro!$A$5:$I$351,6,FALSE),0)","v":0},{"$f":"IFERROR(VLOOKUP($A625,Filtro!$A$5:$I$351,7,FALSE),0)","v":0},625]
["80500003","Lensometria",null,0,{"$f":"IFERROR(VLOOKUP($A626,Filtro!$A$5:$I$351,3,FALSE),0)","v":0},{"$f":"IFERROR(VLOOKUP($A626,Filtro!$A$5:$I$351,4,FALSE),0)","v":0},{"$f":"IFERROR(VLOOKUP($A626,Filtro!$A$5:$I$351,5,FALSE),0)","v":0},{"$f":"IFERROR(VLOOKUP($A626,Filtro!$A$5:$I$351,6,FALSE),0)","v":0},{"$f":"IFERROR(VLOOKUP($A626,Filtro!$A$5:$I$351,7,FALSE),0)","v":0},626]
["80500004","Paquimetria Ultrasónica",null,0,{"$f":"IFERROR(VLOOKUP($A627,Filtro!$A$5:$I$351,3,FALSE),0)","v":0},{"$f":"IFERROR(VLOOKUP($A627,Filtro!$A$5:$I$351,4,FALSE),0)","v":0},{"$f":"IFERROR(VLOOKUP($A627,Filtro!$A$5:$I$351,5,FALSE),0)","v":0},{"$f":"IFERROR(VLOOKUP($A627,Filtro!$A$5:$I$351,6,FALSE),0)","v":0},{"$f":"IFERROR(VLOOKUP($A627,Filtro!$A$5:$I$351,7,FALSE),0)","v":0},627]
["80500005","Paquimetria óptica",null,0,{"$f":"IFERROR(VLOOKUP($A628,Filtro!$A$5:$I$351,3,FALSE),0)","v":0},{"$f":"IFERROR(VLOOKUP($A628,Filtro!$A$5:$I$351,4,FALSE),0)","v":0},{"$f":"IFERROR(VLOOKUP($A628,Filtro!$A$5:$I$351,5,FALSE),0)","v":0},{"$f":"IFERROR(VLOOKUP($A628,Filtro!$A$5:$I$351,6,FALSE),0)","v":0},{"$f":"IFERROR(VLOOKUP($A628,Filtro!$A$5:$I$351,7,FALSE),0)","v":0},628]
["80500006","Tomografía coherencia óptica",null,0,{"$f":"IFERROR(VLOOKUP($A629,Filtro!$A$5:$I$351,3,FALSE),0)","v":0},{"$f":"IFERROR(VLOOKUP($A629,Filtro!$A$5:$I$351,4,FALSE),0)","v":0},{"$f":"IFERROR(VLOOKUP($A629,Filtro!$A$5:$I$351,5,FALSE),0)","v":0},{"$f":"IFERROR(VLOOKUP($A629,Filtro!$A$5:$I$351,6,FALSE),0)","v":0},{"$f":"IFERROR(VLOOKUP($A629,Filtro!$A$5:$I$351,7,FALSE),0)","v":0},629]
["80500007","Inyeccion intravitrea avastin",null,13,{"$f":"IFERROR(VLOOKUP($A630,Filtro!$A$5:$I$351,3,FALSE),0)","v":0},{"$f":"IFERROR(VLOOKUP($A630,Filtro!$A$5:$I$351,4,FALSE),0)","v":13},{"$f":"IFERROR(VLOOKUP($A630,Filtro!$A$5:$I$351,5,FALSE),0)","v":0},{"$f":"IFERROR(VLOOKUP($A630,Filtro!$A$5:$I$351,6,FALSE),0)","v":13},{"$f":"IFERROR(VLOOKUP($A630,Filtro!$A$5:$I$351,7,FALSE),0)","v":0},630]
["80500008","Insercion Implante Anticonceptivo",null,{"v":2020,"d":"2,020"},{"$f":"IFERROR(VLOOKUP($A631,Filtro!$A$5:$I$351,3,FALSE),0)","v":0},{"$f":"IFERROR(VLOOKUP($A631,Filtro!$A$5:$I$351,4,FALSE),0)","v":{"v":2020,"d":"2,020"}},{"$f":"IFERROR(VLOOKUP($A631,Filtro!$A$5:$I$351,5,FALSE),0)","v":1},{"$f":"IFERROR(VLOOKUP($A631,Filtro!$A$5:$I$351,6,FALSE),0)","v":{"v":1969,"d":"1,969"}},{"$f":"IFERROR(VLOOKUP($A631,Filtro!$A$5:$I$351,7,FALSE),0)","v":0},631]
["80500009","Remocion Implante Anticonceptivo",null,{"v":1307,"d":"1,307"},{"$f":"IFERROR(VLOOKUP($A632,Filtro!$A$5:$I$351,3,FALSE),0)","v":17},{"$f":"IFERROR(VLOOKUP($A632,Filtro!$A$5:$I$351,4,FALSE),0)","v":{"v":1290,"d":"1,290"}},{"$f":"IFERROR(VLOOKUP($A632,Filtro!$A$5:$I$351,5,FALSE),0)","v":1},{"$f":"IFERROR(VLOOKUP($A632,Filtro!$A$5:$I$351,6,FALSE),0)","v":{"v":1274,"d":"1,274"}},{"$f":"IFERROR(VLOOKUP($A632,Filtro!$A$5:$I$351,7,FALSE),0)","v":0},632]
["80500010","Insercion Pellets subcutáneo",null,194,{"$f":"IFERROR(VLOOKUP($A633,Filtro!$A$5:$I$351,3,FALSE),0)","v":9},{"$f":"IFERROR(VLOOKUP($A633,Filtro!$A$5:$I$351,4,FALSE),0)","v":185},{"$f":"IFERROR(VLOOKUP($A633,Filtro!$A$5:$I$351,5,FALSE),0)","v":0},{"$f":"IFERROR(VLOOKUP($A633,Filtro!$A$5:$I$351,6,FALSE),0)","v":179},{"$f":"IFERROR(VLOOKUP($A633,Filtro!$A$5:$I$351,7,FALSE),0)","v":0},633]
["80500011","Hemoglocotest instantaneo ",null,{"v":74261,"d":"74,261"},{"$f":"IFERROR(VLOOKUP($A634,Filtro!$A$5:$I$351,3,FALSE),0)","v":{"v":48585,"d":"48,585"}},{"$f":"IFERROR(VLOOKUP($A634,Filtro!$A$5:$I$351,4,FALSE),0)","v":{"v":25676,"d":"25,676"}},{"$f":"IFERROR(VLOOKUP($A634,Filtro!$A$5:$I$351,5,FALSE),0)","v":22},{"$f":"IFERROR(VLOOKUP($A634,Filtro!$A$5:$I$351,6,FALSE),0)","v":{"v":68287,"d":"68,287"}},{"$f":"IFERROR(VLOOKUP($A634,Filtro!$A$5:$I$351,7,FALSE),0)","v":52},634]
["80500014","Radiografía de pelvis, cadera o coxofemoral de 1er screening  (entre 3 -6 meses)",null,913,{"$f":"IFERROR(VLOOKUP($A635,Filtro!$A$5:$I$351,3,FALSE),0)","v":399},{"$f":"IFERROR(VLOOKUP($A635,Filtro!$A$5:$I$351,4,FALSE),0)","v":514},{"$f":"IFERROR(VLOOKUP($A635,Filtro!$A$5:$I$351,5,FALSE),0)","v":98},{"$f":"IFERROR(VLOOKUP($A635,Filtro!$A$5:$I$351,6,FALSE),0)","v":377},{"$f":"IFERROR(VLOOKUP($A635,Filtro!$A$5:$I$351,7,FALSE),0)","v":663},635]
["80500016","Cartridge para Troponina",null,{"v":1266,"d":"1,266"},{"$f":"IFERROR(VLOOKUP($A636,Filtro!$A$5:$I$351,3,FALSE),0)","v":{"v":1264,"d":"1,264"}},{"$f":"IFERROR(VLOOKUP($A636,Filtro!$A$5:$I$351,4,FALSE),0)","v":2},{"$f":"IFERROR(VLOOKUP($A636,Filtro!$A$5:$I$351,5,FALSE),0)","v":49},{"$f":"IFERROR(VLOOKUP($A636,Filtro!$A$5:$I$351,6,FALSE),0)","v":{"v":1197,"d":"1,197"}},{"$f":"IFERROR(VLOOKUP($A636,Filtro!$A$5:$I$351,7,FALSE),0)","v":0},636]
["80500017","Cartridge Multiple",null,{"v":5826,"d":"5,826"},{"$f":"IFERROR(VLOOKUP($A637,Filtro!$A$5:$I$351,3,FALSE),0)","v":{"v":5818,"d":"5,818"}},{"$f":"IFERROR(VLOOKUP($A637,Filtro!$A$5:$I$351,4,FALSE),0)","v":8},{"$f":"IFERROR(VLOOKUP($A637,Filtro!$A$5:$I$351,5,FALSE),0)","v":114},{"$f":"IFERROR(VLOOKUP($A637,Filtro!$A$5:$I$351,6,FALSE),0)","v":{"v":5686,"d":"5,686"}},{"$f":"IFERROR(VLOOKUP($A637,Filtro!$A$5:$I$351,7,FALSE),0)","v":0},637]
[null,"TOTAL",null,{"$f":"SUM(D624:D637)","v":{"v":87696,"d":"87,696"}},{"v":56092,"d":"56,092"},{"v":31604,"d":"31,604"},310,{"v":80715,"d":"80,715"},715,638]
[]
[]
["CODIGOS NUEVOS"]
[81707038]
[80106024]
[]
["CODIGOS ELIMINADOS"]
[81707031]
[81707032]
[81707033]
[81707034]
[81707035]
[81707036]
[81707037]